BEGIN:VCALENDAR
VERSION:2.0
PRODID:-//FPES - ECPv6.15.20//NONSGML v1.0//EN
CALSCALE:GREGORIAN
METHOD:PUBLISH
X-ORIGINAL-URL:https://fpes.se
X-WR-CALDESC:Händelser för FPES
REFRESH-INTERVAL;VALUE=DURATION:PT1H
X-Robots-Tag:noindex
X-PUBLISHED-TTL:PT1H
BEGIN:VTIMEZONE
TZID:Europe/Stockholm
BEGIN:DAYLIGHT
TZOFFSETFROM:+0100
TZOFFSETTO:+0200
TZNAME:CEST
DTSTART:20220327T010000
END:DAYLIGHT
BEGIN:STANDARD
TZOFFSETFROM:+0200
TZOFFSETTO:+0100
TZNAME:CET
DTSTART:20221030T010000
END:STANDARD
BEGIN:DAYLIGHT
TZOFFSETFROM:+0100
TZOFFSETTO:+0200
TZNAME:CEST
DTSTART:20230326T010000
END:DAYLIGHT
BEGIN:STANDARD
TZOFFSETFROM:+0200
TZOFFSETTO:+0100
TZNAME:CET
DTSTART:20231029T010000
END:STANDARD
BEGIN:DAYLIGHT
TZOFFSETFROM:+0100
TZOFFSETTO:+0200
TZNAME:CEST
DTSTART:20240331T010000
END:DAYLIGHT
BEGIN:STANDARD
TZOFFSETFROM:+0200
TZOFFSETTO:+0100
TZNAME:CET
DTSTART:20241027T010000
END:STANDARD
END:VTIMEZONE
BEGIN:VEVENT
DTSTART;TZID=Europe/Stockholm:20230802T140000
DTEND;TZID=Europe/Stockholm:20230802T144500
DTSTAMP:20260426T045341
CREATED:20230728T073535Z
LAST-MODIFIED:20230802T084228Z
UID:196409-1690984800-1690987500@fpes.se
SUMMARY:Pride House\, samtal om: Inkludering av transkvinnor i den feministiska rörelsen
DESCRIPTION:Angelica Löwdin\, FPES Föreningen för transpersoner inleder ett samtal om ett aktuellt ämne: ”Inkludering av transkvinnor i den feministiska rörelsen” Pride House C6\, Plan 2 https://program.stockholmpride.org/sv/events/182/inkludering-av-transkvinnor-i-den-feministiska-rorelsen
URL:https://fpes.se/event/pride-house-samtal-om-inkludering-av-transkvinnor-i-den-feministiska-rorelsen/
LOCATION:Clarion Hotel Stockholm\, Ringvägen 98\, 118 60 Stockholm\, Sverige
END:VEVENT
BEGIN:VEVENT
DTSTART;TZID=Europe/Stockholm:20230802T150000
DTEND;TZID=Europe/Stockholm:20230802T154500
DTSTAMP:20260426T045341
CREATED:20230728T073535Z
LAST-MODIFIED:20230802T084228Z
UID:196410-1690988400-1690991100@fpes.se
SUMMARY:Pride House\, föreläsning: Min hemlighet att leva med en transperson
DESCRIPTION:Ruth Berthilsson berättar under en känslosam föreläsning sin resa att leva med en transperson\, i samarbete med FPES Föreningen för transpersoner. Pride House C5/C8\, Plan 2 https://program.stockholmpride.org/sv/events/232/min-hemlighet-att-leva-med-en-transperson
URL:https://fpes.se/event/pride-house-forelasning-min-hemlighet-att-leva-med-en-transperson/
LOCATION:Clarion Hotel Stockholm\, Ringvägen 98\, 118 60 Stockholm\, Sverige
END:VEVENT
END:VCALENDAR