BEGIN:VCALENDAR
VERSION:2.0
PRODID:-//FPES - ECPv6.15.20//NONSGML v1.0//EN
CALSCALE:GREGORIAN
METHOD:PUBLISH
X-ORIGINAL-URL:https://fpes.se
X-WR-CALDESC:Händelser för FPES
REFRESH-INTERVAL;VALUE=DURATION:PT1H
X-Robots-Tag:noindex
X-PUBLISHED-TTL:PT1H
BEGIN:VTIMEZONE
TZID:Europe/Stockholm
BEGIN:DAYLIGHT
TZOFFSETFROM:+0100
TZOFFSETTO:+0200
TZNAME:CEST
DTSTART:20220327T010000
END:DAYLIGHT
BEGIN:STANDARD
TZOFFSETFROM:+0200
TZOFFSETTO:+0100
TZNAME:CET
DTSTART:20221030T010000
END:STANDARD
BEGIN:DAYLIGHT
TZOFFSETFROM:+0100
TZOFFSETTO:+0200
TZNAME:CEST
DTSTART:20230326T010000
END:DAYLIGHT
BEGIN:STANDARD
TZOFFSETFROM:+0200
TZOFFSETTO:+0100
TZNAME:CET
DTSTART:20231029T010000
END:STANDARD
BEGIN:DAYLIGHT
TZOFFSETFROM:+0100
TZOFFSETTO:+0200
TZNAME:CEST
DTSTART:20240331T010000
END:DAYLIGHT
BEGIN:STANDARD
TZOFFSETFROM:+0200
TZOFFSETTO:+0100
TZNAME:CET
DTSTART:20241027T010000
END:STANDARD
END:VTIMEZONE
BEGIN:VEVENT
DTSTART;TZID=Europe/Stockholm:20230828T183000
DTEND;TZID=Europe/Stockholm:20230828T203000
DTSTAMP:20260425T174528
CREATED:20230815T205219Z
LAST-MODIFIED:20230828T100516Z
UID:196451-1693247400-1693254600@fpes.se
SUMMARY:Månadsmöte FPES-Sydost
DESCRIPTION:Månd 28 aug kl 18.30 månadsmöte FPES-Sydost på restaurang Parken i Karlskrona. Gärna en liten hint till tiina.deore@gmail.com om du kommer då vi ska boka bord. Väl mött\, Tiina https://www.google.com/maps/place/Parken+-+Caf%C3%A9+%E2%80%A2+Bar+%E2%80%A2+Bistro/@56.1634425\,15.5852436\,18z/data=!4m6!3m5!1s0x46566c548da60cc3:0xb157c8634f473edd!8m2!3d56.1632328!4d15.5858101!16s%2Fg%2F11bc73rkdp?entry=ttu
URL:https://fpes.se/event/manadsmote-fpes-sydost-2/
LOCATION:Parken – Café • Bar • Bistro\, Parkgatan 2\, 371 33 Karlskrona\, Sverige
END:VEVENT
END:VCALENDAR