BEGIN:VCALENDAR
VERSION:2.0
PRODID:-//FPES - ECPv6.15.20//NONSGML v1.0//EN
CALSCALE:GREGORIAN
METHOD:PUBLISH
X-ORIGINAL-URL:https://fpes.se
X-WR-CALDESC:Händelser för FPES
REFRESH-INTERVAL;VALUE=DURATION:PT1H
X-Robots-Tag:noindex
X-PUBLISHED-TTL:PT1H
BEGIN:VTIMEZONE
TZID:Europe/Stockholm
BEGIN:DAYLIGHT
TZOFFSETFROM:+0100
TZOFFSETTO:+0200
TZNAME:CEST
DTSTART:20220327T010000
END:DAYLIGHT
BEGIN:STANDARD
TZOFFSETFROM:+0200
TZOFFSETTO:+0100
TZNAME:CET
DTSTART:20221030T010000
END:STANDARD
BEGIN:DAYLIGHT
TZOFFSETFROM:+0100
TZOFFSETTO:+0200
TZNAME:CEST
DTSTART:20230326T010000
END:DAYLIGHT
BEGIN:STANDARD
TZOFFSETFROM:+0200
TZOFFSETTO:+0100
TZNAME:CET
DTSTART:20231029T010000
END:STANDARD
BEGIN:DAYLIGHT
TZOFFSETFROM:+0100
TZOFFSETTO:+0200
TZNAME:CEST
DTSTART:20240331T010000
END:DAYLIGHT
BEGIN:STANDARD
TZOFFSETFROM:+0200
TZOFFSETTO:+0100
TZNAME:CET
DTSTART:20241027T010000
END:STANDARD
END:VTIMEZONE
BEGIN:VEVENT
DTSTART;TZID=Europe/Stockholm:20231201T180000
DTEND;TZID=Europe/Stockholm:20231201T233000
DTSTAMP:20260422T225925
CREATED:20231118T164929Z
LAST-MODIFIED:20231130T171440Z
UID:196623-1701453600-1701473400@fpes.se
SUMMARY:Middagsträff för transpersoner
DESCRIPTION:Vi fortätter med våra middagsträffar och under hösten och kommande vår så väljer vi att lägga dessa samma helg som vi arrangerar våra transbruncher på Dynamo. Tanken är att vi ska göra det lättare för de som inte bor i Stockholm att vara med\, två träffar under en helg kanske lockar till en weekend i hvudstaden.\nTräffarna är öppna för alla trans- och queerpersoner.\nNästa tillfälle blir fredag 1/12. Vi börjar hemma hos mig på Södermalm (adress går ut till de som anmäler sig). De som så önskar går sedan ca 19.30 till en närbelägen restaurang för middag. Sen brukar vi fortsätta kvällen på annan lokal. Den restaurang vi väljer håller rimliga priser och det är helt OK att vara med på bara uppvärmningen\, middagen eller resten av kvällen\, hör av er så får ni mer info.\n \nVi bokar bord och om du följer med på middagen så behöver vi ha din anmälan till helena@fpes.se senast onsdag 29/11.\n \nHoppas vi ses!\n \nOm du har frågor så kontakta oss gärna:\nhelena@fpes.se\nannie@fpes.se\n \nHelena och Annie
URL:https://fpes.se/event/middagstraff-for-transpersoner/
END:VEVENT
END:VCALENDAR