BEGIN:VCALENDAR
VERSION:2.0
PRODID:-//FPES - ECPv6.15.20//NONSGML v1.0//EN
CALSCALE:GREGORIAN
METHOD:PUBLISH
X-ORIGINAL-URL:https://fpes.se
X-WR-CALDESC:Händelser för FPES
REFRESH-INTERVAL;VALUE=DURATION:PT1H
X-Robots-Tag:noindex
X-PUBLISHED-TTL:PT1H
BEGIN:VTIMEZONE
TZID:Europe/Stockholm
BEGIN:DAYLIGHT
TZOFFSETFROM:+0100
TZOFFSETTO:+0200
TZNAME:CEST
DTSTART:20220327T010000
END:DAYLIGHT
BEGIN:STANDARD
TZOFFSETFROM:+0200
TZOFFSETTO:+0100
TZNAME:CET
DTSTART:20221030T010000
END:STANDARD
BEGIN:DAYLIGHT
TZOFFSETFROM:+0100
TZOFFSETTO:+0200
TZNAME:CEST
DTSTART:20230326T010000
END:DAYLIGHT
BEGIN:STANDARD
TZOFFSETFROM:+0200
TZOFFSETTO:+0100
TZNAME:CET
DTSTART:20231029T010000
END:STANDARD
BEGIN:DAYLIGHT
TZOFFSETFROM:+0100
TZOFFSETTO:+0200
TZNAME:CEST
DTSTART:20240331T010000
END:DAYLIGHT
BEGIN:STANDARD
TZOFFSETFROM:+0200
TZOFFSETTO:+0100
TZNAME:CET
DTSTART:20241027T010000
END:STANDARD
END:VTIMEZONE
BEGIN:VEVENT
DTSTART;TZID=Europe/Stockholm:20231204T183000
DTEND;TZID=Europe/Stockholm:20231204T203000
DTSTAMP:20260423T005000
CREATED:20231130T171440Z
LAST-MODIFIED:20231130T171440Z
UID:196639-1701714600-1701721800@fpes.se
SUMMARY:Månadsmöte FPES-Sydost
DESCRIPTION:Dags för månadsmöte i KalmarMånd 4 dec kl 18.30 restaurang Henry´s (se kartlänk nedan)Gärna ett mejl till mig om du/ni tänker komma då vi ska boka bord Väl mött\, Tiinahttps://www.google.com/maps/place/Henrys+Table+20/@56.6640034\,16.355123\,17.12z/data=!4m6!3m5!1s0x4657d17b110c056b:0x8d3cd1271b42e8f!8m2!3d56.6642513!4d16.3547873!16s%2Fg%2F1vzn453r?authuser=0&entry=ttu
URL:https://fpes.se/event/manadsmote-fpes-sydost-5/
LOCATION:Henrys Table 20\, Unionsgatan 20\, 392 33 Kalmar\, Sverige\, Unionsgatan 20\, Kalmar\, 392 33\, Sverige
END:VEVENT
END:VCALENDAR