BEGIN:VCALENDAR
VERSION:2.0
PRODID:-//FPES - ECPv6.15.20//NONSGML v1.0//EN
CALSCALE:GREGORIAN
METHOD:PUBLISH
X-ORIGINAL-URL:https://fpes.se
X-WR-CALDESC:Händelser för FPES
REFRESH-INTERVAL;VALUE=DURATION:PT1H
X-Robots-Tag:noindex
X-PUBLISHED-TTL:PT1H
BEGIN:VTIMEZONE
TZID:Europe/Stockholm
BEGIN:DAYLIGHT
TZOFFSETFROM:+0100
TZOFFSETTO:+0200
TZNAME:CEST
DTSTART:20220327T010000
END:DAYLIGHT
BEGIN:STANDARD
TZOFFSETFROM:+0200
TZOFFSETTO:+0100
TZNAME:CET
DTSTART:20221030T010000
END:STANDARD
BEGIN:DAYLIGHT
TZOFFSETFROM:+0100
TZOFFSETTO:+0200
TZNAME:CEST
DTSTART:20230326T010000
END:DAYLIGHT
BEGIN:STANDARD
TZOFFSETFROM:+0200
TZOFFSETTO:+0100
TZNAME:CET
DTSTART:20231029T010000
END:STANDARD
BEGIN:DAYLIGHT
TZOFFSETFROM:+0100
TZOFFSETTO:+0200
TZNAME:CEST
DTSTART:20240331T010000
END:DAYLIGHT
BEGIN:STANDARD
TZOFFSETFROM:+0200
TZOFFSETTO:+0100
TZNAME:CET
DTSTART:20241027T010000
END:STANDARD
END:VTIMEZONE
BEGIN:VEVENT
DTSTART;TZID=Europe/Stockholm:20231213T160000
DTEND;TZID=Europe/Stockholm:20231213T180000
DTSTAMP:20260423T024351
CREATED:20231107T154459Z
LAST-MODIFIED:20231208T155220Z
UID:196608-1702483200-1702490400@fpes.se
SUMMARY:Kafé öppen skärm: gemenskap för medlemmar
DESCRIPTION:Vill du fika med oss? \nVälkommen till Kafé Öppen Skärm. \nVi är flera som inte har möjlighet att träffa någon utanför vårt hem. \nDärför vill vi nu bjuda in dig till eftermiddagsfika med oss via datorn eller mobilen. \nPå våra fikaträffar kan vi prata om allt mellan himmel och jord och umgås på ett säkert sätt. \nVarmt välkommen över en god kopp kaffe eller te \nTiina \nAnmäl dig här för att deltaga: KAFÉ ÖPPEN SKÄRM: GEMENSKAP FÖR MEDLEMMAR
URL:https://fpes.se/event/kafe-oppen-skarm-gemenskap-for-medlemmar-10/
END:VEVENT
BEGIN:VEVENT
DTSTART;TZID=Europe/Stockholm:20231213T190000
DTEND;TZID=Europe/Stockholm:20231213T210000
DTSTAMP:20260423T024352
CREATED:20230204T140712Z
LAST-MODIFIED:20231130T171441Z
UID:195386-1702494000-1702501200@fpes.se
SUMMARY:FPES Mellansverige Cafeträff
DESCRIPTION:Vi träffas som vanligt och fikar\, snackar och har det bra.\nVi är i stora rummet längst in till höger. Välkomna!
URL:https://fpes.se/event/fpes-mellansverige-cafetraff-27/
LOCATION:Demokratipiloterna\, Södermannagatan 38\, 116 40 Stockholm\, Sverige\, Södermannagatan 38\, Stockholm\, 116 40\, Sverige
END:VEVENT
END:VCALENDAR