BEGIN:VCALENDAR
VERSION:2.0
PRODID:-//FPES - ECPv6.15.20//NONSGML v1.0//EN
CALSCALE:GREGORIAN
METHOD:PUBLISH
X-ORIGINAL-URL:https://fpes.se
X-WR-CALDESC:Händelser för FPES
REFRESH-INTERVAL;VALUE=DURATION:PT1H
X-Robots-Tag:noindex
X-PUBLISHED-TTL:PT1H
BEGIN:VTIMEZONE
TZID:Europe/Stockholm
BEGIN:DAYLIGHT
TZOFFSETFROM:+0100
TZOFFSETTO:+0200
TZNAME:CEST
DTSTART:20230326T010000
END:DAYLIGHT
BEGIN:STANDARD
TZOFFSETFROM:+0200
TZOFFSETTO:+0100
TZNAME:CET
DTSTART:20231029T010000
END:STANDARD
BEGIN:DAYLIGHT
TZOFFSETFROM:+0100
TZOFFSETTO:+0200
TZNAME:CEST
DTSTART:20240331T010000
END:DAYLIGHT
BEGIN:STANDARD
TZOFFSETFROM:+0200
TZOFFSETTO:+0100
TZNAME:CET
DTSTART:20241027T010000
END:STANDARD
BEGIN:DAYLIGHT
TZOFFSETFROM:+0100
TZOFFSETTO:+0200
TZNAME:CEST
DTSTART:20250330T010000
END:DAYLIGHT
BEGIN:STANDARD
TZOFFSETFROM:+0200
TZOFFSETTO:+0100
TZNAME:CET
DTSTART:20251026T010000
END:STANDARD
END:VTIMEZONE
BEGIN:VEVENT
DTSTART;TZID=Europe/Stockholm:20240116T183000
DTEND;TZID=Europe/Stockholm:20240116T203000
DTSTAMP:20260422T210258
CREATED:20231231T085038Z
LAST-MODIFIED:20240116T185001Z
UID:196649-1705429800-1705437000@fpes.se
SUMMARY:Månadsmöte FPES-Sydost
DESCRIPTION:FPES-Sydost Tisd 16/1 kl 18.30 Restaurang Sit´n Go i Växjö\, gärna en liten anmälan till tiina.deore@gmail.com om du/ni tänker komma\, https://www.google.com/maps/place/Restaurang+Sit+%26+Go/@56.8791214\,14.8005478\,19.08z/data=!4m6!3m5!1s0x4657238b55f46543:0x161edf083caeadbf!8m2!3d56.8792389!4d14.8002443!16s%2Fg%2F1yh9tq4qr?authuser=0&entry=ttu
URL:https://fpes.se/event/manadsmote-fpes-sydost-6/
LOCATION:Restaurang Sit & Go\, Storgatan 40\, 352 30 Växjö\, Sverige\, Storgatan 40\, Växjö\, 352 30\, Sverige
END:VEVENT
END:VCALENDAR