BEGIN:VCALENDAR
VERSION:2.0
PRODID:-//FPES - ECPv6.15.20//NONSGML v1.0//EN
CALSCALE:GREGORIAN
METHOD:PUBLISH
X-ORIGINAL-URL:https://fpes.se
X-WR-CALDESC:Händelser för FPES
REFRESH-INTERVAL;VALUE=DURATION:PT1H
X-Robots-Tag:noindex
X-PUBLISHED-TTL:PT1H
BEGIN:VTIMEZONE
TZID:Europe/Stockholm
BEGIN:DAYLIGHT
TZOFFSETFROM:+0100
TZOFFSETTO:+0200
TZNAME:CEST
DTSTART:20230326T010000
END:DAYLIGHT
BEGIN:STANDARD
TZOFFSETFROM:+0200
TZOFFSETTO:+0100
TZNAME:CET
DTSTART:20231029T010000
END:STANDARD
BEGIN:DAYLIGHT
TZOFFSETFROM:+0100
TZOFFSETTO:+0200
TZNAME:CEST
DTSTART:20240331T010000
END:DAYLIGHT
BEGIN:STANDARD
TZOFFSETFROM:+0200
TZOFFSETTO:+0100
TZNAME:CET
DTSTART:20241027T010000
END:STANDARD
BEGIN:DAYLIGHT
TZOFFSETFROM:+0100
TZOFFSETTO:+0200
TZNAME:CEST
DTSTART:20250330T010000
END:DAYLIGHT
BEGIN:STANDARD
TZOFFSETFROM:+0200
TZOFFSETTO:+0100
TZNAME:CET
DTSTART:20251026T010000
END:STANDARD
END:VTIMEZONE
BEGIN:VEVENT
DTSTART;VALUE=DATE:20240729
DTEND;VALUE=DATE:20240805
DTSTAMP:20260422T004326
CREATED:20240707T200330Z
LAST-MODIFIED:20240707T200330Z
UID:197689-1722218400-1722736799@fpes.se
SUMMARY:Stockholm Pride
DESCRIPTION:
URL:https://fpes.se/event/stockholm-pride/
ORGANIZER;CN="fpes.kalender@gmail.com":MAILTO:fpes_kalender@gmail_com
END:VEVENT
BEGIN:VEVENT
DTSTART;TZID=Europe/Stockholm:20240729T150000
DTEND;TZID=Europe/Stockholm:20240729T154500
DTSTAMP:20260422T004326
CREATED:20240722T200245Z
LAST-MODIFIED:20240722T200245Z
UID:197724-1722265200-1722267900@fpes.se
SUMMARY:TRANSpoesi på Stockholm Pride!
DESCRIPTION:De två transpoeterna\, Yolanda Bohm Ramirez och Marisol M.\, uppträder tillsammans med ett samtal om poesin och transtillvaron som varvas med högläsning ur deras diktsamlingar\, ”Ikon” (Yolanda) och ”Läppstifterska” (Marisol). Yolanda\, som kommer ur spoken word-traditionen\, och Marisol\, som kommer ur en mer klassisk poesitradition\, utlovar båda ett möte det slår gnistor om. Välkomna! \nTRANSpoesi på Stockholm Pride! av FPES | Stockholm Pride
URL:https://fpes.se/event/transpoesi-pa-stockholm-pride/
LOCATION:Clarion Hotel Sign\, Östra Järnvägsgatan 35\, 111 20 Stockholm\, Sverige\, Östra Järnvägsgatan 35\, Stockholm\, 11120\, Sweden
ORGANIZER;CN="fpes.kalender@gmail.com":MAILTO:fpes_kalender@gmail_com
END:VEVENT
BEGIN:VEVENT
DTSTART;TZID=Europe/Stockholm:20240729T160000
DTEND;TZID=Europe/Stockholm:20240729T170000
DTSTAMP:20260422T004326
CREATED:20240722T200245Z
LAST-MODIFIED:20240722T200245Z
UID:197725-1722268800-1722272400@fpes.se
SUMMARY:Bokbord: FPES
DESCRIPTION:Bokbord: FPES av FPES | Stockholm Pride
URL:https://fpes.se/event/bokbord-fpes/
LOCATION:Clarion Hotel Sign\, Östra Järnvägsgatan 35\, 111 20 Stockholm\, Sverige\, Östra Järnvägsgatan 35\, Stockholm\, 11120\, Sweden
ORGANIZER;CN="fpes.kalender@gmail.com":MAILTO:fpes_kalender@gmail_com
END:VEVENT
END:VCALENDAR