BEGIN:VCALENDAR
VERSION:2.0
PRODID:-//FPES - ECPv6.15.20//NONSGML v1.0//EN
CALSCALE:GREGORIAN
METHOD:PUBLISH
X-WR-CALNAME:FPES
X-ORIGINAL-URL:https://fpes.se
X-WR-CALDESC:Händelser för FPES
REFRESH-INTERVAL;VALUE=DURATION:PT1H
X-Robots-Tag:noindex
X-PUBLISHED-TTL:PT1H
BEGIN:VTIMEZONE
TZID:Europe/Stockholm
BEGIN:DAYLIGHT
TZOFFSETFROM:+0100
TZOFFSETTO:+0200
TZNAME:CEST
DTSTART:20230326T010000
END:DAYLIGHT
BEGIN:STANDARD
TZOFFSETFROM:+0200
TZOFFSETTO:+0100
TZNAME:CET
DTSTART:20231029T010000
END:STANDARD
BEGIN:DAYLIGHT
TZOFFSETFROM:+0100
TZOFFSETTO:+0200
TZNAME:CEST
DTSTART:20240331T010000
END:DAYLIGHT
BEGIN:STANDARD
TZOFFSETFROM:+0200
TZOFFSETTO:+0100
TZNAME:CET
DTSTART:20241027T010000
END:STANDARD
BEGIN:DAYLIGHT
TZOFFSETFROM:+0100
TZOFFSETTO:+0200
TZNAME:CEST
DTSTART:20250330T010000
END:DAYLIGHT
BEGIN:STANDARD
TZOFFSETFROM:+0200
TZOFFSETTO:+0100
TZNAME:CET
DTSTART:20251026T010000
END:STANDARD
END:VTIMEZONE
BEGIN:VEVENT
DTSTART;TZID=Europe/Stockholm:20241009T183000
DTEND;TZID=Europe/Stockholm:20241009T203000
DTSTAMP:20260421T205846
CREATED:20240923T200652Z
LAST-MODIFIED:20240925T180746Z
UID:197889-1728498600-1728505800@fpes.se
SUMMARY:Månadsmöte FPES-Sydost
DESCRIPTION:Hej!\nNu börjar hösten komma på allvar.\nSå här efter sommaren är det dags att köra igång med våra små månadsmöten.\nVi träffas onsdag 9 okt kl 18.30 Restaurang Sit and Go i Växjö\, se kartlänk nedan\nGärna ett litet mejl till mig om du/ni kommer. Såklart så får anhöriga följa med om de vill. \nVäl mött\, Tiina \ntiina.deore@gmail.com \nSit & Go – Google Maps
URL:https://fpes.se/event/manadsmote-fpes-sydost-8/
LOCATION:Restaurang Sit & Go\, Storgatan 40\, 352 30 Växjö\, Sverige\, Storgatan 40\, Växjö\, 35230\, Sverige
ORGANIZER;CN="fpes.kalender@gmail.com":MAILTO:fpes_kalender@gmail_com
END:VEVENT
END:VCALENDAR