BEGIN:VCALENDAR
VERSION:2.0
PRODID:-//FPES - ECPv6.15.20//NONSGML v1.0//EN
CALSCALE:GREGORIAN
METHOD:PUBLISH
X-WR-CALNAME:FPES
X-ORIGINAL-URL:https://fpes.se
X-WR-CALDESC:Händelser för FPES
REFRESH-INTERVAL;VALUE=DURATION:PT1H
X-Robots-Tag:noindex
X-PUBLISHED-TTL:PT1H
BEGIN:VTIMEZONE
TZID:Europe/Stockholm
BEGIN:DAYLIGHT
TZOFFSETFROM:+0100
TZOFFSETTO:+0200
TZNAME:CEST
DTSTART:20230326T010000
END:DAYLIGHT
BEGIN:STANDARD
TZOFFSETFROM:+0200
TZOFFSETTO:+0100
TZNAME:CET
DTSTART:20231029T010000
END:STANDARD
BEGIN:DAYLIGHT
TZOFFSETFROM:+0100
TZOFFSETTO:+0200
TZNAME:CEST
DTSTART:20240331T010000
END:DAYLIGHT
BEGIN:STANDARD
TZOFFSETFROM:+0200
TZOFFSETTO:+0100
TZNAME:CET
DTSTART:20241027T010000
END:STANDARD
BEGIN:DAYLIGHT
TZOFFSETFROM:+0100
TZOFFSETTO:+0200
TZNAME:CEST
DTSTART:20250330T010000
END:DAYLIGHT
BEGIN:STANDARD
TZOFFSETFROM:+0200
TZOFFSETTO:+0100
TZNAME:CET
DTSTART:20251026T010000
END:STANDARD
END:VTIMEZONE
BEGIN:VEVENT
DTSTART;TZID=Europe/Stockholm:20241030T183000
DTEND;TZID=Europe/Stockholm:20241030T203000
DTSTAMP:20260421T165620
CREATED:20241019T080209Z
LAST-MODIFIED:20241019T080209Z
UID:197956-1730313000-1730320200@fpes.se
SUMMARY:Månadsmöte FPES-Sydost
DESCRIPTION:HejTyvärr fick vi ställa in förra mötet då vi skulle bli för få pga av sjukdomNu gör vi ett nytt försök.Onsdagen 30 okt kl 18.30 Restaurang Sit & Go i Växjö\, se kartlänk nedanGärna en liten hint om du/ni kommerSåklart är anhöriga\, vänner och bekanta också välkomnaVäl mött\, Tiinahttps://www.google.com/maps/place/Restaurang+Sit+%26+Go/@56.8789411\,14.7976443\,16.13z/data=!4m6!3m5!1s0x4657238b55f46543:0x161edf083caeadbf!8m2!3d56.8792389!4d14.8002443!16s%2Fg%2F1yh9tq4qr?authuser=0&entry=ttu&g_ep=EgoyMDI0MTAxNS4wIKXMDSoASAFQAw%3D%3D
URL:https://fpes.se/event/manadsmote-fpes-sydost-9/
LOCATION:Restaurang Sit & Go\, Storgatan 40\, 352 30 Växjö\, Sverige\, Storgatan 40\, Växjö\, 35230\, Sverige
ORGANIZER;CN="fpes.kalender@gmail.com":MAILTO:fpes_kalender@gmail_com
END:VEVENT
BEGIN:VEVENT
DTSTART;TZID=Europe/Stockholm:20241030T190000
DTEND;TZID=Europe/Stockholm:20241030T210000
DTSTAMP:20260421T165620
CREATED:20240629T200215Z
LAST-MODIFIED:20240629T200215Z
UID:197671-1730314800-1730322000@fpes.se
SUMMARY:FPES Mellansverige Cafeträff
DESCRIPTION:Vi träffas som vanligt och fikar\, snackar och har det bra.Vi är i stora rummet längst in till höger. Välkomna!
URL:https://fpes.se/event/fpes-mellansverige-cafetraff-16/
LOCATION:Demokratipiloterna\, Södermannagatan 38\, 116 40 Stockholm\, Sverige\, Södermannagatan 38\, Stockholm\, 11640\, Sverige
ORGANIZER;CN="fpes.kalender@gmail.com":MAILTO:fpes_kalender@gmail_com
END:VEVENT
END:VCALENDAR