BEGIN:VCALENDAR
VERSION:2.0
PRODID:-//FPES - ECPv6.15.20//NONSGML v1.0//EN
CALSCALE:GREGORIAN
METHOD:PUBLISH
X-WR-CALNAME:FPES
X-ORIGINAL-URL:https://fpes.se
X-WR-CALDESC:Händelser för FPES
REFRESH-INTERVAL;VALUE=DURATION:PT1H
X-Robots-Tag:noindex
X-PUBLISHED-TTL:PT1H
BEGIN:VTIMEZONE
TZID:Europe/Stockholm
BEGIN:DAYLIGHT
TZOFFSETFROM:+0100
TZOFFSETTO:+0200
TZNAME:CEST
DTSTART:20240331T010000
END:DAYLIGHT
BEGIN:STANDARD
TZOFFSETFROM:+0200
TZOFFSETTO:+0100
TZNAME:CET
DTSTART:20241027T010000
END:STANDARD
BEGIN:DAYLIGHT
TZOFFSETFROM:+0100
TZOFFSETTO:+0200
TZNAME:CEST
DTSTART:20250330T010000
END:DAYLIGHT
BEGIN:STANDARD
TZOFFSETFROM:+0200
TZOFFSETTO:+0100
TZNAME:CET
DTSTART:20251026T010000
END:STANDARD
BEGIN:DAYLIGHT
TZOFFSETFROM:+0100
TZOFFSETTO:+0200
TZNAME:CEST
DTSTART:20260329T010000
END:DAYLIGHT
BEGIN:STANDARD
TZOFFSETFROM:+0200
TZOFFSETTO:+0100
TZNAME:CET
DTSTART:20261025T010000
END:STANDARD
END:VTIMEZONE
BEGIN:VEVENT
DTSTART;TZID=Europe/Stockholm:20250116T190000
DTEND;TZID=Europe/Stockholm:20250116T200000
DTSTAMP:20260421T173110
CREATED:20241123T200211Z
LAST-MODIFIED:20241215T092452Z
UID:198056-1737054000-1737057600@fpes.se
SUMMARY:Närståendeträff - digital
DESCRIPTION:Välkomna till digitala närståendeträffar följande datum\nkl. 19-20 \n16 januari\n4 februari \nVi som leder träffarna är inte professionella utan själva närstående på olika sätt. Träffarna syftar till att få möjlighet att prata med andra närstående och stötta varandra. \nFör att delta; maila narstaende@fpes.se så får du en länk till mötet.
URL:https://fpes.se/event/narstaendetraff-digital-3/
ORGANIZER;CN="fpes.kalender@gmail.com":MAILTO:fpes_kalender@gmail_com
END:VEVENT
BEGIN:VEVENT
DTSTART;TZID=Europe/Stockholm:20250116T190000
DTEND;TZID=Europe/Stockholm:20250116T203000
DTSTAMP:20260421T173110
CREATED:20240814T200213Z
LAST-MODIFIED:20240814T200213Z
UID:197800-1737054000-1737059400@fpes.se
SUMMARY:FPES Väst: Trivselträff
DESCRIPTION:Vi träffas i en lokal där vi är för oss själva i Regnbågshuset. https://goteborg.se/wps/portal/enhetssida/regnbagshuset/hitta-hit
URL:https://fpes.se/event/fpes-vast-trivseltraff-6/
LOCATION:Barlastgatan 2 (Amerikahuset)\, 414 63 Göteborg\, Sverige\, Barlastgatan 2\, Göteborg\, 41463\, Sverige
ORGANIZER;CN="fpes.kalender@gmail.com":MAILTO:fpes_kalender@gmail_com
END:VEVENT
END:VCALENDAR