BEGIN:VCALENDAR
VERSION:2.0
PRODID:-//FPES - ECPv6.15.20//NONSGML v1.0//EN
CALSCALE:GREGORIAN
METHOD:PUBLISH
X-WR-CALNAME:FPES
X-ORIGINAL-URL:https://fpes.se
X-WR-CALDESC:Händelser för FPES
REFRESH-INTERVAL;VALUE=DURATION:PT1H
X-Robots-Tag:noindex
X-PUBLISHED-TTL:PT1H
BEGIN:VTIMEZONE
TZID:Europe/Stockholm
BEGIN:DAYLIGHT
TZOFFSETFROM:+0100
TZOFFSETTO:+0200
TZNAME:CEST
DTSTART:20240331T010000
END:DAYLIGHT
BEGIN:STANDARD
TZOFFSETFROM:+0200
TZOFFSETTO:+0100
TZNAME:CET
DTSTART:20241027T010000
END:STANDARD
BEGIN:DAYLIGHT
TZOFFSETFROM:+0100
TZOFFSETTO:+0200
TZNAME:CEST
DTSTART:20250330T010000
END:DAYLIGHT
BEGIN:STANDARD
TZOFFSETFROM:+0200
TZOFFSETTO:+0100
TZNAME:CET
DTSTART:20251026T010000
END:STANDARD
BEGIN:DAYLIGHT
TZOFFSETFROM:+0100
TZOFFSETTO:+0200
TZNAME:CEST
DTSTART:20260329T010000
END:DAYLIGHT
BEGIN:STANDARD
TZOFFSETFROM:+0200
TZOFFSETTO:+0100
TZNAME:CET
DTSTART:20261025T010000
END:STANDARD
END:VTIMEZONE
BEGIN:VEVENT
DTSTART;TZID=Europe/Stockholm:20250618T183000
DTEND;TZID=Europe/Stockholm:20250618T203000
DTSTAMP:20260422T003939
CREATED:20250525T235009Z
LAST-MODIFIED:20250526T150749Z
UID:203770-1750271400-1750278600@fpes.se
SUMMARY:Månadsmöte FPES-Sydost
DESCRIPTION:Onsdagen 18 juni kl 18.30 i Växjö på Bishop´s Arms\, se kartlänk nedan\nGärna en hint om du tänker komma då vi ska boka bord\, tiina.deore@gmail.com\nVäl mött\, Tiina\nKartlänk:TheBishopsArms
URL:https://fpes.se/event/manadsmote-fpes-sydost-11/
LOCATION:The Bishops Arms – Växjö\, Kungsgatan 6\, 352 33 Växjö\, Sverige\, Kungsgatan 6\, Växjö\, 352 33\, Sweden
ORGANIZER;CN="fpes.kalender@gmail.com":MAILTO:fpes_kalender@gmail_com
END:VEVENT
END:VCALENDAR