BEGIN:VCALENDAR
VERSION:2.0
PRODID:-//FPES - ECPv6.15.20//NONSGML v1.0//EN
CALSCALE:GREGORIAN
METHOD:PUBLISH
X-WR-CALNAME:FPES
X-ORIGINAL-URL:https://fpes.se
X-WR-CALDESC:Händelser för FPES
REFRESH-INTERVAL;VALUE=DURATION:PT1H
X-Robots-Tag:noindex
X-PUBLISHED-TTL:PT1H
BEGIN:VTIMEZONE
TZID:Europe/Stockholm
BEGIN:DAYLIGHT
TZOFFSETFROM:+0100
TZOFFSETTO:+0200
TZNAME:CEST
DTSTART:20240331T010000
END:DAYLIGHT
BEGIN:STANDARD
TZOFFSETFROM:+0200
TZOFFSETTO:+0100
TZNAME:CET
DTSTART:20241027T010000
END:STANDARD
BEGIN:DAYLIGHT
TZOFFSETFROM:+0100
TZOFFSETTO:+0200
TZNAME:CEST
DTSTART:20250330T010000
END:DAYLIGHT
BEGIN:STANDARD
TZOFFSETFROM:+0200
TZOFFSETTO:+0100
TZNAME:CET
DTSTART:20251026T010000
END:STANDARD
BEGIN:DAYLIGHT
TZOFFSETFROM:+0100
TZOFFSETTO:+0200
TZNAME:CEST
DTSTART:20260329T010000
END:DAYLIGHT
BEGIN:STANDARD
TZOFFSETFROM:+0200
TZOFFSETTO:+0100
TZNAME:CET
DTSTART:20261025T010000
END:STANDARD
END:VTIMEZONE
BEGIN:VEVENT
DTSTART;TZID=Europe/Stockholm:20251005T120000
DTEND;TZID=Europe/Stockholm:20251005T140000
DTSTAMP:20260422T025559
CREATED:20250917T182611Z
LAST-MODIFIED:20250917T182611Z
UID:204111-1759665600-1759672800@fpes.se
SUMMARY:Brunch på Cinema Queer
DESCRIPTION:TFS och FPES välkomnar dig till den speciella Cinema Queer-upplagan av Transbrunchen! \nVi bjuder på veganska snacks och drycker. Betala efter din ekonomiska förmåga! \nUnder brunchen kommer även Hanna Kisch och Shirley Harthey Ubilla deras senaste performance Sewer med start 13.00. \nVälkommen! \nTrans Fest Stockholm (TFS) är en ideell förening som skapar evenemang för transpersoner och våra vänner i Stockholm. FPES är Sveriges äldsta transorganisation\, bildad 1966. Tillsammans arrangerar TFS och FPES den månatliga Transbrunchen i Stockholm\, alltid den första söndagen varje månad.
URL:https://fpes.se/event/brunch-pa-cinema-queer/
LOCATION:Korvfabriken\, Styckmästargatan 6\, 121 62 Johanneshov\, Sverige\, Styckmästargatan 6\, Johanneshov\, 121 62\, Sweden
ORGANIZER;CN="fpes.kalender@gmail.com":MAILTO:fpes_kalender@gmail_com
END:VEVENT
END:VCALENDAR