BEGIN:VCALENDAR
VERSION:2.0
PRODID:-//FPES - ECPv6.15.20//NONSGML v1.0//EN
CALSCALE:GREGORIAN
METHOD:PUBLISH
X-WR-CALNAME:FPES
X-ORIGINAL-URL:https://fpes.se
X-WR-CALDESC:Händelser för FPES
REFRESH-INTERVAL;VALUE=DURATION:PT1H
X-Robots-Tag:noindex
X-PUBLISHED-TTL:PT1H
BEGIN:VTIMEZONE
TZID:Europe/Stockholm
BEGIN:DAYLIGHT
TZOFFSETFROM:+0100
TZOFFSETTO:+0200
TZNAME:CEST
DTSTART:20240331T010000
END:DAYLIGHT
BEGIN:STANDARD
TZOFFSETFROM:+0200
TZOFFSETTO:+0100
TZNAME:CET
DTSTART:20241027T010000
END:STANDARD
BEGIN:DAYLIGHT
TZOFFSETFROM:+0100
TZOFFSETTO:+0200
TZNAME:CEST
DTSTART:20250330T010000
END:DAYLIGHT
BEGIN:STANDARD
TZOFFSETFROM:+0200
TZOFFSETTO:+0100
TZNAME:CET
DTSTART:20251026T010000
END:STANDARD
BEGIN:DAYLIGHT
TZOFFSETFROM:+0100
TZOFFSETTO:+0200
TZNAME:CEST
DTSTART:20260329T010000
END:DAYLIGHT
BEGIN:STANDARD
TZOFFSETFROM:+0200
TZOFFSETTO:+0100
TZNAME:CET
DTSTART:20261025T010000
END:STANDARD
END:VTIMEZONE
BEGIN:VEVENT
DTSTART;TZID=Europe/Stockholm:20251012T150000
DTEND;TZID=Europe/Stockholm:20251012T170000
DTSTAMP:20260422T045202
CREATED:20250924T180258Z
LAST-MODIFIED:20250924T180946Z
UID:204131-1760281200-1760288400@fpes.se
SUMMARY:Månadsmöte FPES-Sydost
DESCRIPTION:Månadsträff FPES-Sydost. Sönd 12 okt kl 15 ses vi på restaurang Montmarte i Karlskrona. Gärna en hint om du/ni kommer då vi ska boka bord\, tiina.deore@gmail.com Karta till Montmarte
URL:https://fpes.se/event/manadsmote-fpes-sydost-13/
LOCATION:Restaurang Montmartre\, Ronnebygatan 18\, 371 12 Karlskrona\, Sverige\, Ronnebygatan 18\, Karlskrona\, 371 12\, Sverige
ORGANIZER;CN="fpes.kalender@gmail.com":MAILTO:fpes_kalender@gmail_com
END:VEVENT
END:VCALENDAR