BEGIN:VCALENDAR
VERSION:2.0
PRODID:-//FPES - ECPv6.15.20//NONSGML v1.0//EN
CALSCALE:GREGORIAN
METHOD:PUBLISH
X-ORIGINAL-URL:https://fpes.se
X-WR-CALDESC:Händelser för FPES
REFRESH-INTERVAL;VALUE=DURATION:PT1H
X-Robots-Tag:noindex
X-PUBLISHED-TTL:PT1H
BEGIN:VTIMEZONE
TZID:Europe/Stockholm
BEGIN:DAYLIGHT
TZOFFSETFROM:+0100
TZOFFSETTO:+0200
TZNAME:CEST
DTSTART:20250330T010000
END:DAYLIGHT
BEGIN:STANDARD
TZOFFSETFROM:+0200
TZOFFSETTO:+0100
TZNAME:CET
DTSTART:20251026T010000
END:STANDARD
BEGIN:DAYLIGHT
TZOFFSETFROM:+0100
TZOFFSETTO:+0200
TZNAME:CEST
DTSTART:20260329T010000
END:DAYLIGHT
BEGIN:STANDARD
TZOFFSETFROM:+0200
TZOFFSETTO:+0100
TZNAME:CET
DTSTART:20261025T010000
END:STANDARD
BEGIN:DAYLIGHT
TZOFFSETFROM:+0100
TZOFFSETTO:+0200
TZNAME:CEST
DTSTART:20270328T010000
END:DAYLIGHT
BEGIN:STANDARD
TZOFFSETFROM:+0200
TZOFFSETTO:+0100
TZNAME:CET
DTSTART:20271031T010000
END:STANDARD
END:VTIMEZONE
BEGIN:VEVENT
DTSTART;TZID=Europe/Stockholm:20260413T183000
DTEND;TZID=Europe/Stockholm:20260413T203000
DTSTAMP:20260422T183400
CREATED:20260402T093315Z
LAST-MODIFIED:20260402T093315Z
UID:204852-1776105000-1776112200@fpes.se
SUMMARY:Månadsmöte FPES-Sydost
DESCRIPTION:FPES-Sydost månadsmöte i Karlskrona\, restaurang Montmartre kl 18.30. Då vi måste boka bord\, anmälan till tiina.deore@gmail.com
URL:https://fpes.se/event/manadsmote-fpes-sydost-15/
LOCATION:Restaurang Montmartre\, Ronnebygatan 18\, 371 12 Karlskrona\, Sverige\, Ronnebygatan 18\, Karlskrona\, 371 12\, Sverige
END:VEVENT
END:VCALENDAR