BEGIN:VCALENDAR
VERSION:2.0
PRODID:-//FPES - ECPv6.15.20//NONSGML v1.0//EN
CALSCALE:GREGORIAN
METHOD:PUBLISH
X-WR-CALNAME:FPES
X-ORIGINAL-URL:https://fpes.se
X-WR-CALDESC:Händelser för FPES
REFRESH-INTERVAL;VALUE=DURATION:PT1H
X-Robots-Tag:noindex
X-PUBLISHED-TTL:PT1H
BEGIN:VTIMEZONE
TZID:Europe/Stockholm
BEGIN:DAYLIGHT
TZOFFSETFROM:+0100
TZOFFSETTO:+0200
TZNAME:CEST
DTSTART:20230326T010000
END:DAYLIGHT
BEGIN:STANDARD
TZOFFSETFROM:+0200
TZOFFSETTO:+0100
TZNAME:CET
DTSTART:20231029T010000
END:STANDARD
BEGIN:DAYLIGHT
TZOFFSETFROM:+0100
TZOFFSETTO:+0200
TZNAME:CEST
DTSTART:20240331T010000
END:DAYLIGHT
BEGIN:STANDARD
TZOFFSETFROM:+0200
TZOFFSETTO:+0100
TZNAME:CET
DTSTART:20241027T010000
END:STANDARD
BEGIN:DAYLIGHT
TZOFFSETFROM:+0100
TZOFFSETTO:+0200
TZNAME:CEST
DTSTART:20250330T010000
END:DAYLIGHT
BEGIN:STANDARD
TZOFFSETFROM:+0200
TZOFFSETTO:+0100
TZNAME:CET
DTSTART:20251026T010000
END:STANDARD
END:VTIMEZONE
BEGIN:VEVENT
DTSTART;TZID=Europe/Stockholm:20240602T130000
DTEND;TZID=Europe/Stockholm:20240602T150000
DTSTAMP:20260423T004223
CREATED:20240221T200215Z
LAST-MODIFIED:20240221T200215Z
UID:197161-1717333200-1717340400@fpes.se
SUMMARY:Brunch på Dynamo
DESCRIPTION:[ENGLISH BELOW]Varmt välkomna på TRANSBRUNCH.Denna gång bjuder vi på mysig brunch på Cafe Dynamo (Södermannagatan 38). Lokalen ligger på markplan och det finns en tillgänglighetsanpassad toalett.Vi bjuder på gratis vegansk mat\, kaffe/te och kakor. Det går att donera lite pengar\, cash eller swish\, men alla som behöver äter gratis.Transbrunchen är ett samarbete mellan Transammans Stockholm\, FPES Stockholm och Trans Fest Stockholm.Vårt mål är att skapa ett säkert utrymme för transpersoner i alla åldrar att träffas och ha det trevligt\, fika och kanske till och med få några nya vänner! \n————————————–Warmly welcome to TRANS BRUNCH.This time we are inviting you for the lovely brunch at ​​Cafe Dynamo (Södermannagatan 38). The venue is on the bottom floor and there is an accessible bathroom.There’ll be vegan food\, coffee/tea and cookies. You can donate some money\, cash or swish\, but everyone who needs it eats for free.The brunch is a collaboration between Transammans Stockholm\, FPES Förening för transpersoner Stockholm and Trans Fest Stockholm.Our aim is to create a safer space for trans people of all ages to meet and have a good time\, have some fika and maybe even make some new friends!
URL:https://fpes.se/event/brunch-pa-dynamo-24/
LOCATION:Demokratipiloterna\, Södermannagatan 38\, 116 40 Stockholm\, Sverige\, Södermannagatan 38\, Stockholm\, 11640\, Sverige
ORGANIZER;CN="fpes.kalender@gmail.com":MAILTO:fpes_kalender@gmail_com
END:VEVENT
BEGIN:VEVENT
DTSTART;TZID=Europe/Stockholm:20240607T190000
DTEND;TZID=Europe/Stockholm:20240607T220000
DTSTAMP:20260423T004223
CREATED:20240602T080206Z
LAST-MODIFIED:20240602T080206Z
UID:197582-1717786800-1717797600@fpes.se
SUMMARY:FPES Syd: ClubTransparence
DESCRIPTION:Se mail som gått till dig som är med i avdelning syd
URL:https://fpes.se/event/fpes-syd-clubtransparence-4/
ORGANIZER;CN="fpes.kalender@gmail.com":MAILTO:fpes_kalender@gmail_com
END:VEVENT
BEGIN:VEVENT
DTSTART;TZID=Europe/Stockholm:20240612T183000
DTEND;TZID=Europe/Stockholm:20240612T203000
DTSTAMP:20260423T004223
CREATED:20240609T203832Z
LAST-MODIFIED:20240609T204911Z
UID:197614-1718217000-1718224200@fpes.se
SUMMARY:Månadsmöte FPES-Sydost
DESCRIPTION:FPES-Sydost månadsmöte kl 18.30 Restaurang Michelangelo\, Ronnebygatan 29\, 371 12 Karlskrona\, gärna en liten anmälan till tiina.deore@gmail.com om du/ni tänker komma. Restaurang Michelangelo – Google Maps
URL:https://fpes.se/event/manadsmote-fpes-sydost-7/
LOCATION:Restaurang Michelangelo\, Ronnebygatan 29\, 371 12 Karlskrona\, Sverige\, Ronnebygatan 29\, Karlskrona\, 37112\, Sverige
ORGANIZER;CN="fpes.kalender@gmail.com":MAILTO:fpes_kalender@gmail_com
END:VEVENT
BEGIN:VEVENT
DTSTART;TZID=Europe/Stockholm:20240612T190000
DTEND;TZID=Europe/Stockholm:20240612T210000
DTSTAMP:20260423T004223
CREATED:20240212T165956Z
LAST-MODIFIED:20240212T165956Z
UID:196997-1718218800-1718226000@fpes.se
SUMMARY:FPES Mellansverige Cafeträff
DESCRIPTION:Vi träffas som vanligt och fikar\, snackar och har det bra.Vi är i stora rummet längst in till höger. Välkomna!
URL:https://fpes.se/event/fpes-mellansverige-cafetraff-31/
LOCATION:Demokratipiloterna\, Södermannagatan 38\, 116 40 Stockholm\, Sverige\, Södermannagatan 38\, Stockholm\, 11640\, Sverige
END:VEVENT
BEGIN:VEVENT
DTSTART;TZID=Europe/Stockholm:20240614T200000
DTEND;TZID=Europe/Stockholm:20240615T010000
DTSTAMP:20260423T004223
CREATED:20240610T200242Z
LAST-MODIFIED:20240610T200242Z
UID:197626-1718395200-1718413200@fpes.se
SUMMARY:Klubbkväll West Pride
DESCRIPTION:The Way Out Night
URL:https://fpes.se/event/klubbkvall-west-pride/
LOCATION:Hängmattan\, Karl Johansgatan 16\, 414 59 Göteborg\, Sverige
ORGANIZER;CN="fpes.kalender@gmail.com":MAILTO:fpes_kalender@gmail_com
END:VEVENT
BEGIN:VEVENT
DTSTART;TZID=Europe/Stockholm:20240618T190000
DTEND;TZID=Europe/Stockholm:20240618T203000
DTSTAMP:20260423T004223
CREATED:20240212T165956Z
LAST-MODIFIED:20240212T165956Z
UID:196998-1718737200-1718742600@fpes.se
SUMMARY:FPES Väst: Trivselträff
DESCRIPTION:Vi träffas i en lokal där vi är för oss själva i Regnbågshuset. https://goteborg.se/wps/portal/enhetssida/regnbagshuset/hitta-hit Anordnas i samarbete med nätverket Vänner i Väst.
URL:https://fpes.se/event/fpes-vast-trivseltraff-5/
LOCATION:Barlastgatan 2 (Amerikahuset)\, 414 63 Göteborg\, Sverige\, Barlastgatan 2\, Göteborg\, 41463\, Sverige
END:VEVENT
BEGIN:VEVENT
DTSTART;VALUE=DATE:20240729
DTEND;VALUE=DATE:20240805
DTSTAMP:20260423T004223
CREATED:20240707T200330Z
LAST-MODIFIED:20240707T200330Z
UID:197689-1722218400-1722736799@fpes.se
SUMMARY:Stockholm Pride
DESCRIPTION:
URL:https://fpes.se/event/stockholm-pride/
ORGANIZER;CN="fpes.kalender@gmail.com":MAILTO:fpes_kalender@gmail_com
END:VEVENT
BEGIN:VEVENT
DTSTART;TZID=Europe/Stockholm:20240729T150000
DTEND;TZID=Europe/Stockholm:20240729T154500
DTSTAMP:20260423T004223
CREATED:20240722T200245Z
LAST-MODIFIED:20240722T200245Z
UID:197724-1722265200-1722267900@fpes.se
SUMMARY:TRANSpoesi på Stockholm Pride!
DESCRIPTION:De två transpoeterna\, Yolanda Bohm Ramirez och Marisol M.\, uppträder tillsammans med ett samtal om poesin och transtillvaron som varvas med högläsning ur deras diktsamlingar\, ”Ikon” (Yolanda) och ”Läppstifterska” (Marisol). Yolanda\, som kommer ur spoken word-traditionen\, och Marisol\, som kommer ur en mer klassisk poesitradition\, utlovar båda ett möte det slår gnistor om. Välkomna! \nTRANSpoesi på Stockholm Pride! av FPES | Stockholm Pride
URL:https://fpes.se/event/transpoesi-pa-stockholm-pride/
LOCATION:Clarion Hotel Sign\, Östra Järnvägsgatan 35\, 111 20 Stockholm\, Sverige\, Östra Järnvägsgatan 35\, Stockholm\, 11120\, Sweden
ORGANIZER;CN="fpes.kalender@gmail.com":MAILTO:fpes_kalender@gmail_com
END:VEVENT
BEGIN:VEVENT
DTSTART;TZID=Europe/Stockholm:20240729T160000
DTEND;TZID=Europe/Stockholm:20240729T170000
DTSTAMP:20260423T004223
CREATED:20240722T200245Z
LAST-MODIFIED:20240722T200245Z
UID:197725-1722268800-1722272400@fpes.se
SUMMARY:Bokbord: FPES
DESCRIPTION:Bokbord: FPES av FPES | Stockholm Pride
URL:https://fpes.se/event/bokbord-fpes/
LOCATION:Clarion Hotel Sign\, Östra Järnvägsgatan 35\, 111 20 Stockholm\, Sverige\, Östra Järnvägsgatan 35\, Stockholm\, 11120\, Sweden
ORGANIZER;CN="fpes.kalender@gmail.com":MAILTO:fpes_kalender@gmail_com
END:VEVENT
BEGIN:VEVENT
DTSTART;TZID=Europe/Stockholm:20240731T140000
DTEND;TZID=Europe/Stockholm:20240731T144500
DTSTAMP:20260423T004223
CREATED:20240722T200245Z
LAST-MODIFIED:20240722T200245Z
UID:197726-1722434400-1722437100@fpes.se
SUMMARY:Transpersoners position på arbetsmarknaden: Utmaningar och framsteg
DESCRIPTION:Lukas Romson\, transexpert\, jämlikhetskonsult och transaktivist\, och Malin Larsson\, FPES\, samtalar om transpersoners situation på arbetsmarknaden och berättar om en pågående studie i ämnet. \nTranspersoner möter ofta betydande utmaningar på arbetsmarknaden\, inklusive diskriminering och bristande acceptans. En del framsteg har gjorts för att förbättra situationen\, med fler företag som implementerar inkluderande policies och utbildningar. Men kunskaperna om transinkluderande likabehandlingsarbete är låg och forskningen om hur transpersoners situation ser ut är mycket sparsam.Lukas Romson\, jämlikhetskonsult\, och Malin Larsson\, FPES\, ger en presentation av av ämnet och samtalar kring hur vi transpersoner möter. \nTranspersoners position på arbetsmarknaden: Utman… | Stockholm Pride
URL:https://fpes.se/event/transpersoners-position-pa-arbetsmarknaden-utmaningar-och-framsteg/
LOCATION:Clarion Hotel Sign\, Östra Järnvägsgatan 35\, 111 20 Stockholm\, Sverige\, Östra Järnvägsgatan 35\, Stockholm\, 11120\, Sweden
ORGANIZER;CN="fpes.kalender@gmail.com":MAILTO:fpes_kalender@gmail_com
END:VEVENT
BEGIN:VEVENT
DTSTART;TZID=Europe/Stockholm:20240731T140000
DTEND;TZID=Europe/Stockholm:20240731T150000
DTSTAMP:20260423T004223
CREATED:20240722T200245Z
LAST-MODIFIED:20240722T200245Z
UID:197728-1722434400-1722438000@fpes.se
SUMMARY:FPES i Pride Park
DESCRIPTION:Träffa FPES i Pride Park mellan kl 14-24
URL:https://fpes.se/event/fpes-i-pride-park/
LOCATION:Östermalms IP\, FISKARTORPSVÄGEN 2\, 114 33 Stockholm\, Sverige\, Södra Fiskartorpsvägen 2\, Stockholm\, 11433\, Sweden
ORGANIZER;CN="fpes.kalender@gmail.com":MAILTO:fpes_kalender@gmail_com
END:VEVENT
BEGIN:VEVENT
DTSTART;TZID=Europe/Stockholm:20240731T160000
DTEND;TZID=Europe/Stockholm:20240731T170000
DTSTAMP:20260423T004223
CREATED:20240722T200245Z
LAST-MODIFIED:20240722T200245Z
UID:197729-1722441600-1722445200@fpes.se
SUMMARY:Trans Fashionshow
DESCRIPTION:Välkommen till Trans fashionshow 2024!En modeshow utöver det vanliga med bara transpersoner! Tjejer som killar! Vi gör det för att det blir allt viktigare för oss transpersoner att synas! Och för att det är kul! \nKonferencier: Liam Teasem \n \n \nPride Park – Regnbågen\nÖstermalms IP\, Södra Fiskartorpsvägen 2 \nT-Stadion \nTrans Fashionshow | Stockholm Pride
URL:https://fpes.se/event/trans-fashionshow/
LOCATION:Östermalms IP\, FISKARTORPSVÄGEN 2\, 114 33 Stockholm\, Sverige\, Södra Fiskartorpsvägen 2\, Stockholm\, 11433\, Sweden
ORGANIZER;CN="fpes.kalender@gmail.com":MAILTO:fpes_kalender@gmail_com
END:VEVENT
BEGIN:VEVENT
DTSTART;TZID=Europe/Stockholm:20240801T140000
DTEND;TZID=Europe/Stockholm:20240801T144500
DTSTAMP:20260423T004223
CREATED:20240722T200245Z
LAST-MODIFIED:20240722T200245Z
UID:197730-1722520800-1722523500@fpes.se
SUMMARY:Ett tredje juridiskt kön – en reform för frihet
DESCRIPTION:Vilket är behovet av ett juridiskt tredje kön? Hur kan detta mål förverkligas? \nUnder våren fick Sverige äntligen en moderniserad ny könstillhörighetslag som skiljer den juridiska processen från den medicinska. Lagen syftar till att ge utökade möjligheter till självbestämmande\, förenklar och snabbar upp genomförandet. I förarbetet till lagen efterlyste många HBTQI-grupper även införandet av ett tredje juridiskt kön\, något som sen en tid tillbaka införts i flera andra länder. En sådan reform skulle ytterligare öka självbestämmandet för de med en trans och queeridentitet\, inte minst för icke-binära och intersexpersoner. Seminariet belyser behovet av införandet av ett tredje juridiskt kön och de politiska möjligheterna för detta. \nEtt tredje juridiskt kön – en reform för frihet a… | Stockholm Pride
URL:https://fpes.se/event/ett-tredje-juridiskt-kon-en-reform-for-frihet/
LOCATION:Clarion Hotel Sign\, Östra Järnvägsgatan 35\, 111 20 Stockholm\, Sverige\, Östra Järnvägsgatan 35\, Stockholm\, 11120\, Sweden
ORGANIZER;CN="fpes.kalender@gmail.com":MAILTO:fpes_kalender@gmail_com
END:VEVENT
BEGIN:VEVENT
DTSTART;TZID=Europe/Stockholm:20240801T140000
DTEND;TZID=Europe/Stockholm:20240801T150000
DTSTAMP:20260423T004223
CREATED:20240722T200246Z
LAST-MODIFIED:20240722T200246Z
UID:197731-1722520800-1722524400@fpes.se
SUMMARY:FPES i Pride Park
DESCRIPTION:Träffa FPES i Pride Park mellan kl 14-24
URL:https://fpes.se/event/fpes-i-pride-park-2/
LOCATION:Östermalms IP\, FISKARTORPSVÄGEN 2\, 114 33 Stockholm\, Sverige\, Södra Fiskartorpsvägen 2\, Stockholm\, 11433\, Sweden
ORGANIZER;CN="fpes.kalender@gmail.com":MAILTO:fpes_kalender@gmail_com
END:VEVENT
BEGIN:VEVENT
DTSTART;TZID=Europe/Stockholm:20240802T140000
DTEND;TZID=Europe/Stockholm:20240802T150000
DTSTAMP:20260423T004223
CREATED:20240722T200246Z
LAST-MODIFIED:20240722T200246Z
UID:197732-1722607200-1722610800@fpes.se
SUMMARY:FPES i Pride Park
DESCRIPTION:Träffa FPES i Pride Park mellan kl 14-01
URL:https://fpes.se/event/fpes-i-pride-park-3/
LOCATION:Östermalms IP\, FISKARTORPSVÄGEN 2\, 114 33 Stockholm\, Sverige\, Södra Fiskartorpsvägen 2\, Stockholm\, 11433\, Sweden
ORGANIZER;CN="fpes.kalender@gmail.com":MAILTO:fpes_kalender@gmail_com
END:VEVENT
BEGIN:VEVENT
DTSTART;TZID=Europe/Stockholm:20240803T130000
DTEND;TZID=Europe/Stockholm:20240803T150000
DTSTAMP:20260423T004223
CREATED:20240722T200246Z
LAST-MODIFIED:20240802T071556Z
UID:197734-1722690000-1722697200@fpes.se
SUMMARY:Gå med FPES i Pride Parade
DESCRIPTION:Gå med FPES i Pride Parade\, vi har startnummer 16\, samling 12.30 \n\nPride Parade
URL:https://fpes.se/event/ga-med-fpes-i-pride-parade-2/
LOCATION:Norr Mälarstrand\, Stockholm\, Sverige
ORGANIZER;CN="fpes.kalender@gmail.com":MAILTO:fpes_kalender@gmail_com
END:VEVENT
BEGIN:VEVENT
DTSTART;TZID=Europe/Stockholm:20240803T140000
DTEND;TZID=Europe/Stockholm:20240803T150000
DTSTAMP:20260423T004223
CREATED:20240722T200246Z
LAST-MODIFIED:20240722T200246Z
UID:197735-1722693600-1722697200@fpes.se
SUMMARY:FPES i Pride Park
DESCRIPTION:Träffa FPES i Pride Park mellan kl 14-01
URL:https://fpes.se/event/fpes-i-pride-park-4/
LOCATION:Östermalms IP\, FISKARTORPSVÄGEN 2\, 114 33 Stockholm\, Sverige\, Södra Fiskartorpsvägen 2\, Stockholm\, 11433\, Sweden
ORGANIZER;CN="fpes.kalender@gmail.com":MAILTO:fpes_kalender@gmail_com
END:VEVENT
BEGIN:VEVENT
DTSTART;TZID=Europe/Stockholm:20240804T130000
DTEND;TZID=Europe/Stockholm:20240804T150000
DTSTAMP:20260423T004223
CREATED:20240723T200446Z
LAST-MODIFIED:20240723T200446Z
UID:197738-1722776400-1722783600@fpes.se
SUMMARY:Brunch på Dynamo
DESCRIPTION:[ENGLISH BELOW]Varmt välkomna på TRANSBRUNCH.Denna gång bjuder vi på mysig brunch på Cafe Dynamo (Södermannagatan 38). Lokalen ligger på markplan och det finns en tillgänglighetsanpassad toalett.Vi bjuder på gratis vegansk mat\, kaffe/te och kakor. Det går att donera lite pengar\, cash eller swish\, men alla som behöver äter gratis.Transbrunchen är ett samarbete mellan Transammans Stockholm\, FPES Stockholm och Trans Fest Stockholm.Vårt mål är att skapa ett säkert utrymme för transpersoner i alla åldrar att träffas och ha det trevligt\, fika och kanske till och med få några nya vänner! \n————————————–Warmly welcome to TRANS BRUNCH.This time we are inviting you for the lovely brunch at ​​Cafe Dynamo (Södermannagatan 38). The venue is on the bottom floor and there is an accessible bathroom.There’ll be vegan food\, coffee/tea and cookies. You can donate some money\, cash or swish\, but everyone who needs it eats for free.The brunch is a collaboration between Transammans Stockholm\, FPES Förening för transpersoner Stockholm and Trans Fest Stockholm.Our aim is to create a safer space for trans people of all ages to meet and have a good time\, have some fika and maybe even make some new friends!
URL:https://fpes.se/event/brunch-pa-dynamo-13/
LOCATION:Demokratipiloterna\, Södermannagatan 38\, 116 40 Stockholm\, Sverige\, Södermannagatan 38\, Stockholm\, 11640\, Sverige
ORGANIZER;CN="fpes.kalender@gmail.com":MAILTO:fpes_kalender@gmail_com
END:VEVENT
BEGIN:VEVENT
DTSTART;TZID=Europe/Stockholm:20240821T190000
DTEND;TZID=Europe/Stockholm:20240821T210000
DTSTAMP:20260423T004223
CREATED:20240212T165956Z
LAST-MODIFIED:20240212T165956Z
UID:197003-1724266800-1724274000@fpes.se
SUMMARY:FPES Mellansverige Cafeträff
DESCRIPTION:Vi träffas som vanligt och fikar\, snackar och har det bra.Vi är i stora rummet längst in till höger. Välkomna!
URL:https://fpes.se/event/fpes-mellansverige-cafetraff-36/
LOCATION:Demokratipiloterna\, Södermannagatan 38\, 116 40 Stockholm\, Sverige\, Södermannagatan 38\, Stockholm\, 11640\, Sverige
END:VEVENT
BEGIN:VEVENT
DTSTART;TZID=Europe/Stockholm:20240822T180000
DTEND;TZID=Europe/Stockholm:20240822T200000
DTSTAMP:20260423T004223
CREATED:20240814T200212Z
LAST-MODIFIED:20240814T200212Z
UID:197795-1724349600-1724356800@fpes.se
SUMMARY:Göteborg: Äventyrsgolf
DESCRIPTION:Banan vid Linnéplatsen. FPES betalar. Om det regnar ställer vi in.
URL:https://fpes.se/event/goteborg-aventyrsgolf-2/
LOCATION:Slottsskogens äventyrsgolf\, Slottsskogen\, 413 10 Göteborg\, Sverige\, Slottsskogen\, Göteborg\, 41310\, Sweden
ORGANIZER;CN="fpes.kalender@gmail.com":MAILTO:fpes_kalender@gmail_com
END:VEVENT
BEGIN:VEVENT
DTSTART;TZID=Europe/Stockholm:20240901T130000
DTEND;TZID=Europe/Stockholm:20240901T150000
DTSTAMP:20260423T004223
CREATED:20240821T200302Z
LAST-MODIFIED:20240821T200302Z
UID:197816-1725195600-1725202800@fpes.se
SUMMARY:Brunch på Dynamo
DESCRIPTION:[ENGLISH BELOW]Varmt välkomna på TRANSBRUNCH.Denna gång bjuder vi på mysig brunch på Cafe Dynamo (Södermannagatan 38). Lokalen ligger på markplan och det finns en tillgänglighetsanpassad toalett.Vi bjuder på gratis vegansk mat\, kaffe/te och kakor. Det går att donera lite pengar\, cash eller swish\, men alla som behöver äter gratis.Transbrunchen är ett samarbete mellan Transammans Stockholm\, FPES Stockholm och Trans Fest Stockholm.Vårt mål är att skapa ett säkert utrymme för transpersoner i alla åldrar att träffas och ha det trevligt\, fika och kanske till och med få några nya vänner! \n————————————–Warmly welcome to TRANS BRUNCH.This time we are inviting you for the lovely brunch at ​​Cafe Dynamo (Södermannagatan 38). The venue is on the bottom floor and there is an accessible bathroom.There’ll be vegan food\, coffee/tea and cookies. You can donate some money\, cash or swish\, but everyone who needs it eats for free.The brunch is a collaboration between Transammans Stockholm\, FPES Förening för transpersoner Stockholm and Trans Fest Stockholm.Our aim is to create a safer space for trans people of all ages to meet and have a good time\, have some fika and maybe even make some new friends!
URL:https://fpes.se/event/brunch-pa-dynamo-22/
LOCATION:Demokratipiloterna\, Södermannagatan 38\, 116 40 Stockholm\, Sverige\, Södermannagatan 38\, Stockholm\, 11640\, Sverige
ORGANIZER;CN="fpes.kalender@gmail.com":MAILTO:fpes_kalender@gmail_com
END:VEVENT
BEGIN:VEVENT
DTSTART;TZID=Europe/Stockholm:20240904T190000
DTEND;TZID=Europe/Stockholm:20240904T210000
DTSTAMP:20260423T004223
CREATED:20240212T165956Z
LAST-MODIFIED:20240212T165956Z
UID:197004-1725476400-1725483600@fpes.se
SUMMARY:FPES Mellansverige Cafeträff
DESCRIPTION:Vi träffas som vanligt och fikar\, snackar och har det bra.Vi är i stora rummet längst in till höger. Välkomna!
URL:https://fpes.se/event/fpes-mellansverige-cafetraff-37/
LOCATION:Demokratipiloterna\, Södermannagatan 38\, 116 40 Stockholm\, Sverige\, Södermannagatan 38\, Stockholm\, 11640\, Sverige
END:VEVENT
BEGIN:VEVENT
DTSTART;TZID=Europe/Stockholm:20240918T190000
DTEND;TZID=Europe/Stockholm:20240918T210000
DTSTAMP:20260423T004223
CREATED:20240212T165956Z
LAST-MODIFIED:20240212T165956Z
UID:197005-1726686000-1726693200@fpes.se
SUMMARY:FPES Mellansverige Cafeträff
DESCRIPTION:Vi träffas som vanligt och fikar\, snackar och har det bra.Vi är i stora rummet längst in till höger. Välkomna!
URL:https://fpes.se/event/fpes-mellansverige-cafetraff-38/
LOCATION:Demokratipiloterna\, Södermannagatan 38\, 116 40 Stockholm\, Sverige\, Södermannagatan 38\, Stockholm\, 11640\, Sverige
END:VEVENT
BEGIN:VEVENT
DTSTART;VALUE=DATE:20240920
DTEND;VALUE=DATE:20240924
DTSTAMP:20260423T004223
CREATED:20240601T200320Z
LAST-MODIFIED:20240601T200320Z
UID:197580-1726797600-1727056799@fpes.se
SUMMARY:Båstadsträffen\, höst 2024
DESCRIPTION:Se bastadstraffen.se för info
URL:https://fpes.se/event/bastadstraffen-host-2024/
ORGANIZER;CN="fpes.kalender@gmail.com":MAILTO:fpes_kalender@gmail_com
END:VEVENT
BEGIN:VEVENT
DTSTART;TZID=Europe/Stockholm:20240924T190000
DTEND;TZID=Europe/Stockholm:20240924T203000
DTSTAMP:20260423T004223
CREATED:20240814T200212Z
LAST-MODIFIED:20240814T200212Z
UID:197796-1727204400-1727209800@fpes.se
SUMMARY:FPES Väst: Trivselträff
DESCRIPTION:Vi träffas i en lokal där vi är för oss själva i Regnbågshuset. https://goteborg.se/wps/portal/enhetssida/regnbagshuset/hitta-hit
URL:https://fpes.se/event/fpes-vast-trivseltraff/
LOCATION:Barlastgatan 2 (Amerikahuset)\, 414 63 Göteborg\, Sverige\, Barlastgatan 2\, Göteborg\, 41463\, Sverige
ORGANIZER;CN="fpes.kalender@gmail.com":MAILTO:fpes_kalender@gmail_com
END:VEVENT
BEGIN:VEVENT
DTSTART;TZID=Europe/Stockholm:20241002T190000
DTEND;TZID=Europe/Stockholm:20241002T210000
DTSTAMP:20260423T004223
CREATED:20240629T200215Z
LAST-MODIFIED:20240629T200215Z
UID:197670-1727895600-1727902800@fpes.se
SUMMARY:FPES Mellansverige Cafeträff
DESCRIPTION:Vi träffas som vanligt och fikar\, snackar och har det bra.Vi är i stora rummet längst in till höger. Välkomna!
URL:https://fpes.se/event/fpes-mellansverige-cafetraff-15/
LOCATION:Demokratipiloterna\, Södermannagatan 38\, 116 40 Stockholm\, Sverige\, Södermannagatan 38\, Stockholm\, 11640\, Sverige
ORGANIZER;CN="fpes.kalender@gmail.com":MAILTO:fpes_kalender@gmail_com
END:VEVENT
BEGIN:VEVENT
DTSTART;TZID=Europe/Stockholm:20241006T130000
DTEND;TZID=Europe/Stockholm:20241006T150000
DTSTAMP:20260423T004223
CREATED:20240821T200303Z
LAST-MODIFIED:20240821T200303Z
UID:197817-1728219600-1728226800@fpes.se
SUMMARY:Brunch på Dynamo
DESCRIPTION:[ENGLISH BELOW]Varmt välkomna på TRANSBRUNCH.Denna gång bjuder vi på mysig brunch på Cafe Dynamo (Södermannagatan 38). Lokalen ligger på markplan och det finns en tillgänglighetsanpassad toalett.Vi bjuder på gratis vegansk mat\, kaffe/te och kakor. Det går att donera lite pengar\, cash eller swish\, men alla som behöver äter gratis.Transbrunchen är ett samarbete mellan Transammans Stockholm\, FPES Stockholm och Trans Fest Stockholm.Vårt mål är att skapa ett säkert utrymme för transpersoner i alla åldrar att träffas och ha det trevligt\, fika och kanske till och med få några nya vänner! \n————————————–Warmly welcome to TRANS BRUNCH.This time we are inviting you for the lovely brunch at ​​Cafe Dynamo (Södermannagatan 38). The venue is on the bottom floor and there is an accessible bathroom.There’ll be vegan food\, coffee/tea and cookies. You can donate some money\, cash or swish\, but everyone who needs it eats for free.The brunch is a collaboration between Transammans Stockholm\, FPES Förening för transpersoner Stockholm and Trans Fest Stockholm.Our aim is to create a safer space for trans people of all ages to meet and have a good time\, have some fika and maybe even make some new friends!
URL:https://fpes.se/event/brunch-pa-dynamo-23/
LOCATION:Demokratipiloterna\, Södermannagatan 38\, 116 40 Stockholm\, Sverige\, Södermannagatan 38\, Stockholm\, 11640\, Sverige
ORGANIZER;CN="fpes.kalender@gmail.com":MAILTO:fpes_kalender@gmail_com
END:VEVENT
BEGIN:VEVENT
DTSTART;TZID=Europe/Stockholm:20241009T183000
DTEND;TZID=Europe/Stockholm:20241009T203000
DTSTAMP:20260423T004223
CREATED:20240923T200652Z
LAST-MODIFIED:20240925T180746Z
UID:197889-1728498600-1728505800@fpes.se
SUMMARY:Månadsmöte FPES-Sydost
DESCRIPTION:Hej!\nNu börjar hösten komma på allvar.\nSå här efter sommaren är det dags att köra igång med våra små månadsmöten.\nVi träffas onsdag 9 okt kl 18.30 Restaurang Sit and Go i Växjö\, se kartlänk nedan\nGärna ett litet mejl till mig om du/ni kommer. Såklart så får anhöriga följa med om de vill. \nVäl mött\, Tiina \ntiina.deore@gmail.com \nSit & Go – Google Maps
URL:https://fpes.se/event/manadsmote-fpes-sydost-8/
LOCATION:Restaurang Sit & Go\, Storgatan 40\, 352 30 Växjö\, Sverige\, Storgatan 40\, Växjö\, 35230\, Sverige
ORGANIZER;CN="fpes.kalender@gmail.com":MAILTO:fpes_kalender@gmail_com
END:VEVENT
BEGIN:VEVENT
DTSTART;TZID=Europe/Stockholm:20241016T190000
DTEND;TZID=Europe/Stockholm:20241016T210000
DTSTAMP:20260423T004223
CREATED:20240212T165956Z
LAST-MODIFIED:20240212T165956Z
UID:197007-1729105200-1729112400@fpes.se
SUMMARY:FPES Mellansverige Cafeträff
DESCRIPTION:Vi träffas som vanligt och fikar\, snackar och har det bra.Vi är i stora rummet längst in till höger. Välkomna!
URL:https://fpes.se/event/fpes-mellansverige-cafetraff-40/
LOCATION:Demokratipiloterna\, Södermannagatan 38\, 116 40 Stockholm\, Sverige\, Södermannagatan 38\, Stockholm\, 11640\, Sverige
END:VEVENT
BEGIN:VEVENT
DTSTART;VALUE=DATE:20241019
DTEND;VALUE=DATE:20241021
DTSTAMP:20260423T004223
CREATED:20240925T200236Z
LAST-MODIFIED:20240925T200236Z
UID:197902-1729303200-1729389599@fpes.se
SUMMARY:Höstmöte
DESCRIPTION:Se info i din mail eller i forumet
URL:https://fpes.se/event/hostmote-3/
ORGANIZER;CN="fpes.kalender@gmail.com":MAILTO:fpes_kalender@gmail_com
END:VEVENT
END:VCALENDAR