BEGIN:VCALENDAR
VERSION:2.0
PRODID:-//FPES - ECPv6.15.20//NONSGML v1.0//EN
CALSCALE:GREGORIAN
METHOD:PUBLISH
X-WR-CALNAME:FPES
X-ORIGINAL-URL:https://fpes.se
X-WR-CALDESC:Händelser för FPES
REFRESH-INTERVAL;VALUE=DURATION:PT1H
X-Robots-Tag:noindex
X-PUBLISHED-TTL:PT1H
BEGIN:VTIMEZONE
TZID:Europe/Stockholm
BEGIN:DAYLIGHT
TZOFFSETFROM:+0100
TZOFFSETTO:+0200
TZNAME:CEST
DTSTART:20240331T010000
END:DAYLIGHT
BEGIN:STANDARD
TZOFFSETFROM:+0200
TZOFFSETTO:+0100
TZNAME:CET
DTSTART:20241027T010000
END:STANDARD
BEGIN:DAYLIGHT
TZOFFSETFROM:+0100
TZOFFSETTO:+0200
TZNAME:CEST
DTSTART:20250330T010000
END:DAYLIGHT
BEGIN:STANDARD
TZOFFSETFROM:+0200
TZOFFSETTO:+0100
TZNAME:CET
DTSTART:20251026T010000
END:STANDARD
BEGIN:DAYLIGHT
TZOFFSETFROM:+0100
TZOFFSETTO:+0200
TZNAME:CEST
DTSTART:20260329T010000
END:DAYLIGHT
BEGIN:STANDARD
TZOFFSETFROM:+0200
TZOFFSETTO:+0100
TZNAME:CET
DTSTART:20261025T010000
END:STANDARD
END:VTIMEZONE
BEGIN:VEVENT
DTSTART;TZID=Europe/Stockholm:20250219T190000
DTEND;TZID=Europe/Stockholm:20250219T200000
DTSTAMP:20260422T004731
CREATED:20250121T190253Z
LAST-MODIFIED:20250121T190253Z
UID:198294-1739991600-1739995200@fpes.se
SUMMARY:Årsmöte FPES mellansverige
DESCRIPTION:
URL:https://fpes.se/event/arsmote-fpes-mellansverige/
LOCATION:Demokratipiloterna\, Södermannagatan 38\, 116 40 Stockholm\, Sverige\, Södermannagatan 38\, Stockholm\, 11640\, Sverige
ORGANIZER;CN="fpes.kalender@gmail.com":MAILTO:fpes_kalender@gmail_com
END:VEVENT
BEGIN:VEVENT
DTSTART;TZID=Europe/Stockholm:20250219T200000
DTEND;TZID=Europe/Stockholm:20250219T210000
DTSTAMP:20260422T004731
CREATED:20250121T190253Z
LAST-MODIFIED:20250121T190503Z
UID:198295-1739995200-1739998800@fpes.se
SUMMARY:FPES Mellansverige Cafeträff
DESCRIPTION:Vi träffas som vanligt och fikar\, snackar och har det bra \nVi är i stora rummet längst in till höger. Välkomna!
URL:https://fpes.se/event/fpes-mellansverige-cafetraff-32/
LOCATION:Demokratipiloterna\, Södermannagatan 38\, 116 40 Stockholm\, Sverige\, Södermannagatan 38\, Stockholm\, 11640\, Sverige
ORGANIZER;CN="fpes.kalender@gmail.com":MAILTO:fpes_kalender@gmail_com
END:VEVENT
BEGIN:VEVENT
DTSTART;TZID=Europe/Stockholm:20250227T190000
DTEND;TZID=Europe/Stockholm:20250227T203000
DTSTAMP:20260422T004731
CREATED:20241205T200235Z
LAST-MODIFIED:20250213T185358Z
UID:198098-1740682800-1740688200@fpes.se
SUMMARY:FPES Väst: Månadsträff
DESCRIPTION:Vi träffas i en lokal där vi är för oss själva i Regnbågshuset.\nhttps://goteborg.se/wps/portal/enhetssida/regnbagshuset/hitta-hit
URL:https://fpes.se/event/fpes-vast-manadstraff/
LOCATION:Barlastgatan 2 (Amerikahuset)\, 414 63 Göteborg\, Sverige\, Barlastgatan 2\, Göteborg\, 41463\, Sverige
ORGANIZER;CN="fpes.kalender@gmail.com":MAILTO:fpes_kalender@gmail_com
END:VEVENT
BEGIN:VEVENT
DTSTART;TZID=Europe/Stockholm:20250301T130000
DTEND;TZID=Europe/Stockholm:20250301T150000
DTSTAMP:20260422T004731
CREATED:20250222T101503Z
LAST-MODIFIED:20250222T101828Z
UID:198468-1740834000-1740841200@fpes.se
SUMMARY:Årsmöte FPES
DESCRIPTION:Välkommen till FPES årsmöte 2025\, för mera info se mail som gått ut till dig som är medlem.
URL:https://fpes.se/event/arsmote-fpes-2/
LOCATION:Stockholm\, Sverige
ORGANIZER;CN="fpes.kalender@gmail.com":MAILTO:fpes_kalender@gmail_com
END:VEVENT
BEGIN:VEVENT
DTSTART;TZID=Europe/Stockholm:20250302T130000
DTEND;TZID=Europe/Stockholm:20250302T150000
DTSTAMP:20260422T004731
CREATED:20250222T101503Z
LAST-MODIFIED:20250222T102614Z
UID:198469-1740920400-1740927600@fpes.se
SUMMARY:Brunch på Dynamo
DESCRIPTION:[ENGLISH BELOW]\nVarmt välkomna på TRANSBRUNCH.\nDenna gång bjuder vi på mysig brunch på Cafe Dynamo (Södermannagatan 38). Lokalen ligger på markplan och det finns en tillgänglighetsanpassad toalett.\nVi bjuder på gratis vegansk mat\, kaffe/te och kakor. Det går att donera lite pengar\, cash eller swish\, men alla som behöver äter gratis.\nTransbrunchen är ett samarbete mellan Transammans Stockholm\, FPES Stockholm och Trans Fest Stockholm.\nVårt mål är att skapa ett säkert utrymme för transpersoner i alla åldrar att träffas och ha det trevligt\, fika och kanske till och med få några nya vänner! \n————————————–\nWarmly welcome to TRANS BRUNCH.\nThis time we are inviting you for the lovely brunch at ​​Cafe Dynamo (Södermannagatan 38). The venue is on the bottom floor and there is an accessible bathroom.\nThere’ll be vegan food\, coffee/tea and cookies. You can donate some money\, cash or swish\, but everyone who needs it eats for free.\nThe brunch is a collaboration between Transammans Stockholm\, FPES Förening för transpersoner Stockholm and Trans Fest Stockholm.\nOur aim is to create a safer space for trans people of all ages to meet and have a good time\, have some fika and maybe even make some new friends!
URL:https://fpes.se/event/brunch-pa-dynamo-30/
LOCATION:Demokratipiloterna\, Södermannagatan 38\, 116 40 Stockholm\, Sverige\, Södermannagatan 38\, Stockholm\, 11640\, Sverige
ORGANIZER;CN="fpes.kalender@gmail.com":MAILTO:fpes_kalender@gmail_com
END:VEVENT
BEGIN:VEVENT
DTSTART;TZID=Europe/Stockholm:20250305T183000
DTEND;TZID=Europe/Stockholm:20250305T203000
DTSTAMP:20260422T004731
CREATED:20250225T080214Z
LAST-MODIFIED:20250303T181455Z
UID:198492-1741199400-1741206600@fpes.se
SUMMARY:Månadsmöte FPES-Sydost
DESCRIPTION:Månadsmöte FPES-Sydost. Den här gången träffas vi i Karlskrona\nOnsd 5/3 kl 18.30 Home Hotel Strawberry (f.d Clarion)\, se kartlänk nedan\nGärna en liten hint till mig om du/ni kommer.\nVäl mött\, Tiina \nhttps://maps.app.goo.gl/xBANc2fLVwJbPjFbA
URL:https://fpes.se/event/manadsmote-fpes-sydost-10/
LOCATION:Home Hotel Carlscrona\, Skeppsbrokajen\, 371 33 Karlskrona\, Sverige\, Skeppsbrokajen\, Karlskrona\, 37133\, Sweden
ORGANIZER;CN="fpes.kalender@gmail.com":MAILTO:fpes_kalender@gmail_com
END:VEVENT
BEGIN:VEVENT
DTSTART;TZID=Europe/Stockholm:20250305T190000
DTEND;TZID=Europe/Stockholm:20250305T210000
DTSTAMP:20260422T004731
CREATED:20250106T200216Z
LAST-MODIFIED:20250213T185912Z
UID:198201-1741201200-1741208400@fpes.se
SUMMARY:FPES Mellansverige Cafeträff
DESCRIPTION:Vi träffas som vanligt och fikar\, snackar och har det bra. \nVi är i stora rummet längst in till höger. Välkomna!
URL:https://fpes.se/event/fpes-mellansverige-cafetraff-33/
LOCATION:Demokratipiloterna\, Södermannagatan 38\, 116 40 Stockholm\, Sverige\, Södermannagatan 38\, Stockholm\, 11640\, Sverige
ORGANIZER;CN="fpes.kalender@gmail.com":MAILTO:fpes_kalender@gmail_com
END:VEVENT
BEGIN:VEVENT
DTSTART;TZID=Europe/Stockholm:20250306T190000
DTEND;TZID=Europe/Stockholm:20250306T200000
DTSTAMP:20260422T004731
CREATED:20250209T200214Z
LAST-MODIFIED:20250213T185701Z
UID:198390-1741287600-1741291200@fpes.se
SUMMARY:Närståendeträff - digital
DESCRIPTION:Välkomna till digitala närståendeträffar följande datum\nkl. 19-20 \n6 mars\n8 april\n8 maj \nVi som leder träffarna är inte professionella utan själva närstående på olika sätt. Träffarna syftar till att få möjlighet att prata med andra närstående och stötta varandra. \nFör att delta; maila narstaende@fpes.se så får du en länk till mötet.
URL:https://fpes.se/event/narstaendetraff-digital-5/
ORGANIZER;CN="fpes.kalender@gmail.com":MAILTO:fpes_kalender@gmail_com
END:VEVENT
BEGIN:VEVENT
DTSTART;TZID=Europe/Stockholm:20250307T190000
DTEND;TZID=Europe/Stockholm:20250307T235900
DTSTAMP:20260422T004731
CREATED:20250225T080214Z
LAST-MODIFIED:20250225T080214Z
UID:198493-1741374000-1741391940@fpes.se
SUMMARY:FPES Syd: ClubTransparence
DESCRIPTION:Se mail som gått till dig som är med i avdelning syd
URL:https://fpes.se/event/fpes-syd-clubtransparence-9/
ORGANIZER;CN="fpes.kalender@gmail.com":MAILTO:fpes_kalender@gmail_com
END:VEVENT
BEGIN:VEVENT
DTSTART;TZID=Europe/Stockholm:20250308T140000
DTEND;TZID=Europe/Stockholm:20250308T150000
DTSTAMP:20260422T004731
CREATED:20250220T200208Z
LAST-MODIFIED:20250220T200208Z
UID:198460-1741442400-1741446000@fpes.se
SUMMARY:FPES Norr årsmöte
DESCRIPTION:
URL:https://fpes.se/event/fpes-norr-arsmote/
ORGANIZER;CN="fpes.kalender@gmail.com":MAILTO:fpes_kalender@gmail_com
END:VEVENT
BEGIN:VEVENT
DTSTART;TZID=Europe/Stockholm:20250311T190000
DTEND;TZID=Europe/Stockholm:20250311T200000
DTSTAMP:20260422T004731
CREATED:20250220T200208Z
LAST-MODIFIED:20250220T200208Z
UID:198461-1741719600-1741723200@fpes.se
SUMMARY:FPES Närstående årsmöte
DESCRIPTION:
URL:https://fpes.se/event/fpes-narstaende-arsmote/
ORGANIZER;CN="fpes.kalender@gmail.com":MAILTO:fpes_kalender@gmail_com
END:VEVENT
BEGIN:VEVENT
DTSTART;TZID=Europe/Stockholm:20250318T190000
DTEND;TZID=Europe/Stockholm:20250318T203000
DTSTAMP:20260422T004731
CREATED:20241205T200235Z
LAST-MODIFIED:20250222T102833Z
UID:198099-1742324400-1742329800@fpes.se
SUMMARY:FPES Väst: Månadsträff
DESCRIPTION:Vi träffas i en lokal där vi är för oss själva i Regnbågshuset.\nhttps://goteborg.se/wps/portal/enhetssida/regnbagshuset/hitta-hit
URL:https://fpes.se/event/fpes-vast-manadstraff-2/
LOCATION:Barlastgatan 2 (Amerikahuset)\, 414 63 Göteborg\, Sverige\, Barlastgatan 2\, Göteborg\, 41463\, Sverige
ORGANIZER;CN="fpes.kalender@gmail.com":MAILTO:fpes_kalender@gmail_com
END:VEVENT
BEGIN:VEVENT
DTSTART;TZID=Europe/Stockholm:20250319T190000
DTEND;TZID=Europe/Stockholm:20250319T210000
DTSTAMP:20260422T004731
CREATED:20250310T205622Z
LAST-MODIFIED:20250310T205916Z
UID:198607-1742410800-1742418000@fpes.se
SUMMARY:FPES Mellansverige Temakväll
DESCRIPTION:Välkommen till Caféträff och Diskussionskväll! \nKvällens tema: Ånger \nVi är glada att bjuda in er till en caféträff där vi\, utöver att umgås och socialisera\, kommer att fördjupa oss i följande: Att ångra sig – hur vanligt är det och vad beror det på? I dagens debatt om transpersoner dyker temat ”ånger” ofta upp. Aven del kritiker får vi ofta höra att det är väldigt vanligt att vi transpersoner ångrar våra olika ingrepp eller hela vår transition. Hur ligger det till med detta? Vi ska börja med att bena ut vad en egentligen menar med att ångra sig. Handlar det om enskilda förändringar eller mer än så? Vi ska också försöka diskutera orsakerna bakom: beror det på feldiagnoser\, dåligt bemötande i samhället eller på personlig utveckling? \nFPES ordförande Helena Berglund kommer att inleda med att definiera begreppet ”ånger” och sen kort ge en bild av hur forskningen kring detta fenomen ser ut. Samtalet beräknas ta ca en timme\, efter det har vi vårt vanliga café. \nDatum: Onsdag 19/3 \nTid: 19:00 \nPlats: Café Dynamo\, Södermannagatan 38 \nDenna träff är den femte en serie där specifika och aktuella ämnen kommer att lyftas och diskuteras. Alla medlemmar samt andra transpersoner och allierade är välkomna. \nFPES Mellansverige
URL:https://fpes.se/event/fpes-mellansverige-temakvall/
LOCATION:Demokratipiloterna\, Södermannagatan 38\, 116 40 Stockholm\, Sverige\, Södermannagatan 38\, Stockholm\, 11640\, Sverige
ORGANIZER;CN="fpes.kalender@gmail.com":MAILTO:fpes_kalender@gmail_com
END:VEVENT
BEGIN:VEVENT
DTSTART;VALUE=DATE:20250328
DTEND;VALUE=DATE:20250330
DTSTAMP:20260422T004731
CREATED:20250303T180316Z
LAST-MODIFIED:20250306T041935Z
UID:198516-1743120000-1743292799@fpes.se
SUMMARY:Båstadsträffen\, prova-på-övernattning
DESCRIPTION:INBJUDAN! \nDags för en liten favorit i repris! \nSom de flesta vet så har vi fått flytta vårträffen från Båstad till Erikslund. Pga av det så tänkte vi ha en ”prova-på-övernattning” där för de som känner sig hugade. \nDe som kan tänka sig en natt på Hotell Erikslund strax söder om Ängelholm är välkomna i så fall. Vi betalar boende & mat ur egen ficka. Det blir inga programpunkter. Se det som en liten happening. \nDatum; 28-29/3\nBokning sker individuellt via de olika bokningsalternativ som finns. Det behövs inte uppges någon referens vid bokning\, men skicka gärna ett mejl till tiina.deore@gmail.com så vi kan hålla lite koll på antalet intressenter. \nVäl mött\, Båstadsstyrelsen\, gm Tiina Deore\nhttps://www.hotellerikslund.se Telefon; 0431-415 700
URL:https://fpes.se/event/bastadstraffen-prova-pa-overnattning/
LOCATION:Hotell Erikslund\, Åstorpsvägen 15\, 262 96 Ängelholm\, Sverige\, Åstorpsvägen 15\, Ängelholm\, 26296\, Sweden
ORGANIZER;CN="fpes.kalender@gmail.com":MAILTO:fpes_kalender@gmail_com
END:VEVENT
BEGIN:VEVENT
DTSTART;TZID=Europe/Stockholm:20250402T190000
DTEND;TZID=Europe/Stockholm:20250402T210000
DTSTAMP:20260422T004731
CREATED:20250106T200216Z
LAST-MODIFIED:20250326T195400Z
UID:198203-1743620400-1743627600@fpes.se
SUMMARY:FPES Mellansverige Cafeträff
DESCRIPTION:Vi träffas som vanligt och fikar\, snackar och har det bra. \nVi är i stora rummet längst in till höger. \nVälkomna!
URL:https://fpes.se/event/fpes-mellansverige-cafetraff-35/
LOCATION:Demokratipiloterna\, Södermannagatan 38\, 116 40 Stockholm\, Sverige\, Södermannagatan 38\, Stockholm\, 11640\, Sverige
ORGANIZER;CN="fpes.kalender@gmail.com":MAILTO:fpes_kalender@gmail_com
END:VEVENT
BEGIN:VEVENT
DTSTART;TZID=Europe/Stockholm:20250403T190000
DTEND;TZID=Europe/Stockholm:20250403T203000
DTSTAMP:20260422T004731
CREATED:20250326T195224Z
LAST-MODIFIED:20250326T195524Z
UID:198654-1743706800-1743712200@fpes.se
SUMMARY:FPES Rixcafé
DESCRIPTION:Har du funderingar om din könsidentitet? Vill du träffas för ett samtal? Vi bjuder nu in till web-baserade möten där vi kan träffas och diskutera\, stödja och hjälpa varandra. \nDet spelar ingen roll hur om du definierar dig som transfeminin\, transmaskulin\, icke-binär eller tycker att ingen av dessa eller andra beteckningar passar in. Även anhöriga till transpersoner är välkomna. \nDu behöver inte vara medlem i FPES och vi riktar oss särskilt till de som av olika anledningar inte kan närvara på de lokala möten som föreningen redan nu arrangerar. \nGruppen leds avtvå personer som har egen erfarenhet av att leva som transpersoner och som också medverkat i olika fysiska samtalsgrupper. \nVi kommer att inleda mötet med en kort runda där alla kan presentera sig och berätta vad de skulle vilja ta upp på mötet men det går också bra att vara med och bara lyssna. Om du vill så är du välkommen att kort berätta om dig själv och hur du ser på det kommande mötet. Du väljer själv vilket namn du vill använda vid mötet och du behöver inte medverka i bild om du inte så önskar. \nAnmäl dig här:     https://simplesignup.se/private_event/221472/a8a6ef2d81 \nVälkomna! \nTui och Helena
URL:https://fpes.se/event/fpes-rixcafe-23/
ORGANIZER;CN="fpes.kalender@gmail.com":MAILTO:fpes_kalender@gmail_com
END:VEVENT
BEGIN:VEVENT
DTSTART;TZID=Europe/Stockholm:20250404T190000
DTEND;TZID=Europe/Stockholm:20250404T235900
DTSTAMP:20260422T004731
CREATED:20250325T200215Z
LAST-MODIFIED:20250325T200215Z
UID:198651-1743793200-1743811140@fpes.se
SUMMARY:FPES Syd: ClubTransparence
DESCRIPTION:Se mail som gått till dig som är med i avdelning syd
URL:https://fpes.se/event/fpes-syd-clubtransparence-10/
ORGANIZER;CN="fpes.kalender@gmail.com":MAILTO:fpes_kalender@gmail_com
END:VEVENT
BEGIN:VEVENT
DTSTART;TZID=Europe/Stockholm:20250406T130000
DTEND;TZID=Europe/Stockholm:20250406T150000
DTSTAMP:20260422T004731
CREATED:20250222T101503Z
LAST-MODIFIED:20250326T200206Z
UID:198470-1743944400-1743951600@fpes.se
SUMMARY:Brunch på Dynamo
DESCRIPTION:[ENGLISH BELOW]\nVarmt välkomna på TRANSBRUNCH.\nDenna gång bjuder vi på mysig brunch på Cafe Dynamo (Södermannagatan 38). Lokalen ligger på markplan och det finns en tillgänglighetsanpassad toalett.\nVi bjuder på gratis vegansk mat\, kaffe/te och kakor. Det går att donera lite pengar\, cash eller swish\, men alla som behöver äter gratis.\nTransbrunchen är ett samarbete mellan Transammans Stockholm\, FPES Stockholm och Trans Fest Stockholm. Vårt mål är att skapa ett säkert utrymme för transpersoner i alla åldrar att träffas och ha det trevligt\, fika och kanske till och med få några nya vänner! \n————————————–\nWarmly welcome to TRANS BRUNCH.\nThis time we are inviting you for the lovely brunch at ​​Cafe Dynamo (Södermannagatan 38). The venue is on the bottom floor and there is an accessible bathroom.\nThere’ll be vegan food\, coffee/tea and cookies. You can donate some money\, cash or swish\, but everyone who needs it eats for free.\nThe brunch is a collaboration between Transammans Stockholm\, FPES Förening för transpersoner Stockholm and Trans Fest Stockholm.\nOur aim is to create a safer space for trans people of all ages to meet and have a good time\, have some fika and maybe even make some new friends!
URL:https://fpes.se/event/brunch-pa-dynamo-31/
LOCATION:Demokratipiloterna\, Södermannagatan 38\, 116 40 Stockholm\, Sverige\, Södermannagatan 38\, Stockholm\, 11640\, Sverige
ORGANIZER;CN="fpes.kalender@gmail.com":MAILTO:fpes_kalender@gmail_com
END:VEVENT
BEGIN:VEVENT
DTSTART;TZID=Europe/Stockholm:20250408T190000
DTEND;TZID=Europe/Stockholm:20250408T200000
DTSTAMP:20260422T004731
CREATED:20250209T200214Z
LAST-MODIFIED:20250326T200438Z
UID:198391-1744138800-1744142400@fpes.se
SUMMARY:Närståendeträff - digital
DESCRIPTION:Välkomna till digitala närståendeträffar följande datum\nkl. 19-20 \n8 april\n8 maj \nVi som leder träffarna är inte professionella utan själva närstående på olika sätt.\nTräffarna syftar till att få möjlighet att prata med andra närstående och stötta varandra.\nFör att delta; maila narstaende@fpes.se så får du en länk till mötet.
URL:https://fpes.se/event/narstaendetraff-digital-6/
ORGANIZER;CN="fpes.kalender@gmail.com":MAILTO:fpes_kalender@gmail_com
END:VEVENT
BEGIN:VEVENT
DTSTART;TZID=Europe/Stockholm:20250416T190000
DTEND;TZID=Europe/Stockholm:20250416T210000
DTSTAMP:20260422T004731
CREATED:20250106T200216Z
LAST-MODIFIED:20250412T102919Z
UID:198204-1744830000-1744837200@fpes.se
SUMMARY:FPES Mellansverige Temakväll
DESCRIPTION:Välkommen till Caféträff och Diskussionskväll! \nKvällens tema: Hormonbehandlingar \nVi är glada att bjuda in er till en caféträff där vi\, utöver att umgås och socialisera\, kommer att fördjupa oss i följande: Hormonbehandlingar – vilka är våra erfarenheter? \nFPES ordförande Helena Berglund kommer att inleda med att kort gå igenom hur nuvarande svensk praxis ser ut för hormonbehandling. Efter det blir det mer personliga reflektioner\, från både transfeminina och transmaskulina. Huvudpunkten kommer inte att vara några nyheter inom behandling eller forskning utan snarare att vi delar bra och dåliga erfarenheter. Det går också bra att komma och bara lyssna om du är transperson som funderar eller väntar på behandling. Samtalet beräknas ta ca en timme\, efter det har vi vårt vanliga café. \n  \nDatum: Onsdag 16/4 \nTid: 19:00 \nPlats: Café Dynamo\, Södermannagatan 38 \n  \nDenna träff är den femte en serie där specifika och aktuella ämnen kommer att lyftas och diskuteras. Alla medlemmar samt andra transpersoner och nära allierade är välkomna. \n  \nFPES Mellansverige \n 
URL:https://fpes.se/event/fpes-mellansverige-cafetraff-39/
LOCATION:Demokratipiloterna\, Södermannagatan 38\, 116 40 Stockholm\, Sverige\, Södermannagatan 38\, Stockholm\, 11640\, Sverige
ORGANIZER;CN="fpes.kalender@gmail.com":MAILTO:fpes_kalender@gmail_com
END:VEVENT
BEGIN:VEVENT
DTSTART;TZID=Europe/Stockholm:20250416T190000
DTEND;TZID=Europe/Stockholm:20250416T210000
DTSTAMP:20260422T004731
CREATED:20250412T200208Z
LAST-MODIFIED:20250412T200208Z
UID:198712-1744830000-1744837200@fpes.se
SUMMARY:FPES Mellansverige Temakväll
DESCRIPTION:Välkommentill Caféträff och Diskussionskväll!  \n  \nKvällenstema: Hormonbehandlingar \n  \nVi är gladaatt bjuda in er till en caféträff där vi\, utöver att umgås och socialisera\,kommer att fördjupa oss i följande: Hormonbehandlingar – vilka är våraerfarenheter? \n  \nFPESordförande Helena Berglund kommer att inleda med att kort gå igenom hurnuvarande svensk praxis ser ut för hormonbehandling. Efter det blir det merpersonliga reflektioner\, från både transfeminina och transmaskulina.Huvudpunkten kommer inte att vara några nyheter inom behandling eller forskningutan snarare att vi delar bra och dåliga erfarenheter. Det går också bra attkomma och bara lyssna om du är transperson som funderar eller väntar påbehandling. Samtalet beräknas ta ca en timme\, efter det har vi vårt vanligacafé. \n  \nDatum: Onsdag16/4 \nTid: 19:00 \nPlats: CaféDynamo\, Södermannagatan 38 \n  \nDenna träffär den femte en serie där specifika och aktuella ämnen kommer att lyftas ochdiskuteras. Alla medlemmar samt andra transpersoner och nära allierade ärvälkomna.  \n  \nFPESMellansverige \n 
URL:https://fpes.se/event/fpes-mellansverige-temakvall-2/
LOCATION:Demokratipiloterna\, Södermannagatan 38\, 116 40 Stockholm\, Sverige\, Södermannagatan 38\, Stockholm\, 11640\, Sverige
ORGANIZER;CN="fpes.kalender@gmail.com":MAILTO:fpes_kalender@gmail_com
END:VEVENT
BEGIN:VEVENT
DTSTART;TZID=Europe/Stockholm:20250424T190000
DTEND;TZID=Europe/Stockholm:20250424T203000
DTSTAMP:20260422T004731
CREATED:20241205T200235Z
LAST-MODIFIED:20250412T103117Z
UID:198100-1745521200-1745526600@fpes.se
SUMMARY:FPES Väst: Månadsträff
DESCRIPTION:Vi träffas i en lokal där vi är för oss själva i Regnbågshuset.\nhttps://goteborg.se/wps/portal/enhetssida/regnbagshuset/hitta-hit
URL:https://fpes.se/event/fpes-vast-manadstraff-3/
LOCATION:Barlastgatan 2 (Amerikahuset)\, 414 63 Göteborg\, Sverige\, Barlastgatan 2\, Göteborg\, 41463\, Sverige
ORGANIZER;CN="fpes.kalender@gmail.com":MAILTO:fpes_kalender@gmail_com
END:VEVENT
BEGIN:VEVENT
DTSTART;TZID=Europe/Stockholm:20250430T190000
DTEND;TZID=Europe/Stockholm:20250430T210000
DTSTAMP:20260422T004731
CREATED:20250106T200216Z
LAST-MODIFIED:20250416T192959Z
UID:198205-1746039600-1746046800@fpes.se
SUMMARY:Inställt - FPES Mellansverige Cafeträff
DESCRIPTION:Inställt pga valborgsmässoafton\, men väldigt välkommen till brunchen på söndag 4 maj kl 13.
URL:https://fpes.se/event/fpes-mellansverige-cafetraff-41/
LOCATION:Demokratipiloterna\, Södermannagatan 38\, 116 40 Stockholm\, Sverige\, Södermannagatan 38\, Stockholm\, 11640\, Sverige
ORGANIZER;CN="fpes.kalender@gmail.com":MAILTO:fpes_kalender@gmail_com
END:VEVENT
BEGIN:VEVENT
DTSTART;TZID=Europe/Stockholm:20250430T190000
DTEND;TZID=Europe/Stockholm:20250430T210000
DTSTAMP:20260422T004731
CREATED:20250416T200241Z
LAST-MODIFIED:20250416T200241Z
UID:198723-1746039600-1746046800@fpes.se
SUMMARY:Inställd - FPES Mellansverige Cafeträff
DESCRIPTION:Inställd pga av valborgsmässoafton.
URL:https://fpes.se/event/installd-fpes-mellansverige-cafetraff/
LOCATION:Demokratipiloterna\, Södermannagatan 38\, 116 40 Stockholm\, Sverige\, Södermannagatan 38\, Stockholm\, 11640\, Sverige
ORGANIZER;CN="fpes.kalender@gmail.com":MAILTO:fpes_kalender@gmail_com
END:VEVENT
BEGIN:VEVENT
DTSTART;TZID=Europe/Stockholm:20250504T130000
DTEND;TZID=Europe/Stockholm:20250504T150000
DTSTAMP:20260422T004731
CREATED:20250502T123422Z
LAST-MODIFIED:20250502T123422Z
UID:198969-1746363600-1746370800@fpes.se
SUMMARY:Brunch på Dynamo
DESCRIPTION:[ENGLISH BELOW]Varmt välkomna på TRANSBRUNCH.Denna gång bjuder vi på mysig brunch på Cafe Dynamo (Södermannagatan 38). Lokalen ligger på markplan och det finns en tillgänglighetsanpassad toalett.Vi bjuder på gratis vegansk mat\, kaffe/te och kakor. Det går att donera lite pengar\, cash eller swish\, men alla som behöver äter gratis.Transbrunchen är ett samarbete mellan Transammans Stockholm\, FPES Stockholm och Trans Fest Stockholm.Vårt mål är att skapa ett säkert utrymme för transpersoner i alla åldrar att träffas och ha det trevligt\, fika och kanske till och med få några nya vänner! \n————————————–Warmly welcome to TRANS BRUNCH.This time we are inviting you for the lovely brunch at ​​Cafe Dynamo (Södermannagatan 38). The venue is on the bottom floor and there is an accessible bathroom.There’ll be vegan food\, coffee/tea and cookies. You can donate some money\, cash or swish\, but everyone who needs it eats for free.The brunch is a collaboration between Transammans Stockholm\, FPES Förening för transpersoner Stockholm and Trans Fest Stockholm.Our aim is to create a safer space for trans people of all ages to meet and have a good time\, have some fika and maybe even make some new friends!
URL:https://fpes.se/event/brunch-pa-dynamo-32/
LOCATION:Demokratipiloterna\, Södermannagatan 38\, 116 40 Stockholm\, Sverige\, Södermannagatan 38\, Stockholm\, 11640\, Sverige
ORGANIZER;CN="fpes.kalender@gmail.com":MAILTO:fpes_kalender@gmail_com
END:VEVENT
BEGIN:VEVENT
DTSTART;TZID=Europe/Stockholm:20250508T190000
DTEND;TZID=Europe/Stockholm:20250508T200000
DTSTAMP:20260422T004731
CREATED:20250502T123422Z
LAST-MODIFIED:20250504T183312Z
UID:198970-1746730800-1746734400@fpes.se
SUMMARY:Närståendeträff - digital
DESCRIPTION:Välkomna till digitala närståendeträffar följande datum\nkl. 19-20 \n8 maj \nVi som leder träffarna är inte professionella utan själva närstående på olika sätt. Träffarna syftar till att få möjlighet att prata med andra närstående och stötta varandra. \nFör att delta; maila narstaende@fpes.se så får du en länk till mötet.
URL:https://fpes.se/event/narstaendetraff-digital-7/
ORGANIZER;CN="fpes.kalender@gmail.com":MAILTO:fpes_kalender@gmail_com
END:VEVENT
BEGIN:VEVENT
DTSTART;TZID=Europe/Stockholm:20250514T190000
DTEND;TZID=Europe/Stockholm:20250514T210000
DTSTAMP:20260422T004731
CREATED:20250502T123422Z
LAST-MODIFIED:20250502T123422Z
UID:198971-1747249200-1747256400@fpes.se
SUMMARY:FPES Mellansverige Cafeträff
DESCRIPTION:Vi träffas som vanligt och fikar\, snackar och har det bra.Vi är i stora rummet längst in till höger. Välkomna!
URL:https://fpes.se/event/fpes-mellansverige-cafetraff-34/
LOCATION:Demokratipiloterna\, Södermannagatan 38\, 116 40 Stockholm\, Sverige\, Södermannagatan 38\, Stockholm\, 11640\, Sverige
ORGANIZER;CN="fpes.kalender@gmail.com":MAILTO:fpes_kalender@gmail_com
END:VEVENT
BEGIN:VEVENT
DTSTART;TZID=Europe/Stockholm:20250515T190000
DTEND;TZID=Europe/Stockholm:20250515T203000
DTSTAMP:20260422T004731
CREATED:20250511T235005Z
LAST-MODIFIED:20250511T235005Z
UID:199026-1747335600-1747341000@fpes.se
SUMMARY:FPES Rixcafé
DESCRIPTION:Har du funderingar om din könsidentitet? Vill du träffas för ett samtal? Vi bjuder nu in till web-baserade möten där vi kan träffas och diskutera\, stödja och hjälpa varandra.  \nDet spelar ingen roll hur om du definierar dig som transfeminin\, transmaskulin\, icke-binär eller tycker att ingen av dessa eller andra beteckningar passar in. Även anhöriga till transpersoner är välkomna.  \nDu behöver inte vara medlem i FPES och vi riktar oss särskilt till de som av olika anledningar inte kan närvara på de lokala möten som föreningen redan nu arrangerar. \nGruppen leds avtvå personer som har egen erfarenhet av att leva som transpersoner och som också medverkat i olika fysiska samtalsgrupper. \nVi kommer att inleda mötet med en kort runda där alla kan presentera sig och berätta vad de skulle vilja ta upp på mötet men det går också bra att vara med och bara lyssna. Om du vill så är du välkommen att kort berätta om dig själv och hur du ser på det kommande mötet. Du väljer själv vilket namn du vill använda vid mötet och du behöver inte medverka i bild om du inte så önskar. \nAnmäl dig här:     https://simplesignup.se/private_event/221472/a8a6ef2d81 \n \nVälkomna!  \nTui och Helena
URL:https://fpes.se/event/fpes-rixcafe-24/
ORGANIZER;CN="fpes.kalender@gmail.com":MAILTO:fpes_kalender@gmail_com
END:VEVENT
BEGIN:VEVENT
DTSTART;TZID=Europe/Stockholm:20250520T190000
DTEND;TZID=Europe/Stockholm:20250520T203000
DTSTAMP:20260422T004731
CREATED:20250502T123423Z
LAST-MODIFIED:20250502T123423Z
UID:198972-1747767600-1747773000@fpes.se
SUMMARY:FPES Väst: Månadsträff
DESCRIPTION:Vi träffas i en lokal där vi är för oss själva i Regnbågshuset. https://goteborg.se/wps/portal/enhetssida/regnbagshuset/hitta-hit
URL:https://fpes.se/event/fpes-vast-manadstraff-4/
LOCATION:Barlastgatan 2 (Amerikahuset)\, 414 63 Göteborg\, Sverige\, Barlastgatan 2\, Göteborg\, 41463\, Sverige
ORGANIZER;CN="fpes.kalender@gmail.com":MAILTO:fpes_kalender@gmail_com
END:VEVENT
BEGIN:VEVENT
DTSTART;TZID=Europe/Stockholm:20250528T190000
DTEND;TZID=Europe/Stockholm:20250528T210000
DTSTAMP:20260422T004731
CREATED:20250502T123423Z
LAST-MODIFIED:20250514T104259Z
UID:198973-1748458800-1748466000@fpes.se
SUMMARY:Inställt - FPES Mellansverige Cafeträff
DESCRIPTION:Inställt pga dag före röd dag\, men väldigt välkommen till brunchen på söndag 1 juni kl 13.
URL:https://fpes.se/event/fpes-mellansverige-cafetraff-43/
LOCATION:Demokratipiloterna\, Södermannagatan 38\, 116 40 Stockholm\, Sverige\, Södermannagatan 38\, Stockholm\, 11640\, Sverige
ORGANIZER;CN="fpes.kalender@gmail.com":MAILTO:fpes_kalender@gmail_com
END:VEVENT
END:VCALENDAR