BEGIN:VCALENDAR
VERSION:2.0
PRODID:-//FPES - ECPv6.15.20//NONSGML v1.0//EN
CALSCALE:GREGORIAN
METHOD:PUBLISH
X-ORIGINAL-URL:https://fpes.se
X-WR-CALDESC:Händelser för FPES
REFRESH-INTERVAL;VALUE=DURATION:PT1H
X-Robots-Tag:noindex
X-PUBLISHED-TTL:PT1H
BEGIN:VTIMEZONE
TZID:Europe/Stockholm
BEGIN:DAYLIGHT
TZOFFSETFROM:+0100
TZOFFSETTO:+0200
TZNAME:CEST
DTSTART:20250330T010000
END:DAYLIGHT
BEGIN:STANDARD
TZOFFSETFROM:+0200
TZOFFSETTO:+0100
TZNAME:CET
DTSTART:20251026T010000
END:STANDARD
BEGIN:DAYLIGHT
TZOFFSETFROM:+0100
TZOFFSETTO:+0200
TZNAME:CEST
DTSTART:20260329T010000
END:DAYLIGHT
BEGIN:STANDARD
TZOFFSETFROM:+0200
TZOFFSETTO:+0100
TZNAME:CET
DTSTART:20261025T010000
END:STANDARD
BEGIN:DAYLIGHT
TZOFFSETFROM:+0100
TZOFFSETTO:+0200
TZNAME:CEST
DTSTART:20270328T010000
END:DAYLIGHT
BEGIN:STANDARD
TZOFFSETFROM:+0200
TZOFFSETTO:+0100
TZNAME:CET
DTSTART:20271031T010000
END:STANDARD
END:VTIMEZONE
BEGIN:VEVENT
DTSTART;TZID=Europe/Stockholm:20260513T190000
DTEND;TZID=Europe/Stockholm:20260513T200000
DTSTAMP:20260423T000655
CREATED:20260223T193510Z
LAST-MODIFIED:20260223T195039Z
UID:204781-1778698800-1778702400@fpes.se
SUMMARY:Närståendeträff - digital
DESCRIPTION:Välkomna till digitala närståendeträffar följande datum\nkl. 19-20\n13/5\nVi som leder träffarna är inte professionella utan själva närstående på olika sätt. Träffarna syftar till att få möjlighet att prata med andra närstående och stötta varandra.\nFör att delta; maila narstaende@fpes.se så får du en länk till mötet.
URL:https://fpes.se/event/narstaendetraff-digital-18/
END:VEVENT
BEGIN:VEVENT
DTSTART;TZID=Europe/Stockholm:20260521T190000
DTEND;TZID=Europe/Stockholm:20260521T203000
DTSTAMP:20260423T000655
CREATED:20260223T193510Z
LAST-MODIFIED:20260223T193510Z
UID:204782-1779390000-1779395400@fpes.se
SUMMARY:FPES Väst: Månadsträff
DESCRIPTION:Vi träffas i en lokal där vi är för oss själva i Regnbågshuset. https://goteborg.se/wps/portal/enhetssida/regnbagshuset/hitta-hit
URL:https://fpes.se/event/fpes-vast-manadstraff-14/
LOCATION:Barlastgatan 2 (Amerikahuset)\, 414 63 Göteborg\, Sverige\, Barlastgatan 2\, Göteborg\, 41463\, Sverige
END:VEVENT
BEGIN:VEVENT
DTSTART;TZID=Europe/Stockholm:20260625T190000
DTEND;TZID=Europe/Stockholm:20260625T203000
DTSTAMP:20260423T000655
CREATED:20260223T193510Z
LAST-MODIFIED:20260223T193510Z
UID:204783-1782414000-1782419400@fpes.se
SUMMARY:FPES Väst: Månadsträff
DESCRIPTION:Vi träffas i en lokal där vi är för oss själva i Regnbågshuset. https://goteborg.se/wps/portal/enhetssida/regnbagshuset/hitta-hit
URL:https://fpes.se/event/fpes-vast-manadstraff-15/
LOCATION:Barlastgatan 2 (Amerikahuset)\, 414 63 Göteborg\, Sverige\, Barlastgatan 2\, Göteborg\, 41463\, Sverige
END:VEVENT
END:VCALENDAR