BEGIN:VCALENDAR
VERSION:2.0
PRODID:-//FPES - ECPv6.15.20//NONSGML v1.0//EN
CALSCALE:GREGORIAN
METHOD:PUBLISH
X-ORIGINAL-URL:https://fpes.se
X-WR-CALDESC:Händelser för FPES
REFRESH-INTERVAL;VALUE=DURATION:PT1H
X-Robots-Tag:noindex
X-PUBLISHED-TTL:PT1H
BEGIN:VTIMEZONE
TZID:Europe/Stockholm
BEGIN:DAYLIGHT
TZOFFSETFROM:+0100
TZOFFSETTO:+0200
TZNAME:CEST
DTSTART:20220327T010000
END:DAYLIGHT
BEGIN:STANDARD
TZOFFSETFROM:+0200
TZOFFSETTO:+0100
TZNAME:CET
DTSTART:20221030T010000
END:STANDARD
BEGIN:DAYLIGHT
TZOFFSETFROM:+0100
TZOFFSETTO:+0200
TZNAME:CEST
DTSTART:20230326T010000
END:DAYLIGHT
BEGIN:STANDARD
TZOFFSETFROM:+0200
TZOFFSETTO:+0100
TZNAME:CET
DTSTART:20231029T010000
END:STANDARD
BEGIN:DAYLIGHT
TZOFFSETFROM:+0100
TZOFFSETTO:+0200
TZNAME:CEST
DTSTART:20240331T010000
END:DAYLIGHT
BEGIN:STANDARD
TZOFFSETFROM:+0200
TZOFFSETTO:+0100
TZNAME:CET
DTSTART:20241027T010000
END:STANDARD
END:VTIMEZONE
BEGIN:VEVENT
DTSTART;TZID=Europe/Stockholm:20230604T130000
DTEND;TZID=Europe/Stockholm:20230604T150000
DTSTAMP:20260426T031905
CREATED:20230530T183620Z
LAST-MODIFIED:20230603T190642Z
UID:196275-1685883600-1685890800@fpes.se
SUMMARY:Brunch på Dynamo
DESCRIPTION:Varmt välkomna på TRANSBRUNCH.\nDenna gång bjuder vi på mysig brunch på Cafe Dynamo (Södermannagatan 38). Lokalen ligger på markplan och det finns en tillgänglighetsanpassad toalett.\nVi bjuder på gratis vegansk mat\, kaffe/te och kakor. Det går att donera lite pengar\, cash eller swish\, men alla som behöver äter gratis.\nTransbrunchen är ett samarbete mellan Transammans Stockholm\, FPES Stockholm och Trans Fest Stockholm.\nVårt mål är att skapa ett säkert utrymme för transpersoner i alla åldrar att träffas och ha det trevligt\, fika och kanske till och med få några nya vänner!\n————————————–\nWarmly welcome to TRANS BRUNCH.\nThis time we are inviting you for the lovely brunch at ​​Cafe Dynamo (Södermannagatan 38). The venue is on the bottom floor and there is an accessible bathroom.\nThere’ll be vegan food\, coffee/tea and cookies. You can donate some money\, cash or swish\, but everyone who needs it eats for free.\nThe brunch is a collaboration between Transammans Stockholm\, FPES Förening för transpersoner Stockholm and Trans Fest Stockholm.\nOur aim is to create a safer space for trans people of all ages to meet and have a good time\, have some fika and maybe even make some new friends!
URL:https://fpes.se/event/brunch-pa-dynamo/
LOCATION:Demokratipiloterna\, Södermannagatan 38\, 116 40 Stockholm\, Sverige\, Södermannagatan 38\, Stockholm\, 116 40\, Sverige
END:VEVENT
BEGIN:VEVENT
DTSTART;TZID=Europe/Stockholm:20230605T150000
DTEND;TZID=Europe/Stockholm:20230605T170000
DTSTAMP:20260426T031905
CREATED:20230514T105119Z
LAST-MODIFIED:20230604T190536Z
UID:196244-1685977200-1685984400@fpes.se
SUMMARY:Kafé öppen skärm: gemenskap för medlemmar
DESCRIPTION:Anmäl dig här för att deltaga: KAFÉ ÖPPEN SKÄRM: GEMENSKAP FÖR MEDLEMMAR
URL:https://fpes.se/event/kafe-oppen-skarm-gemenskap-for-medlemmar-6/
END:VEVENT
BEGIN:VEVENT
DTSTART;TZID=Europe/Stockholm:20230610T110000
DTEND;TZID=Europe/Stockholm:20230610T130000
DTSTAMP:20260426T031905
CREATED:20230522T181557Z
LAST-MODIFIED:20230609T192516Z
UID:196257-1686394800-1686402000@fpes.se
SUMMARY:CML kundkväll FPES-Sydost
DESCRIPTION:Nu är det dags igen! Varmt välkommen till vårt lördagsmingel den 10/6 kl. 11.00 – med bland annat fina erbjudanden\, inspiration\, råd och stylingtips peruker. Vi bjuder på tilltugg & dryck.• Anmälan senast den 5/6 till: kalmar@carlmlundh.se Välkomna – vi ses! Ulrika och Sara  Se pdf här. Efter minglet så går vi ut och äter. Vill man vara med på det så tala om det vid anmälan till CMLLÄNSSJUKHUSET I KALMAR\, LASARETTVÄGEN\, HUS 21\, INGÅNG 48
URL:https://fpes.se/event/cml-kundkvall-fpes-sydost/
END:VEVENT
BEGIN:VEVENT
DTSTART;TZID=Europe/Stockholm:20230614T190000
DTEND;TZID=Europe/Stockholm:20230614T210000
DTSTAMP:20260426T031905
CREATED:20230204T140711Z
LAST-MODIFIED:20230614T183455Z
UID:195366-1686769200-1686776400@fpes.se
SUMMARY:FPES Mellansverige Cafeträff
DESCRIPTION:Vi träffas som vanligt och fikar\, snackar och har det bra.\nVi är i stora rummet längst in till höger. Välkomna!
URL:https://fpes.se/event/fpes-mellansverige-cafetraff-14/
LOCATION:Demokratipiloterna\, Södermannagatan 38\, 116 40 Stockholm\, Sverige\, Södermannagatan 38\, Stockholm\, 116 40\, Sverige
END:VEVENT
BEGIN:VEVENT
DTSTART;TZID=Europe/Stockholm:20230618T140000
DTEND;TZID=Europe/Stockholm:20230618T160000
DTSTAMP:20260426T031905
CREATED:20230611T182209Z
LAST-MODIFIED:20230617T183504Z
UID:196317-1687096800-1687104000@fpes.se
SUMMARY:FPES Norr - Picknick i parken\, Luleå
DESCRIPTION:Söndag Juni 18  kl. 1400 – Picknick i parken\,Luleå. 
URL:https://fpes.se/event/fpes-norr-picknick-i-parken-lulea/
LOCATION:Stadsparken\, Luleå\, Rådhustorget 5\, 972 32 Luleå\, Sverige\, Storgatan 13\, Luleå\, 97232\, Sverige
END:VEVENT
BEGIN:VEVENT
DTSTART;TZID=Europe/Stockholm:20230627T190000
DTEND;TZID=Europe/Stockholm:20230627T210000
DTSTAMP:20260426T031905
CREATED:20230204T140712Z
LAST-MODIFIED:20230627T185233Z
UID:195367-1687892400-1687899600@fpes.se
SUMMARY:Göteborg: Trivselträff
DESCRIPTION:Vi träffas i en lokal där vi är för oss själva i Regnbågshuset. Anordnas i samarbete med nätverket Vänner i Väst. Vägbeskrivning: http://www.viv.nu/route1.html
URL:https://fpes.se/event/goteborg-trivseltraff-8/
LOCATION:Barlastgatan 2\, 414 63 Göteborg\, Sverige\, Barlastgatan 2\, Göteborg\, 414 63\, Sverige
END:VEVENT
END:VCALENDAR