BEGIN:VCALENDAR
VERSION:2.0
PRODID:-//FPES - ECPv6.15.20//NONSGML v1.0//EN
CALSCALE:GREGORIAN
METHOD:PUBLISH
X-ORIGINAL-URL:https://fpes.se
X-WR-CALDESC:Händelser för FPES
REFRESH-INTERVAL;VALUE=DURATION:PT1H
X-Robots-Tag:noindex
X-PUBLISHED-TTL:PT1H
BEGIN:VTIMEZONE
TZID:Europe/Stockholm
BEGIN:DAYLIGHT
TZOFFSETFROM:+0100
TZOFFSETTO:+0200
TZNAME:CEST
DTSTART:20220327T010000
END:DAYLIGHT
BEGIN:STANDARD
TZOFFSETFROM:+0200
TZOFFSETTO:+0100
TZNAME:CET
DTSTART:20221030T010000
END:STANDARD
BEGIN:DAYLIGHT
TZOFFSETFROM:+0100
TZOFFSETTO:+0200
TZNAME:CEST
DTSTART:20230326T010000
END:DAYLIGHT
BEGIN:STANDARD
TZOFFSETFROM:+0200
TZOFFSETTO:+0100
TZNAME:CET
DTSTART:20231029T010000
END:STANDARD
BEGIN:DAYLIGHT
TZOFFSETFROM:+0100
TZOFFSETTO:+0200
TZNAME:CEST
DTSTART:20240331T010000
END:DAYLIGHT
BEGIN:STANDARD
TZOFFSETFROM:+0200
TZOFFSETTO:+0100
TZNAME:CET
DTSTART:20241027T010000
END:STANDARD
END:VTIMEZONE
BEGIN:VEVENT
DTSTART;TZID=Europe/Stockholm:20230801T100000
DTEND;TZID=Europe/Stockholm:20230801T120000
DTSTAMP:20260425T155245
CREATED:20230728T073535Z
LAST-MODIFIED:20230801T081926Z
UID:196407-1690884000-1690891200@fpes.se
SUMMARY:Pridevecka på Baltzar träfflokal
DESCRIPTION:FPES berättar om trans och svarar på frågor \nhttps://program.stockholmpride.org/sv/events/478/pridevecka-pa-baltzar-trafflokal
URL:https://fpes.se/event/pridevecka-pa-baltzar-trafflokal/
LOCATION:Baltzar Träfflokal\, Bolinders plan 1\, 112 24 Stockholm\, Sverige
END:VEVENT
BEGIN:VEVENT
DTSTART;TZID=Europe/Stockholm:20230802T140000
DTEND;TZID=Europe/Stockholm:20230802T144500
DTSTAMP:20260425T155245
CREATED:20230728T073535Z
LAST-MODIFIED:20230802T084228Z
UID:196409-1690984800-1690987500@fpes.se
SUMMARY:Pride House\, samtal om: Inkludering av transkvinnor i den feministiska rörelsen
DESCRIPTION:Angelica Löwdin\, FPES Föreningen för transpersoner inleder ett samtal om ett aktuellt ämne: ”Inkludering av transkvinnor i den feministiska rörelsen” Pride House C6\, Plan 2 https://program.stockholmpride.org/sv/events/182/inkludering-av-transkvinnor-i-den-feministiska-rorelsen
URL:https://fpes.se/event/pride-house-samtal-om-inkludering-av-transkvinnor-i-den-feministiska-rorelsen/
LOCATION:Clarion Hotel Stockholm\, Ringvägen 98\, 118 60 Stockholm\, Sverige
END:VEVENT
BEGIN:VEVENT
DTSTART;TZID=Europe/Stockholm:20230802T150000
DTEND;TZID=Europe/Stockholm:20230802T154500
DTSTAMP:20260425T155245
CREATED:20230728T073535Z
LAST-MODIFIED:20230802T084228Z
UID:196410-1690988400-1690991100@fpes.se
SUMMARY:Pride House\, föreläsning: Min hemlighet att leva med en transperson
DESCRIPTION:Ruth Berthilsson berättar under en känslosam föreläsning sin resa att leva med en transperson\, i samarbete med FPES Föreningen för transpersoner. Pride House C5/C8\, Plan 2 https://program.stockholmpride.org/sv/events/232/min-hemlighet-att-leva-med-en-transperson
URL:https://fpes.se/event/pride-house-forelasning-min-hemlighet-att-leva-med-en-transperson/
LOCATION:Clarion Hotel Stockholm\, Ringvägen 98\, 118 60 Stockholm\, Sverige
END:VEVENT
BEGIN:VEVENT
DTSTART;TZID=Europe/Stockholm:20230803T200000
DTEND;TZID=Europe/Stockholm:20230804T010000
DTSTAMP:20260425T155245
CREATED:20230728T073535Z
LAST-MODIFIED:20230803T084948Z
UID:196412-1691092800-1691110800@fpes.se
SUMMARY:TRANSFESTEN 2023
DESCRIPTION:Torsdag 3/8\, 20:00\, Södra Teatern\, TRANSFESTEN 2023\,arrangeras av Transfest Stockholm\, sponsras av FPES. Biljetter: https://secure.tickster.com/sv/g1mw9dh0vdaahb3/products
URL:https://fpes.se/event/transfesten-2023/
LOCATION:Södra Teatern\, Mosebacke Torg 1 – 3\, 116 46 Stockholm\, Sverige
END:VEVENT
BEGIN:VEVENT
DTSTART;TZID=Europe/Stockholm:20230805T130000
DTEND;TZID=Europe/Stockholm:20230805T150000
DTSTAMP:20260425T155245
CREATED:20230728T073535Z
LAST-MODIFIED:20230805T085310Z
UID:196413-1691240400-1691247600@fpes.se
SUMMARY:Gå med FPES i Pride Parade
DESCRIPTION:Gå med FPES i Pride Parade\, vi har startnummer 48\, samling 12.30https://www.stockholmpride.org/festivalen/pride-parade/
URL:https://fpes.se/event/ga-med-fpes-i-pride-parade/
END:VEVENT
BEGIN:VEVENT
DTSTART;TZID=Europe/Stockholm:20230806T130000
DTEND;TZID=Europe/Stockholm:20230806T150000
DTSTAMP:20260425T155245
CREATED:20230703T174945Z
LAST-MODIFIED:20230806T090650Z
UID:196362-1691326800-1691334000@fpes.se
SUMMARY:Brunch på Dynamo
DESCRIPTION:Varmt välkomna på TRANSBRUNCH.\nDenna gång bjuder vi på mysig brunch på Cafe Dynamo (Södermannagatan 38). Lokalen ligger på markplan och det finns en tillgänglighetsanpassad toalett.\nVi bjuder på gratis vegansk mat\, kaffe/te och kakor. Det går att donera lite pengar\, cash eller swish\, men alla som behöver äter gratis.\nTransbrunchen är ett samarbete mellan Transammans Stockholm\, FPES Stockholm och Trans Fest Stockholm.\nVårt mål är att skapa ett säkert utrymme för transpersoner i alla åldrar att träffas och ha det trevligt\, fika och kanske till och med få några nya vänner!\n————————————–\nWarmly welcome to TRANS BRUNCH.\nThis time we are inviting you for the lovely brunch at ​​Cafe Dynamo (Södermannagatan 38). The venue is on the bottom floor and there is an accessible bathroom.\nThere’ll be vegan food\, coffee/tea and cookies. You can donate some money\, cash or swish\, but everyone who needs it eats for free.\nThe brunch is a collaboration between Transammans Stockholm\, FPES Förening för transpersoner Stockholm and Trans Fest Stockholm.\nOur aim is to create a safer space for trans people of all ages to meet and have a good time\, have some fika and maybe even make some new friends!
URL:https://fpes.se/event/brunch-pa-dynamo-6/
LOCATION:Demokratipiloterna\, Södermannagatan 38\, 116 40 Stockholm\, Sverige\, Södermannagatan 38\, Stockholm\, 116 40\, Sverige
END:VEVENT
BEGIN:VEVENT
DTSTART;TZID=Europe/Stockholm:20230817T190000
DTEND;TZID=Europe/Stockholm:20230817T210000
DTSTAMP:20260425T155245
CREATED:20230702T192006Z
LAST-MODIFIED:20230815T210613Z
UID:196353-1692298800-1692306000@fpes.se
SUMMARY:Göteborg: Äventyrsgolf
DESCRIPTION:Banan vid Linnéplatsen
URL:https://fpes.se/event/goteborg-aventyrsgolf/
LOCATION:Slottsskogens äventyrsgolf\, Slottsskogen\, 413 10 Göteborg\, Sverige
END:VEVENT
BEGIN:VEVENT
DTSTART;TZID=Europe/Stockholm:20230823T190000
DTEND;TZID=Europe/Stockholm:20230823T210000
DTSTAMP:20260425T155245
CREATED:20230204T140712Z
LAST-MODIFIED:20230823T094033Z
UID:195372-1692817200-1692824400@fpes.se
SUMMARY:FPES Mellansverige Cafeträff
DESCRIPTION:Vi träffas som vanligt och fikar\, snackar och har det bra.\nVi är i stora rummet längst in till höger. Välkomna!
URL:https://fpes.se/event/fpes-mellansverige-cafetraff-19/
LOCATION:Demokratipiloterna\, Södermannagatan 38\, 116 40 Stockholm\, Sverige\, Södermannagatan 38\, Stockholm\, 116 40\, Sverige
END:VEVENT
BEGIN:VEVENT
DTSTART;TZID=Europe/Stockholm:20230828T183000
DTEND;TZID=Europe/Stockholm:20230828T203000
DTSTAMP:20260425T155245
CREATED:20230815T205219Z
LAST-MODIFIED:20230828T100516Z
UID:196451-1693247400-1693254600@fpes.se
SUMMARY:Månadsmöte FPES-Sydost
DESCRIPTION:Månd 28 aug kl 18.30 månadsmöte FPES-Sydost på restaurang Parken i Karlskrona. Gärna en liten hint till tiina.deore@gmail.com om du kommer då vi ska boka bord. Väl mött\, Tiina https://www.google.com/maps/place/Parken+-+Caf%C3%A9+%E2%80%A2+Bar+%E2%80%A2+Bistro/@56.1634425\,15.5852436\,18z/data=!4m6!3m5!1s0x46566c548da60cc3:0xb157c8634f473edd!8m2!3d56.1632328!4d15.5858101!16s%2Fg%2F11bc73rkdp?entry=ttu
URL:https://fpes.se/event/manadsmote-fpes-sydost-2/
LOCATION:Parken – Café • Bar • Bistro\, Parkgatan 2\, 371 33 Karlskrona\, Sverige
END:VEVENT
BEGIN:VEVENT
DTSTART;TZID=Europe/Stockholm:20230831T190000
DTEND;TZID=Europe/Stockholm:20230831T203000
DTSTAMP:20260425T155245
CREATED:20230809T090538Z
LAST-MODIFIED:20230830T191911Z
UID:196444-1693508400-1693513800@fpes.se
SUMMARY:FPES Rixcafé
DESCRIPTION:Samtal om könsidentitet \nAnmäl dig här: https://simplesignup.se/private_event/207094/11eb8d94c6 Har du funderingar om din könsidentitet? Vill du träffas för ett samtal?Vi bjuder nu in till web-baserade möten där vi kan träffas och diskutera\, stödja och hjälpa varandra. Det spelar ingen roll hur om du definierar dig som transfeminin\, transmaskulin\, icke-binär eller tycker att ingen av dessa eller andra beteckningar passar in. Även anhöriga till transpersoner är välkomna. Du behöver inte vara medlem i FPES och vi riktar oss särskilt till de som av olika anledningar inte kan närvara på de lokala möten som föreningen redan nu arrangerar.Gruppen leds av två personer som har egen erfarenhet av att leva som transpersoner och som också medverkat i olika fysiska samtalsgrupper.Du väljer själv vilket namn du vill använda vid mötet och du behöver inte medverka i bild om du inte så önskar. Vi kommer att inleda våra möten med en kort runda där alla kan presentera sig och berätta vad de skulle vilja ta upp på mötet men det går också bra att vara med och bara lyssna. \nVälkomna!Helena WilhelminaFPES Event
URL:https://fpes.se/event/fpes-rixcafe/
END:VEVENT
END:VCALENDAR