BEGIN:VCALENDAR
VERSION:2.0
PRODID:-//FPES - ECPv6.15.20//NONSGML v1.0//EN
CALSCALE:GREGORIAN
METHOD:PUBLISH
X-WR-CALNAME:FPES
X-ORIGINAL-URL:https://fpes.se
X-WR-CALDESC:Händelser för FPES
REFRESH-INTERVAL;VALUE=DURATION:PT1H
X-Robots-Tag:noindex
X-PUBLISHED-TTL:PT1H
BEGIN:VTIMEZONE
TZID:Europe/Stockholm
BEGIN:DAYLIGHT
TZOFFSETFROM:+0100
TZOFFSETTO:+0200
TZNAME:CEST
DTSTART:20220327T010000
END:DAYLIGHT
BEGIN:STANDARD
TZOFFSETFROM:+0200
TZOFFSETTO:+0100
TZNAME:CET
DTSTART:20221030T010000
END:STANDARD
BEGIN:DAYLIGHT
TZOFFSETFROM:+0100
TZOFFSETTO:+0200
TZNAME:CEST
DTSTART:20230326T010000
END:DAYLIGHT
BEGIN:STANDARD
TZOFFSETFROM:+0200
TZOFFSETTO:+0100
TZNAME:CET
DTSTART:20231029T010000
END:STANDARD
BEGIN:DAYLIGHT
TZOFFSETFROM:+0100
TZOFFSETTO:+0200
TZNAME:CEST
DTSTART:20240331T010000
END:DAYLIGHT
BEGIN:STANDARD
TZOFFSETFROM:+0200
TZOFFSETTO:+0100
TZNAME:CET
DTSTART:20241027T010000
END:STANDARD
END:VTIMEZONE
BEGIN:VEVENT
DTSTART;TZID=Europe/Stockholm:20230903T130000
DTEND;TZID=Europe/Stockholm:20230903T150000
DTSTAMP:20260425T140424
CREATED:20230824T094923Z
LAST-MODIFIED:20230902T192029Z
UID:196461-1693746000-1693753200@fpes.se
SUMMARY:Brunch på Dynamo
DESCRIPTION:Varmt välkomna på TRANSBRUNCH.\nDenna gång bjuder vi på mysig brunch på Cafe Dynamo (Södermannagatan 38). Lokalen ligger på markplan och det finns en tillgänglighetsanpassad toalett.\nVi bjuder på gratis vegansk mat\, kaffe/te och kakor. Det går att donera lite pengar\, cash eller swish\, men alla som behöver äter gratis.\nTransbrunchen är ett samarbete mellan Transammans Stockholm\, FPES Stockholm och Trans Fest Stockholm.\nVårt mål är att skapa ett säkert utrymme för transpersoner i alla åldrar att träffas och ha det trevligt\, fika och kanske till och med få några nya vänner!\n————————————–\nWarmly welcome to TRANS BRUNCH.\nThis time we are inviting you for the lovely brunch at ​​Cafe Dynamo (Södermannagatan 38). The venue is on the bottom floor and there is an accessible bathroom.\nThere’ll be vegan food\, coffee/tea and cookies. You can donate some money\, cash or swish\, but everyone who needs it eats for free.\nThe brunch is a collaboration between Transammans Stockholm\, FPES Förening för transpersoner Stockholm and Trans Fest Stockholm.\nOur aim is to create a safer space for trans people of all ages to meet and have a good time\, have some fika and maybe even make some new friends!
URL:https://fpes.se/event/brunch-pa-dynamo-7/
LOCATION:Demokratipiloterna\, Södermannagatan 38\, 116 40 Stockholm\, Sverige\, Södermannagatan 38\, Stockholm\, 116 40\, Sverige
END:VEVENT
BEGIN:VEVENT
DTSTART;TZID=Europe/Stockholm:20230906T190000
DTEND;TZID=Europe/Stockholm:20230906T210000
DTSTAMP:20260425T140424
CREATED:20230204T140712Z
LAST-MODIFIED:20230905T193526Z
UID:195373-1694026800-1694034000@fpes.se
SUMMARY:FPES Mellansverige Cafeträff
DESCRIPTION:Vi träffas som vanligt och fikar\, snackar och har det bra.\nVi är i stora rummet längst in till höger. Välkomna!
URL:https://fpes.se/event/fpes-mellansverige-cafetraff-20/
LOCATION:Demokratipiloterna\, Södermannagatan 38\, 116 40 Stockholm\, Sverige\, Södermannagatan 38\, Stockholm\, 116 40\, Sverige
END:VEVENT
BEGIN:VEVENT
DTSTART;VALUE=DATE:20230907
DTEND;VALUE=DATE:20230911
DTSTAMP:20260425T140424
CREATED:20230703T180908Z
LAST-MODIFIED:20230910T194924Z
UID:196366-1694044800-1694390399@fpes.se
SUMMARY:Båstadsträffen
DESCRIPTION:Se bastadstraffen.se för info
URL:https://fpes.se/event/bastadstraffen/
END:VEVENT
BEGIN:VEVENT
DTSTART;TZID=Europe/Stockholm:20230919T150000
DTEND;TZID=Europe/Stockholm:20230919T170000
DTSTAMP:20260425T140424
CREATED:20230829T190513Z
LAST-MODIFIED:20230915T194924Z
UID:196478-1695135600-1695142800@fpes.se
SUMMARY:Kafé öppen skärm: gemenskap för medlemmar
DESCRIPTION:Vill du fika med oss? \nVälkommen till Kafé Öppen Skärm. \nVi är flera som inte har möjlighet att träffa någon utanför vårt hem.  \nDärför vill vi nu bjuda in dig till eftermiddagsfika med oss via datorn eller mobilen.  \nPå våra fikaträffar kan vi prata om allt mellan himmel och jord och umgås på ett säkert sätt.  \nVarmt välkommen över en god kopp kaffe eller te  \nTiina \nAnmäl dig här för att deltaga: KAFÉ ÖPPEN SKÄRM: GEMENSKAP FÖR MEDLEMMAR
URL:https://fpes.se/event/kafe-oppen-skarm-gemenskap-for-medlemmar-7/
END:VEVENT
BEGIN:VEVENT
DTSTART;TZID=Europe/Stockholm:20230920T190000
DTEND;TZID=Europe/Stockholm:20230920T210000
DTSTAMP:20260425T140424
CREATED:20230204T140712Z
LAST-MODIFIED:20230915T194924Z
UID:195374-1695236400-1695243600@fpes.se
SUMMARY:FPES Mellansverige Cafeträff
DESCRIPTION:Vi träffas som vanligt och fikar\, snackar och har det bra.\nVi är i stora rummet längst in till höger. Välkomna!
URL:https://fpes.se/event/fpes-mellansverige-cafetraff-21/
LOCATION:Demokratipiloterna\, Södermannagatan 38\, 116 40 Stockholm\, Sverige\, Södermannagatan 38\, Stockholm\, 116 40\, Sverige
END:VEVENT
BEGIN:VEVENT
DTSTART;TZID=Europe/Stockholm:20230921T190000
DTEND;TZID=Europe/Stockholm:20230921T203000
DTSTAMP:20260425T140424
CREATED:20230701T192042Z
LAST-MODIFIED:20230915T194924Z
UID:196344-1695322800-1695328200@fpes.se
SUMMARY:Göteborg: Trivselträff
DESCRIPTION:Vi träffas i en lokal där vi är för oss själva i Regnbågshuset. Anordnas i samarbete med nätverket Vänner i Väst. Vägbeskrivning: http://www.viv.nu/route1.html
URL:https://fpes.se/event/goteborg-trivseltraff/
LOCATION:Barlastgatan 2\, 414 63 Göteborg\, Sverige\, Barlastgatan 2\, Göteborg\, 414 63\, Sverige
END:VEVENT
BEGIN:VEVENT
DTSTART;TZID=Europe/Stockholm:20230926T150000
DTEND;TZID=Europe/Stockholm:20230926T170000
DTSTAMP:20260425T140424
CREATED:20230829T190513Z
LAST-MODIFIED:20230926T144923Z
UID:196479-1695740400-1695747600@fpes.se
SUMMARY:TV-skärm
DESCRIPTION:Digitalt forum på ZOOM för oss som är TRANSVESTITER/CROSSDRESSERS. \nHär dryftar vi sådant som ligger oss varmt om hjärtat. \nKläder\, peruker\, skor\, stil\, att komma ut\, anhöriga mm mm. \nVi bestämmer själva vad vi ska prata om. \nVarmt välkommen över en god kopp kaffe eller te \nTiina \nAnmäl dig här för att deltaga KAFÉ TV SKÄRM
URL:https://fpes.se/event/tv-skarm-4/
END:VEVENT
BEGIN:VEVENT
DTSTART;TZID=Europe/Stockholm:20230928T190000
DTEND;TZID=Europe/Stockholm:20230928T203000
DTSTAMP:20260425T140424
CREATED:20230923T094126Z
LAST-MODIFIED:20230928T144917Z
UID:196519-1695927600-1695933000@fpes.se
SUMMARY:FPES Rixcafé
DESCRIPTION:Samtal om könsidentitet \nAnmäl dig här: https://simplesignup.se/private_event/207094/11eb8d94c6 Har du funderingar om din könsidentitet? Vill du träffas för ett samtal?Vi bjuder nu in till web-baserade möten där vi kan träffas och diskutera\, stödja och hjälpa varandra. Det spelar ingen roll hur om du definierar dig som transfeminin\, transmaskulin\, icke-binär eller tycker att ingen av dessa eller andra beteckningar passar in. Även anhöriga till transpersoner är välkomna. Du behöver inte vara medlem i FPES och vi riktar oss särskilt till de som av olika anledningar inte kan närvara på de lokala möten som föreningen redan nu arrangerar.Gruppen leds av två personer som har egen erfarenhet av att leva som transpersoner och som också medverkat i olika fysiska samtalsgrupper.Du väljer själv vilket namn du vill använda vid mötet och du behöver inte medverka i bild om du inte så önskar. Vi kommer att inleda våra möten med en kort runda där alla kan presentera sig och berätta vad de skulle vilja ta upp på mötet men det går också bra att vara med och bara lyssna. \nVälkomna!Helena WilhelminaFPES Event
URL:https://fpes.se/event/fpes-rixcafe-2/
END:VEVENT
BEGIN:VEVENT
DTSTART;TZID=Europe/Stockholm:20230929T180000
DTEND;TZID=Europe/Stockholm:20230929T233000
DTSTAMP:20260425T140424
CREATED:20230923T092820Z
LAST-MODIFIED:20230929T110258Z
UID:196516-1696010400-1696030200@fpes.se
SUMMARY:Träff för transvestiter/crossdressers
DESCRIPTION:Välkommen till en träff för transvestiter/crossdressers! Den är för dig som vill ha kontakt med likasinnade\, kanske prata om var det är bäst att handla kläder\, om smink och peruker och var man hittar skor i större storlekar. Vi kan dela med oss om vilka vi är och hur vi levt våra liv. Rädslan för att komma ut. Tjusningen att gå ut på stan första gången i klänning. Eller så pratar vi bara om vad som helst och har trevligt. \nNästa tillfälle blir fredag 29/9. Vi börjar på Café Dynamo på Södermalm\, Södermannagatan 38\, 18:00. Där kan du byta om och tillbaka ifall du inte vill gå ut på stan som tjej eller kille. De som så önskar går sedan ca 19.30 till en restaurang i närheten för middag. Vi bokar bord och om du följer med på middagen så behöver vi ha din anmälan till helena@fpes.se senast onsdag 27/9. Hoppas vi ses! Om du har frågor så kontakta oss gärna:helena@fpes.se   annie@fpes.se  Helena och Annie
URL:https://fpes.se/event/traff-for-transvestiter-crossdressers-3/
LOCATION:Demokratipiloterna\, Södermannagatan 38\, 116 40 Stockholm\, Sverige\, Södermannagatan 38\, Stockholm\, 116 40\, Sverige
END:VEVENT
END:VCALENDAR