BEGIN:VCALENDAR
VERSION:2.0
PRODID:-//FPES - ECPv6.15.20//NONSGML v1.0//EN
CALSCALE:GREGORIAN
METHOD:PUBLISH
X-ORIGINAL-URL:https://fpes.se
X-WR-CALDESC:Händelser för FPES
REFRESH-INTERVAL;VALUE=DURATION:PT1H
X-Robots-Tag:noindex
X-PUBLISHED-TTL:PT1H
BEGIN:VTIMEZONE
TZID:Europe/Stockholm
BEGIN:DAYLIGHT
TZOFFSETFROM:+0100
TZOFFSETTO:+0200
TZNAME:CEST
DTSTART:20220327T010000
END:DAYLIGHT
BEGIN:STANDARD
TZOFFSETFROM:+0200
TZOFFSETTO:+0100
TZNAME:CET
DTSTART:20221030T010000
END:STANDARD
BEGIN:DAYLIGHT
TZOFFSETFROM:+0100
TZOFFSETTO:+0200
TZNAME:CEST
DTSTART:20230326T010000
END:DAYLIGHT
BEGIN:STANDARD
TZOFFSETFROM:+0200
TZOFFSETTO:+0100
TZNAME:CET
DTSTART:20231029T010000
END:STANDARD
BEGIN:DAYLIGHT
TZOFFSETFROM:+0100
TZOFFSETTO:+0200
TZNAME:CEST
DTSTART:20240331T010000
END:DAYLIGHT
BEGIN:STANDARD
TZOFFSETFROM:+0200
TZOFFSETTO:+0100
TZNAME:CET
DTSTART:20241027T010000
END:STANDARD
END:VTIMEZONE
BEGIN:VEVENT
DTSTART;TZID=Europe/Stockholm:20231001T130000
DTEND;TZID=Europe/Stockholm:20231001T150000
DTSTAMP:20260425T135657
CREATED:20230824T094923Z
LAST-MODIFIED:20231001T110411Z
UID:196462-1696165200-1696172400@fpes.se
SUMMARY:Brunch på Dynamo
DESCRIPTION:Varmt välkomna på TRANSBRUNCH.\nDenna gång bjuder vi på mysig brunch på Cafe Dynamo (Södermannagatan 38). Lokalen ligger på markplan och det finns en tillgänglighetsanpassad toalett.\nVi bjuder på gratis vegansk mat\, kaffe/te och kakor. Det går att donera lite pengar\, cash eller swish\, men alla som behöver äter gratis.\nTransbrunchen är ett samarbete mellan Transammans Stockholm\, FPES Stockholm och Trans Fest Stockholm.\nVårt mål är att skapa ett säkert utrymme för transpersoner i alla åldrar att träffas och ha det trevligt\, fika och kanske till och med få några nya vänner!\n————————————–\nWarmly welcome to TRANS BRUNCH.\nThis time we are inviting you for the lovely brunch at ​​Cafe Dynamo (Södermannagatan 38). The venue is on the bottom floor and there is an accessible bathroom.\nThere’ll be vegan food\, coffee/tea and cookies. You can donate some money\, cash or swish\, but everyone who needs it eats for free.\nThe brunch is a collaboration between Transammans Stockholm\, FPES Förening för transpersoner Stockholm and Trans Fest Stockholm.\nOur aim is to create a safer space for trans people of all ages to meet and have a good time\, have some fika and maybe even make some new friends!
URL:https://fpes.se/event/brunch-pa-dynamo-8/
LOCATION:Demokratipiloterna\, Södermannagatan 38\, 116 40 Stockholm\, Sverige\, Södermannagatan 38\, Stockholm\, 116 40\, Sverige
END:VEVENT
BEGIN:VEVENT
DTSTART;TZID=Europe/Stockholm:20231002T183000
DTEND;TZID=Europe/Stockholm:20231002T203000
DTSTAMP:20260425T135657
CREATED:20230929T102245Z
LAST-MODIFIED:20231002T111056Z
UID:196535-1696271400-1696278600@fpes.se
SUMMARY:Månadsmöte FPES-Sydost
DESCRIPTION:FPES-SydostHej alla!Dags för månadsmöte igen.Månd 2 okt kl 18.30 restaurang Sit & Go i VäxjöGärna en liten apropå om du kommer då vi ska boka bord.Anmälan till tiina.deore@gmail.comKarta i länken nedanGoogle maps
URL:https://fpes.se/event/manadsmote-fpes-sydost-3/
LOCATION:Restaurang Sit & Go\, Storgatan 40\, 352 30 Växjö\, Sverige\, Storgatan 40\, Växjö\, 352 30\, Sverige
END:VEVENT
BEGIN:VEVENT
DTSTART;TZID=Europe/Stockholm:20231004T190000
DTEND;TZID=Europe/Stockholm:20231004T210000
DTSTAMP:20260425T135657
CREATED:20230204T140712Z
LAST-MODIFIED:20231004T113424Z
UID:195375-1696446000-1696453200@fpes.se
SUMMARY:FPES Mellansverige Cafeträff
DESCRIPTION:Vi träffas som vanligt och fikar\, snackar och har det bra.\nVi är i stora rummet längst in till höger. Välkomna!
URL:https://fpes.se/event/fpes-mellansverige-cafetraff-22/
LOCATION:Demokratipiloterna\, Södermannagatan 38\, 116 40 Stockholm\, Sverige\, Södermannagatan 38\, Stockholm\, 116 40\, Sverige
END:VEVENT
BEGIN:VEVENT
DTSTART;TZID=Europe/Stockholm:20231010T180000
DTEND;TZID=Europe/Stockholm:20231010T200000
DTSTAMP:20260425T135657
CREATED:20230929T110256Z
LAST-MODIFIED:20231010T115019Z
UID:196543-1696960800-1696968000@fpes.se
SUMMARY:Kafé öppen skärm: gemenskap för medlemmar
DESCRIPTION:Vill du fika med oss? \nVälkommen till Kafé Öppen Skärm. \nVi är flera som inte har möjlighet att träffa någon utanför vårt hem.  \nDärför vill vi nu bjuda in dig till eftermiddagsfika med oss via datorn eller mobilen.  \nPå våra fikaträffar kan vi prata om allt mellan himmel och jord och umgås på ett säkert sätt.  \nVarmt välkommen över en god kopp kaffe eller te  \nTiina \nAnmäl dig här för att deltaga: KAFÉ ÖPPEN SKÄRM: GEMENSKAP FÖR MEDLEMMAR
URL:https://fpes.se/event/kafe-oppen-skarm-gemenskap-for-medlemmar-8/
END:VEVENT
BEGIN:VEVENT
DTSTART;TZID=Europe/Stockholm:20231018T190000
DTEND;TZID=Europe/Stockholm:20231018T210000
DTSTAMP:20260425T135657
CREATED:20230204T140712Z
LAST-MODIFIED:20231017T120456Z
UID:195376-1697655600-1697662800@fpes.se
SUMMARY:FPES Mellansverige Cafeträff
DESCRIPTION:Vi träffas som vanligt och fikar\, snackar och har det bra.\nVi är i stora rummet längst in till höger. Välkomna!
URL:https://fpes.se/event/fpes-mellansverige-cafetraff-23/
LOCATION:Demokratipiloterna\, Södermannagatan 38\, 116 40 Stockholm\, Sverige\, Södermannagatan 38\, Stockholm\, 116 40\, Sverige
END:VEVENT
BEGIN:VEVENT
DTSTART;TZID=Europe/Stockholm:20231019T190000
DTEND;TZID=Europe/Stockholm:20231019T203000
DTSTAMP:20260425T135657
CREATED:20230701T192042Z
LAST-MODIFIED:20231017T120456Z
UID:196345-1697742000-1697747400@fpes.se
SUMMARY:Göteborg: Trivselträff
DESCRIPTION:Vi träffas i en lokal där vi är för oss själva i Regnbågshuset. Anordnas i samarbete med nätverket Vänner i Väst. Vägbeskrivning: http://www.viv.nu/route1.html
URL:https://fpes.se/event/goteborg-trivseltraff-2/
LOCATION:Barlastgatan 2\, 414 63 Göteborg\, Sverige\, Barlastgatan 2\, Göteborg\, 414 63\, Sverige
END:VEVENT
BEGIN:VEVENT
DTSTART;TZID=Europe/Stockholm:20231023T170000
DTEND;TZID=Europe/Stockholm:20231023T190000
DTSTAMP:20260425T135657
CREATED:20231011T120408Z
LAST-MODIFIED:20231022T173212Z
UID:196557-1698080400-1698087600@fpes.se
SUMMARY:TV-skärm
DESCRIPTION:Digitalt forum på ZOOM för oss som är TRANSVESTITER/CROSSDRESSERS. \nHär dryftar vi sådant som ligger oss varmt om hjärtat. \nKläder\, peruker\, skor\, stil\, att komma ut\, anhöriga mm mm. \nVi bestämmer själva vad vi ska prata om. \nVarmt välkommen över en god kopp kaffe eller te \nTiina \nAnmäl dig här för att deltaga KAFÉ TV SKÄRM
URL:https://fpes.se/event/tv-skarm-5/
END:VEVENT
BEGIN:VEVENT
DTSTART;TZID=Europe/Stockholm:20231026T190000
DTEND;TZID=Europe/Stockholm:20231026T203000
DTSTAMP:20260425T135657
CREATED:20231022T172107Z
LAST-MODIFIED:20231026T105527Z
UID:196571-1698346800-1698352200@fpes.se
SUMMARY:FPES Rixcafé
DESCRIPTION:Samtal om könsidentitet \nAnmäl dig här: https://simplesignup.se/private_event/207094/11eb8d94c6 Har du funderingar om din könsidentitet? Vill du träffas för ett samtal?Vi bjuder nu in till web-baserade möten där vi kan träffas och diskutera\, stödja och hjälpa varandra. Det spelar ingen roll hur om du definierar dig som transfeminin\, transmaskulin\, icke-binär eller tycker att ingen av dessa eller andra beteckningar passar in. Även anhöriga till transpersoner är välkomna. Du behöver inte vara medlem i FPES och vi riktar oss särskilt till de som av olika anledningar inte kan närvara på de lokala möten som föreningen redan nu arrangerar.Gruppen leds av två personer som har egen erfarenhet av att leva som transpersoner och som också medverkat i olika fysiska samtalsgrupper.Du väljer själv vilket namn du vill använda vid mötet och du behöver inte medverka i bild om du inte så önskar. Vi kommer att inleda våra möten med en kort runda där alla kan presentera sig och berätta vad de skulle vilja ta upp på mötet men det går också bra att vara med och bara lyssna. \nVälkomna!Helena WilhelminaFPES Event
URL:https://fpes.se/event/fpes-rixcafe-7/
END:VEVENT
BEGIN:VEVENT
DTSTART;VALUE=DATE:20231027
DTEND;VALUE=DATE:20231030
DTSTAMP:20260425T135657
CREATED:20230923T092820Z
LAST-MODIFIED:20231029T190622Z
UID:196517-1698364800-1698623999@fpes.se
SUMMARY:Höstmöte
DESCRIPTION:Se info i din mail eller i forum
URL:https://fpes.se/event/hostmote/
END:VEVENT
END:VCALENDAR