BEGIN:VCALENDAR
VERSION:2.0
PRODID:-//FPES - ECPv6.15.20//NONSGML v1.0//EN
CALSCALE:GREGORIAN
METHOD:PUBLISH
X-WR-CALNAME:FPES
X-ORIGINAL-URL:https://fpes.se
X-WR-CALDESC:Händelser för FPES
REFRESH-INTERVAL;VALUE=DURATION:PT1H
X-Robots-Tag:noindex
X-PUBLISHED-TTL:PT1H
BEGIN:VTIMEZONE
TZID:Europe/Stockholm
BEGIN:DAYLIGHT
TZOFFSETFROM:+0100
TZOFFSETTO:+0200
TZNAME:CEST
DTSTART:20220327T010000
END:DAYLIGHT
BEGIN:STANDARD
TZOFFSETFROM:+0200
TZOFFSETTO:+0100
TZNAME:CET
DTSTART:20221030T010000
END:STANDARD
BEGIN:DAYLIGHT
TZOFFSETFROM:+0100
TZOFFSETTO:+0200
TZNAME:CEST
DTSTART:20230326T010000
END:DAYLIGHT
BEGIN:STANDARD
TZOFFSETFROM:+0200
TZOFFSETTO:+0100
TZNAME:CET
DTSTART:20231029T010000
END:STANDARD
BEGIN:DAYLIGHT
TZOFFSETFROM:+0100
TZOFFSETTO:+0200
TZNAME:CEST
DTSTART:20240331T010000
END:DAYLIGHT
BEGIN:STANDARD
TZOFFSETFROM:+0200
TZOFFSETTO:+0100
TZNAME:CET
DTSTART:20241027T010000
END:STANDARD
END:VTIMEZONE
BEGIN:VEVENT
DTSTART;TZID=Europe/Stockholm:20231101T170000
DTEND;TZID=Europe/Stockholm:20231101T190000
DTSTAMP:20260423T024054
CREATED:20231022T165334Z
LAST-MODIFIED:20231031T190443Z
UID:196568-1698858000-1698865200@fpes.se
SUMMARY:Kafé öppen skärm: gemenskap för medlemmar
DESCRIPTION:Vill du fika med oss? \nVälkommen till Kafé Öppen Skärm. \nVi är flera som inte har möjlighet att träffa någon utanför vårt hem.  \nDärför vill vi nu bjuda in dig till eftermiddagsfika med oss via datorn eller mobilen.  \nPå våra fikaträffar kan vi prata om allt mellan himmel och jord och umgås på ett säkert sätt.  \nVarmt välkommen över en god kopp kaffe eller te  \nTiina \nAnmäl dig här för att deltaga: KAFÉ ÖPPEN SKÄRM: GEMENSKAP FÖR MEDLEMMAR
URL:https://fpes.se/event/kafe-oppen-skarm-gemenskap-for-medlemmar-9/
END:VEVENT
BEGIN:VEVENT
DTSTART;TZID=Europe/Stockholm:20231101T190000
DTEND;TZID=Europe/Stockholm:20231101T210000
DTSTAMP:20260423T024054
CREATED:20230204T140712Z
LAST-MODIFIED:20231101T190411Z
UID:195378-1698865200-1698872400@fpes.se
SUMMARY:FPES Mellansverige Cafeträff
DESCRIPTION:Vi träffas som vanligt och fikar\, snackar och har det bra.\nVi är i stora rummet längst in till höger. Välkomna!
URL:https://fpes.se/event/fpes-mellansverige-cafetraff-24/
LOCATION:Demokratipiloterna\, Södermannagatan 38\, 116 40 Stockholm\, Sverige\, Södermannagatan 38\, Stockholm\, 116 40\, Sverige
END:VEVENT
BEGIN:VEVENT
DTSTART;TZID=Europe/Stockholm:20231103T180000
DTEND;TZID=Europe/Stockholm:20231103T233000
DTSTAMP:20260423T024054
CREATED:20231022T173211Z
LAST-MODIFIED:20231103T192115Z
UID:196574-1699034400-1699054200@fpes.se
SUMMARY:Middagsträff för transpersoner
DESCRIPTION:Vi fortätter med våra middagsträffar och under hösten och kommande vår så väljer vi att lägga dessa samma helg som vi arrangerar våra transbruncher på Dynamo. Tanken är att vi ska göra det lättare för de som inte bor i Stockholm att vara med\, två träffar under en helg kanske lockar till en weekend i hvudstaden. \nTräffarna är öppna för alla trans- och queerpersoner. \nNästa tillfälle blir fredag 3/11. Vi börjar hemma hos mig på Södermalm (adress går ut till de som anmäler sig). De som så önskar går sedan ca 19.30 till en närbelägen restaurang för middag. Sen brukar vi fortsätta kvällen på annan lokal. Den restaurang vi väljer håller rimliga priser och det är helt OK att vara med på bara uppvärmningen\, middagen eller resten av kvällen\, hör av er så får ni mer info. Vi bokar bord och om du följer med på middagen så behöver vi ha din anmälan till helena@fpes.se senast onsdag 1/11. Hoppas vi ses! Om du har frågor så kontakta oss gärna:helena@fpes.seannie@fpes.se \n Helena och Annie
URL:https://fpes.se/event/trivseltraff-med-utgang-pa-middag/
LOCATION:Demokratipiloterna\, Södermannagatan 38\, 116 40 Stockholm\, Sverige\, Södermannagatan 38\, Stockholm\, 116 40\, Sverige
END:VEVENT
BEGIN:VEVENT
DTSTART;TZID=Europe/Stockholm:20231105T130000
DTEND;TZID=Europe/Stockholm:20231105T150000
DTSTAMP:20260423T024054
CREATED:20230824T094927Z
LAST-MODIFIED:20231104T193504Z
UID:196465-1699189200-1699196400@fpes.se
SUMMARY:Brunch på Dynamo
DESCRIPTION:Varmt välkomna på TRANSBRUNCH.\nDenna gång bjuder vi på mysig brunch på Cafe Dynamo (Södermannagatan 38). Lokalen ligger på markplan och det finns en tillgänglighetsanpassad toalett.\nVi bjuder på gratis vegansk mat\, kaffe/te och kakor. Det går att donera lite pengar\, cash eller swish\, men alla som behöver äter gratis.\nTransbrunchen är ett samarbete mellan Transammans Stockholm\, FPES Stockholm och Trans Fest Stockholm.\nVårt mål är att skapa ett säkert utrymme för transpersoner i alla åldrar att träffas och ha det trevligt\, fika och kanske till och med få några nya vänner!\n————————————–\nWarmly welcome to TRANS BRUNCH.\nThis time we are inviting you for the lovely brunch at ​​Cafe Dynamo (Södermannagatan 38). The venue is on the bottom floor and there is an accessible bathroom.\nThere’ll be vegan food\, coffee/tea and cookies. You can donate some money\, cash or swish\, but everyone who needs it eats for free.\nThe brunch is a collaboration between Transammans Stockholm\, FPES Förening för transpersoner Stockholm and Trans Fest Stockholm.\nOur aim is to create a safer space for trans people of all ages to meet and have a good time\, have some fika and maybe even make some new friends!
URL:https://fpes.se/event/brunch-pa-dynamo-9/
LOCATION:Demokratipiloterna\, Södermannagatan 38\, 116 40 Stockholm\, Sverige\, Södermannagatan 38\, Stockholm\, 116 40\, Sverige
END:VEVENT
BEGIN:VEVENT
DTSTART;TZID=Europe/Stockholm:20231106T183000
DTEND;TZID=Europe/Stockholm:20231106T203000
DTSTAMP:20260423T024054
CREATED:20231026T102132Z
LAST-MODIFIED:20231105T193931Z
UID:196578-1699295400-1699302600@fpes.se
SUMMARY:Månadsmöte FPES-Sydost
DESCRIPTION:FPES-Sydost månadsmöte månd 6/11 kl 18.30 restaurang Toscana i Karlskrona. Gärna en anmälan till tiina.deore@gmail.com \nhttps://www.google.com/maps/place/Restaurang+Toscana/@56.1615346\,15.5863879\,17z/data=!3m1!4b1!4m6!3m5!1s0x46566c5523516c99:0x6851160d5955720e!8m2!3d56.1615346!4d15.5889628!16s%2Fg%2F1tf8rqc8?entry=ttu
URL:https://fpes.se/event/manadsmote-fpes-sydost-4/
LOCATION:Restaurang Toscana\, Stortorget 4\, 371 34 Karlskrona\, Sverige\, Stortorget 4\, Karlskrona\, Sverige
END:VEVENT
BEGIN:VEVENT
DTSTART;TZID=Europe/Stockholm:20231114T170000
DTEND;TZID=Europe/Stockholm:20231114T190000
DTSTAMP:20260423T024054
CREATED:20231107T154459Z
LAST-MODIFIED:20231114T161934Z
UID:196607-1699981200-1699988400@fpes.se
SUMMARY:TV-skärm
DESCRIPTION:Digitalt forum på ZOOM för oss som är TRANSVESTITER/CROSSDRESSERS. \nHär dryftar vi sådant som ligger oss varmt om hjärtat. \nKläder\, peruker\, skor\, stil\, att komma ut\, anhöriga mm mm. \nVi bestämmer själva vad vi ska prata om. \nVarmt välkommen över en god kopp kaffe eller te \nTiina \nAnmäl dig här för att deltaga KAFÉ TV SKÄRM
URL:https://fpes.se/event/tv-skarm-6/
END:VEVENT
BEGIN:VEVENT
DTSTART;TZID=Europe/Stockholm:20231115T190000
DTEND;TZID=Europe/Stockholm:20231115T210000
DTSTAMP:20260423T024054
CREATED:20230204T140712Z
LAST-MODIFIED:20231115T163411Z
UID:195381-1700074800-1700082000@fpes.se
SUMMARY:FPES Mellansverige Cafeträff
DESCRIPTION:Vi träffas som vanligt och fikar\, snackar och har det bra.\nVi är i stora rummet längst in till höger. Välkomna!
URL:https://fpes.se/event/fpes-mellansverige-cafetraff-25/
LOCATION:Demokratipiloterna\, Södermannagatan 38\, 116 40 Stockholm\, Sverige\, Södermannagatan 38\, Stockholm\, 116 40\, Sverige
END:VEVENT
BEGIN:VEVENT
DTSTART;TZID=Europe/Stockholm:20231121T190000
DTEND;TZID=Europe/Stockholm:20231121T203000
DTSTAMP:20260423T024054
CREATED:20230701T192046Z
LAST-MODIFIED:20231121T164943Z
UID:196348-1700593200-1700598600@fpes.se
SUMMARY:Göteborg: Trivselträff
DESCRIPTION:Vi träffas i en lokal där vi är för oss själva i Regnbågshuset. Anordnas i samarbete med nätverket Vänner i Väst. Vägbeskrivning: http://www.viv.nu/route1.html
URL:https://fpes.se/event/goteborg-trivseltraff-3/
LOCATION:Barlastgatan 2\, 414 63 Göteborg\, Sverige\, Barlastgatan 2\, Göteborg\, 414 63\, Sverige
END:VEVENT
BEGIN:VEVENT
DTSTART;TZID=Europe/Stockholm:20231129T190000
DTEND;TZID=Europe/Stockholm:20231129T210000
DTSTAMP:20260423T024054
CREATED:20230204T140712Z
LAST-MODIFIED:20231125T164938Z
UID:195383-1701284400-1701291600@fpes.se
SUMMARY:FPES Mellansverige Cafeträff
DESCRIPTION:Vi träffas som vanligt och fikar\, snackar och har det bra.\nVi är i stora rummet längst in till höger. Välkomna!
URL:https://fpes.se/event/fpes-mellansverige-cafetraff-26/
LOCATION:Demokratipiloterna\, Södermannagatan 38\, 116 40 Stockholm\, Sverige\, Södermannagatan 38\, Stockholm\, 116 40\, Sverige
END:VEVENT
END:VCALENDAR