BEGIN:VCALENDAR
VERSION:2.0
PRODID:-//FPES - ECPv6.15.20//NONSGML v1.0//EN
CALSCALE:GREGORIAN
METHOD:PUBLISH
X-WR-CALNAME:FPES
X-ORIGINAL-URL:https://fpes.se
X-WR-CALDESC:Händelser för FPES
REFRESH-INTERVAL;VALUE=DURATION:PT1H
X-Robots-Tag:noindex
X-PUBLISHED-TTL:PT1H
BEGIN:VTIMEZONE
TZID:Europe/Stockholm
BEGIN:DAYLIGHT
TZOFFSETFROM:+0100
TZOFFSETTO:+0200
TZNAME:CEST
DTSTART:20230326T010000
END:DAYLIGHT
BEGIN:STANDARD
TZOFFSETFROM:+0200
TZOFFSETTO:+0100
TZNAME:CET
DTSTART:20231029T010000
END:STANDARD
BEGIN:DAYLIGHT
TZOFFSETFROM:+0100
TZOFFSETTO:+0200
TZNAME:CEST
DTSTART:20240331T010000
END:DAYLIGHT
BEGIN:STANDARD
TZOFFSETFROM:+0200
TZOFFSETTO:+0100
TZNAME:CET
DTSTART:20241027T010000
END:STANDARD
BEGIN:DAYLIGHT
TZOFFSETFROM:+0100
TZOFFSETTO:+0200
TZNAME:CEST
DTSTART:20250330T010000
END:DAYLIGHT
BEGIN:STANDARD
TZOFFSETFROM:+0200
TZOFFSETTO:+0100
TZNAME:CET
DTSTART:20251026T010000
END:STANDARD
END:VTIMEZONE
BEGIN:VEVENT
DTSTART;TZID=Europe/Stockholm:20240203T110000
DTEND;TZID=Europe/Stockholm:20240203T123000
DTSTAMP:20260422T171200
CREATED:20240122T182200Z
LAST-MODIFIED:20240201T160022Z
UID:196758-1706958000-1706963400@fpes.se
SUMMARY:ÅRSMÖTE FÖR BÅSTADSTRÄFFEN
DESCRIPTION:Se Årsmöte 2024 | bastadstraffen.se  för mer info
URL:https://fpes.se/event/arsmote-for-bastadstraffen-2/
END:VEVENT
BEGIN:VEVENT
DTSTART;TZID=Europe/Stockholm:20240204T130000
DTEND;TZID=Europe/Stockholm:20240204T150000
DTSTAMP:20260422T171200
CREATED:20240124T220627Z
LAST-MODIFIED:20240201T160022Z
UID:196766-1707051600-1707058800@fpes.se
SUMMARY:Brunch på Dynamo
DESCRIPTION:Varmt välkomna på TRANSBRUNCH.\nDenna gång bjuder vi på mysig brunch på Cafe Dynamo (Södermannagatan 38). Lokalen ligger på markplan och det finns en tillgänglighetsanpassad toalett.\nVi bjuder på gratis vegansk mat\, kaffe/te och kakor. Det går att donera lite pengar\, cash eller swish\, men alla som behöver äter gratis.\nTransbrunchen är ett samarbete mellan Transammans Stockholm\, FPES Stockholm och Trans Fest Stockholm.\nVårt mål är att skapa ett säkert utrymme för transpersoner i alla åldrar att träffas och ha det trevligt\, fika och kanske till och med få några nya vänner!\n————————————–\nWarmly welcome to TRANS BRUNCH.\nThis time we are inviting you for the lovely brunch at ​​Cafe Dynamo (Södermannagatan 38). The venue is on the bottom floor and there is an accessible bathroom.\nThere’ll be vegan food\, coffee/tea and cookies. You can donate some money\, cash or swish\, but everyone who needs it eats for free.\nThe brunch is a collaboration between Transammans Stockholm\, FPES Förening för transpersoner Stockholm and Trans Fest Stockholm.\nOur aim is to create a safer space for trans people of all ages to meet and have a good time\, have some fika and maybe even make some new friends!
URL:https://fpes.se/event/brunch-pa-dynamo-12/
LOCATION:Demokratipiloterna\, Södermannagatan 38\, 116 40 Stockholm\, Sverige\, Södermannagatan 38\, Stockholm\, 116 40\, Sverige
END:VEVENT
BEGIN:VEVENT
DTSTART;TZID=Europe/Stockholm:20240206T190000
DTEND;TZID=Europe/Stockholm:20240206T203000
DTSTAMP:20260422T171200
CREATED:20230204T140710Z
LAST-MODIFIED:20240203T114211Z
UID:195337-1707246000-1707251400@fpes.se
SUMMARY:Göteborg: Lokalavdelningens årsmöte
DESCRIPTION:Vi träffas i en lokal där vi är för oss själva i Regnbågshuset.
URL:https://fpes.se/event/goteborg-lokalavdelningens-arsmote-2/
LOCATION:Barlastgatan 2\, 414 63 Göteborg\, Sverige\, Barlastgatan 2\, Göteborg\, 414 63\, Sverige
END:VEVENT
BEGIN:VEVENT
DTSTART;TZID=Europe/Stockholm:20240207T190000
DTEND;TZID=Europe/Stockholm:20240207T210000
DTSTAMP:20260422T171200
CREATED:20231231T100420Z
LAST-MODIFIED:20240201T160022Z
UID:196656-1707332400-1707339600@fpes.se
SUMMARY:FPES Mellansverige Cafeträff
DESCRIPTION:Vi träffas som vanligt och fikar\, snackar och har det bra.\nVi är i stora rummet längst in till höger. Välkomna!
URL:https://fpes.se/event/fpes-mellansverige-cafetraff-6/
LOCATION:Demokratipiloterna\, Södermannagatan 38\, 116 40 Stockholm\, Sverige\, Södermannagatan 38\, Stockholm\, 116 40\, Sverige
END:VEVENT
BEGIN:VEVENT
DTSTART;TZID=Europe/Stockholm:20240208T190000
DTEND;TZID=Europe/Stockholm:20240208T203000
DTSTAMP:20260422T171200
CREATED:20240208T210449Z
LAST-MODIFIED:20240210T130857Z
UID:196877-1707418800-1707424200@fpes.se
SUMMARY:FPES Rixcafé
DESCRIPTION:Samtal om könsidentitet \nAnmäl dig här: https://simplesignup.se/private_event/207094/11eb8d94c6 \nHar du funderingar om din könsidentitet? Vill du träffas för ett samtal?\nVi bjuder nu in till web-baserade möten där vi kan träffas och diskutera\, stödja och hjälpa varandra. Det spelar ingen roll hur om du definierar dig som transfeminin\, transmaskulin\, icke-binär eller tycker att ingen av dessa eller andra beteckningar passar in. Även anhöriga till transpersoner är välkomna. Du behöver inte vara medlem i FPES och vi riktar oss särskilt till de som av olika anledningar inte kan närvara på de lokala möten som föreningen redan nu arrangerar.\nGruppen leds av två personer som har egen erfarenhet av att leva som transpersoner och som också medverkat i olika fysiska samtalsgrupper.\nDu väljer själv vilket namn du vill använda vid mötet och du behöver inte medverka i bild om du inte så önskar. Vi kommer att inleda våra möten med en kort runda där alla kan presentera sig och berätta vad de skulle vilja ta upp på mötet men det går också bra att vara med och bara lyssna. \nVälkomna!\nHelena\nFPES Event
URL:https://fpes.se/event/fpes-rixcafe-9/
END:VEVENT
END:VCALENDAR