BEGIN:VCALENDAR
VERSION:2.0
PRODID:-//FPES - ECPv6.15.20//NONSGML v1.0//EN
CALSCALE:GREGORIAN
METHOD:PUBLISH
X-WR-CALNAME:FPES
X-ORIGINAL-URL:https://fpes.se
X-WR-CALDESC:Händelser för FPES
REFRESH-INTERVAL;VALUE=DURATION:PT1H
X-Robots-Tag:noindex
X-PUBLISHED-TTL:PT1H
BEGIN:VTIMEZONE
TZID:Europe/Stockholm
BEGIN:DAYLIGHT
TZOFFSETFROM:+0100
TZOFFSETTO:+0200
TZNAME:CEST
DTSTART:20230326T010000
END:DAYLIGHT
BEGIN:STANDARD
TZOFFSETFROM:+0200
TZOFFSETTO:+0100
TZNAME:CET
DTSTART:20231029T010000
END:STANDARD
BEGIN:DAYLIGHT
TZOFFSETFROM:+0100
TZOFFSETTO:+0200
TZNAME:CEST
DTSTART:20240331T010000
END:DAYLIGHT
BEGIN:STANDARD
TZOFFSETFROM:+0200
TZOFFSETTO:+0100
TZNAME:CET
DTSTART:20241027T010000
END:STANDARD
BEGIN:DAYLIGHT
TZOFFSETFROM:+0100
TZOFFSETTO:+0200
TZNAME:CEST
DTSTART:20250330T010000
END:DAYLIGHT
BEGIN:STANDARD
TZOFFSETFROM:+0200
TZOFFSETTO:+0100
TZNAME:CET
DTSTART:20251026T010000
END:STANDARD
END:VTIMEZONE
BEGIN:VEVENT
DTSTART;TZID=Europe/Stockholm:20240602T130000
DTEND;TZID=Europe/Stockholm:20240602T150000
DTSTAMP:20260422T045121
CREATED:20240221T200215Z
LAST-MODIFIED:20240221T200215Z
UID:197161-1717333200-1717340400@fpes.se
SUMMARY:Brunch på Dynamo
DESCRIPTION:[ENGLISH BELOW]Varmt välkomna på TRANSBRUNCH.Denna gång bjuder vi på mysig brunch på Cafe Dynamo (Södermannagatan 38). Lokalen ligger på markplan och det finns en tillgänglighetsanpassad toalett.Vi bjuder på gratis vegansk mat\, kaffe/te och kakor. Det går att donera lite pengar\, cash eller swish\, men alla som behöver äter gratis.Transbrunchen är ett samarbete mellan Transammans Stockholm\, FPES Stockholm och Trans Fest Stockholm.Vårt mål är att skapa ett säkert utrymme för transpersoner i alla åldrar att träffas och ha det trevligt\, fika och kanske till och med få några nya vänner! \n————————————–Warmly welcome to TRANS BRUNCH.This time we are inviting you for the lovely brunch at ​​Cafe Dynamo (Södermannagatan 38). The venue is on the bottom floor and there is an accessible bathroom.There’ll be vegan food\, coffee/tea and cookies. You can donate some money\, cash or swish\, but everyone who needs it eats for free.The brunch is a collaboration between Transammans Stockholm\, FPES Förening för transpersoner Stockholm and Trans Fest Stockholm.Our aim is to create a safer space for trans people of all ages to meet and have a good time\, have some fika and maybe even make some new friends!
URL:https://fpes.se/event/brunch-pa-dynamo-24/
LOCATION:Demokratipiloterna\, Södermannagatan 38\, 116 40 Stockholm\, Sverige\, Södermannagatan 38\, Stockholm\, 11640\, Sverige
ORGANIZER;CN="fpes.kalender@gmail.com":MAILTO:fpes_kalender@gmail_com
END:VEVENT
BEGIN:VEVENT
DTSTART;TZID=Europe/Stockholm:20240607T190000
DTEND;TZID=Europe/Stockholm:20240607T220000
DTSTAMP:20260422T045121
CREATED:20240602T080206Z
LAST-MODIFIED:20240602T080206Z
UID:197582-1717786800-1717797600@fpes.se
SUMMARY:FPES Syd: ClubTransparence
DESCRIPTION:Se mail som gått till dig som är med i avdelning syd
URL:https://fpes.se/event/fpes-syd-clubtransparence-4/
ORGANIZER;CN="fpes.kalender@gmail.com":MAILTO:fpes_kalender@gmail_com
END:VEVENT
BEGIN:VEVENT
DTSTART;TZID=Europe/Stockholm:20240612T183000
DTEND;TZID=Europe/Stockholm:20240612T203000
DTSTAMP:20260422T045121
CREATED:20240609T203832Z
LAST-MODIFIED:20240609T204911Z
UID:197614-1718217000-1718224200@fpes.se
SUMMARY:Månadsmöte FPES-Sydost
DESCRIPTION:FPES-Sydost månadsmöte kl 18.30 Restaurang Michelangelo\, Ronnebygatan 29\, 371 12 Karlskrona\, gärna en liten anmälan till tiina.deore@gmail.com om du/ni tänker komma. Restaurang Michelangelo – Google Maps
URL:https://fpes.se/event/manadsmote-fpes-sydost-7/
LOCATION:Restaurang Michelangelo\, Ronnebygatan 29\, 371 12 Karlskrona\, Sverige\, Ronnebygatan 29\, Karlskrona\, 37112\, Sverige
ORGANIZER;CN="fpes.kalender@gmail.com":MAILTO:fpes_kalender@gmail_com
END:VEVENT
BEGIN:VEVENT
DTSTART;TZID=Europe/Stockholm:20240612T190000
DTEND;TZID=Europe/Stockholm:20240612T210000
DTSTAMP:20260422T045121
CREATED:20240212T165956Z
LAST-MODIFIED:20240212T165956Z
UID:196997-1718218800-1718226000@fpes.se
SUMMARY:FPES Mellansverige Cafeträff
DESCRIPTION:Vi träffas som vanligt och fikar\, snackar och har det bra.Vi är i stora rummet längst in till höger. Välkomna!
URL:https://fpes.se/event/fpes-mellansverige-cafetraff-31/
LOCATION:Demokratipiloterna\, Södermannagatan 38\, 116 40 Stockholm\, Sverige\, Södermannagatan 38\, Stockholm\, 11640\, Sverige
END:VEVENT
BEGIN:VEVENT
DTSTART;TZID=Europe/Stockholm:20240614T200000
DTEND;TZID=Europe/Stockholm:20240615T010000
DTSTAMP:20260422T045121
CREATED:20240610T200242Z
LAST-MODIFIED:20240610T200242Z
UID:197626-1718395200-1718413200@fpes.se
SUMMARY:Klubbkväll West Pride
DESCRIPTION:The Way Out Night
URL:https://fpes.se/event/klubbkvall-west-pride/
LOCATION:Hängmattan\, Karl Johansgatan 16\, 414 59 Göteborg\, Sverige
ORGANIZER;CN="fpes.kalender@gmail.com":MAILTO:fpes_kalender@gmail_com
END:VEVENT
BEGIN:VEVENT
DTSTART;TZID=Europe/Stockholm:20240618T190000
DTEND;TZID=Europe/Stockholm:20240618T203000
DTSTAMP:20260422T045121
CREATED:20240212T165956Z
LAST-MODIFIED:20240212T165956Z
UID:196998-1718737200-1718742600@fpes.se
SUMMARY:FPES Väst: Trivselträff
DESCRIPTION:Vi träffas i en lokal där vi är för oss själva i Regnbågshuset. https://goteborg.se/wps/portal/enhetssida/regnbagshuset/hitta-hit Anordnas i samarbete med nätverket Vänner i Väst.
URL:https://fpes.se/event/fpes-vast-trivseltraff-5/
LOCATION:Barlastgatan 2 (Amerikahuset)\, 414 63 Göteborg\, Sverige\, Barlastgatan 2\, Göteborg\, 41463\, Sverige
END:VEVENT
END:VCALENDAR