BEGIN:VCALENDAR
VERSION:2.0
PRODID:-//FPES - ECPv6.15.20//NONSGML v1.0//EN
CALSCALE:GREGORIAN
METHOD:PUBLISH
X-WR-CALNAME:FPES
X-ORIGINAL-URL:https://fpes.se
X-WR-CALDESC:Händelser för FPES
REFRESH-INTERVAL;VALUE=DURATION:PT1H
X-Robots-Tag:noindex
X-PUBLISHED-TTL:PT1H
BEGIN:VTIMEZONE
TZID:Europe/Stockholm
BEGIN:DAYLIGHT
TZOFFSETFROM:+0100
TZOFFSETTO:+0200
TZNAME:CEST
DTSTART:20230326T010000
END:DAYLIGHT
BEGIN:STANDARD
TZOFFSETFROM:+0200
TZOFFSETTO:+0100
TZNAME:CET
DTSTART:20231029T010000
END:STANDARD
BEGIN:DAYLIGHT
TZOFFSETFROM:+0100
TZOFFSETTO:+0200
TZNAME:CEST
DTSTART:20240331T010000
END:DAYLIGHT
BEGIN:STANDARD
TZOFFSETFROM:+0200
TZOFFSETTO:+0100
TZNAME:CET
DTSTART:20241027T010000
END:STANDARD
BEGIN:DAYLIGHT
TZOFFSETFROM:+0100
TZOFFSETTO:+0200
TZNAME:CEST
DTSTART:20250330T010000
END:DAYLIGHT
BEGIN:STANDARD
TZOFFSETFROM:+0200
TZOFFSETTO:+0100
TZNAME:CET
DTSTART:20251026T010000
END:STANDARD
END:VTIMEZONE
BEGIN:VEVENT
DTSTART;TZID=Europe/Stockholm:20241201T130000
DTEND;TZID=Europe/Stockholm:20241201T150000
DTSTAMP:20260421T121749
CREATED:20240821T200303Z
LAST-MODIFIED:20240821T200303Z
UID:197819-1733058000-1733065200@fpes.se
SUMMARY:Brunch på Dynamo
DESCRIPTION:[ENGLISH BELOW]Varmt välkomna på TRANSBRUNCH.Denna gång bjuder vi på mysig brunch på Cafe Dynamo (Södermannagatan 38). Lokalen ligger på markplan och det finns en tillgänglighetsanpassad toalett.Vi bjuder på gratis vegansk mat\, kaffe/te och kakor. Det går att donera lite pengar\, cash eller swish\, men alla som behöver äter gratis.Transbrunchen är ett samarbete mellan Transammans Stockholm\, FPES Stockholm och Trans Fest Stockholm.Vårt mål är att skapa ett säkert utrymme för transpersoner i alla åldrar att träffas och ha det trevligt\, fika och kanske till och med få några nya vänner! \n————————————–Warmly welcome to TRANS BRUNCH.This time we are inviting you for the lovely brunch at ​​Cafe Dynamo (Södermannagatan 38). The venue is on the bottom floor and there is an accessible bathroom.There’ll be vegan food\, coffee/tea and cookies. You can donate some money\, cash or swish\, but everyone who needs it eats for free.The brunch is a collaboration between Transammans Stockholm\, FPES Förening för transpersoner Stockholm and Trans Fest Stockholm.Our aim is to create a safer space for trans people of all ages to meet and have a good time\, have some fika and maybe even make some new friends!
URL:https://fpes.se/event/brunch-pa-dynamo-26/
LOCATION:Demokratipiloterna\, Södermannagatan 38\, 116 40 Stockholm\, Sverige\, Södermannagatan 38\, Stockholm\, 11640\, Sverige
ORGANIZER;CN="fpes.kalender@gmail.com":MAILTO:fpes_kalender@gmail_com
END:VEVENT
BEGIN:VEVENT
DTSTART;TZID=Europe/Stockholm:20241206T190000
DTEND;TZID=Europe/Stockholm:20241206T220000
DTSTAMP:20260421T121749
CREATED:20241203T174017Z
LAST-MODIFIED:20241203T174017Z
UID:198090-1733511600-1733522400@fpes.se
SUMMARY:FPES Syd: ClubTransparence
DESCRIPTION:Se mail som gått till dig som är med i avdelning syd
URL:https://fpes.se/event/fpes-syd-clubtransparence-7/
ORGANIZER;CN="fpes.kalender@gmail.com":MAILTO:fpes_kalender@gmail_com
END:VEVENT
BEGIN:VEVENT
DTSTART;TZID=Europe/Stockholm:20241211T190000
DTEND;TZID=Europe/Stockholm:20241211T210000
DTSTAMP:20260421T121749
CREATED:20240212T165957Z
LAST-MODIFIED:20241203T172519Z
UID:197011-1733943600-1733950800@fpes.se
SUMMARY:FPES Mellansverige Cafeträff - Temakväll
DESCRIPTION:Vi är glada att bjuda in er till en viktig och intressant kväll där vi denna gång som fortsättning på våra temakvällar kommer att fördjupa oss i ämnet könsbekräftande kirurgi. Tillsammans kommer vi att diskutera de utmaningar och möjligheter som finns för personer som söker vård i form av bröstförstoring och ansiktskirurgi (FFS). \nDatum: 2024-12-11\nTid: 19:00\nPlats: Södermannagatan 38 \nUnder kvällen kommer Malin och Helena kunna ge insikt i ämnet\, främst av egen erfarenhet och som bollplank kunna svara på allmänna frågor inför liknande ingrepp både i Sverige och utomlands. Vi diskuterar frågor som väntetider\, tillgång till vård\, samt de psykiska och fysiska aspekterna av dessa behandlingar och livskvalitet både före och efter.\nVi ser fram emot en kväll fylld av viktiga samtal och gemenskap.\nAlla är välkomna! 🌈 \n 
URL:https://fpes.se/event/fpes-mellansverige-cafetraff-44/
LOCATION:Demokratipiloterna\, Södermannagatan 38\, 116 40 Stockholm\, Sverige\, Södermannagatan 38\, Stockholm\, 11640\, Sverige
END:VEVENT
BEGIN:VEVENT
DTSTART;TZID=Europe/Stockholm:20241211T190000
DTEND;TZID=Europe/Stockholm:20241211T210000
DTSTAMP:20260421T121749
CREATED:20241203T174018Z
LAST-MODIFIED:20241203T174018Z
UID:198091-1733943600-1733950800@fpes.se
SUMMARY:FPES Mellansverige Cafeträff
DESCRIPTION:Vi är glada att bjuda in er till en viktig ochintressant kväll där vi denna gång som fortsättning på våra temakvällar kommeratt fördjupa oss i ämnet könsbekräftande kirurgi. Tillsammans kommer vi attdiskutera de utmaningar och möjligheter som finns för personer som söker vård iform av bröstförstoring och ansiktskirurgi (FFS). \nDatum: 2024-12-11Tid: 19:00Plats: Södermannagatan 38 \nUnder kvällen kommer Malin och Helena kunna geinsikt i ämnet\, främst av egen erfarenhet och som bollplank kunna svara påallmänna frågor inför liknande ingrepp både i Sverige och utomlands. Vidiskuterar frågor som väntetider\, tillgång till vård\, samt de psykiska ochfysiska aspekterna av dessa behandlingar och livskvalitet både före och gemenskap.Alla är välkomna! 🌈 \n 
URL:https://fpes.se/event/fpes-mellansverige-cafetraff-18/
LOCATION:Demokratipiloterna\, Södermannagatan 38\, 116 40 Stockholm\, Sverige\, Södermannagatan 38\, Stockholm\, 11640\, Sverige
ORGANIZER;CN="fpes.kalender@gmail.com":MAILTO:fpes_kalender@gmail_com
END:VEVENT
BEGIN:VEVENT
DTSTART;TZID=Europe/Stockholm:20241217T190000
DTEND;TZID=Europe/Stockholm:20241217T203000
DTSTAMP:20260421T121749
CREATED:20240814T200213Z
LAST-MODIFIED:20240814T200213Z
UID:197799-1734462000-1734467400@fpes.se
SUMMARY:FPES Väst: Trivselträff
DESCRIPTION:Vi träffas i en lokal där vi är för oss själva i Regnbågshuset. https://goteborg.se/wps/portal/enhetssida/regnbagshuset/hitta-hit
URL:https://fpes.se/event/fpes-vast-trivseltraff-4/
LOCATION:Barlastgatan 2 (Amerikahuset)\, 414 63 Göteborg\, Sverige\, Barlastgatan 2\, Göteborg\, 41463\, Sverige
ORGANIZER;CN="fpes.kalender@gmail.com":MAILTO:fpes_kalender@gmail_com
END:VEVENT
BEGIN:VEVENT
DTSTART;TZID=Europe/Stockholm:20241218T190000
DTEND;TZID=Europe/Stockholm:20241218T200000
DTSTAMP:20260421T121749
CREATED:20241123T200211Z
LAST-MODIFIED:20241203T173810Z
UID:198055-1734548400-1734552000@fpes.se
SUMMARY:Närståendeträff - digital
DESCRIPTION:Välkomna till digitala närståendeträffar följande datum\nkl. 19-20 \n18 december\n16 januari\n4 februari \nVi som leder träffarna är inte professionella utan själva närstående på olika sätt. Träffarna syftar till att få möjlighet att prata med andra närstående och stötta varandra. \nFör att delta; maila narstaende@fpes.se så får du en länk till mötet.
URL:https://fpes.se/event/narstaendetraff-digital-2/
ORGANIZER;CN="fpes.kalender@gmail.com":MAILTO:fpes_kalender@gmail_com
END:VEVENT
BEGIN:VEVENT
DTSTART;TZID=Europe/Stockholm:20241222T130000
DTEND;TZID=Europe/Stockholm:20241222T150000
DTSTAMP:20260421T121749
CREATED:20241201T200219Z
LAST-MODIFIED:20241203T173550Z
UID:198077-1734872400-1734879600@fpes.se
SUMMARY:Brunch på Dynamo
DESCRIPTION:[ENGLISH BELOW]\nVarmt välkomna på TRANSBRUNCH.\nDenna gång bjuder vi på mysig brunch på Cafe Dynamo (Södermannagatan 38). Lokalen ligger på markplan och det finns en tillgänglighetsanpassad toalett.\nVi bjuder på gratis vegansk mat\, kaffe/te och kakor. Det går att donera lite pengar\, cash eller swish\, men alla som behöver äter gratis.\nTransbrunchen är ett samarbete mellan Transammans Stockholm\, FPES Stockholm och Trans Fest Stockholm.\nVårt mål är att skapa ett säkert utrymme för transpersoner i alla åldrar att träffas och ha det trevligt\, fika och kanske till och med få några nya vänner! \n————————————–\nWarmly welcome to TRANS BRUNCH.\nThis time we are inviting you for the lovely brunch at ​​Cafe Dynamo (Södermannagatan 38). The venue is on the bottom floor and there is an accessible bathroom.\nThere’ll be vegan food\, coffee/tea and cookies. You can donate some money\, cash or swish\, but everyone who needs it eats for free.\nThe brunch is a collaboration between Transammans Stockholm\, FPES Förening för transpersoner Stockholm and Trans Fest Stockholm.\nOur aim is to create a safer space for trans people of all ages to meet and have a good time\, have some fika and maybe even make some new friends!
URL:https://fpes.se/event/brunch-pa-dynamo-27/
LOCATION:Demokratipiloterna\, Södermannagatan 38\, 116 40 Stockholm\, Sverige\, Södermannagatan 38\, Stockholm\, 11640\, Sverige
ORGANIZER;CN="fpes.kalender@gmail.com":MAILTO:fpes_kalender@gmail_com
END:VEVENT
BEGIN:VEVENT
DTSTART;TZID=Europe/Stockholm:20241230T190000
DTEND;TZID=Europe/Stockholm:20241230T203000
DTSTAMP:20260421T121749
CREATED:20241224T105409Z
LAST-MODIFIED:20241224T105542Z
UID:198169-1735585200-1735590600@fpes.se
SUMMARY:FPES Rixcafé
DESCRIPTION:Har du funderingar om din könsidentitet? Vill du träffas för ett samtal? Vi bjuder nu in till web-baserade möten där vi kan träffas och diskutera\, stödja och hjälpa varandra. \nDet spelar ingen roll hur om du definierar dig som transfeminin\, transmaskulin\, icke-binär eller tycker att ingen av dessa eller andra beteckningar passar in. Även anhöriga till transpersoner är välkomna. \nDu behöver inte vara medlem i FPES och vi riktar oss särskilt till de som av olika anledningar inte kan närvara på de lokala möten som föreningen redan nu arrangerar. \nGruppen leds avtvå personer som har egen erfarenhet av att leva som transpersoner och som också medverkat i olika fysiska samtalsgrupper. \nVi kommer att inleda mötet med en kort runda där alla kan presentera sig och berätta vad de skulle vilja ta upp på mötet men det går också bra att vara med och bara lyssna. Om du vill så är du välkommen att kort berätta om dig själv och hur du ser på det kommande mötet. Du väljer själv vilket namn du vill använda vid mötet och du behöver inte medverka i bild om du inte så önskar. \nAnmäl dig här:     https://simplesignup.se/private_event/221472/a8a6ef2d81 \nVälkomna! \nTui och Helena
URL:https://fpes.se/event/fpes-rixcafe-21/
ORGANIZER;CN="fpes.kalender@gmail.com":MAILTO:fpes_kalender@gmail_com
END:VEVENT
END:VCALENDAR