BEGIN:VCALENDAR
VERSION:2.0
PRODID:-//FPES - ECPv6.15.20//NONSGML v1.0//EN
CALSCALE:GREGORIAN
METHOD:PUBLISH
X-ORIGINAL-URL:https://fpes.se
X-WR-CALDESC:Händelser för FPES
REFRESH-INTERVAL;VALUE=DURATION:PT1H
X-Robots-Tag:noindex
X-PUBLISHED-TTL:PT1H
BEGIN:VTIMEZONE
TZID:Europe/Stockholm
BEGIN:DAYLIGHT
TZOFFSETFROM:+0100
TZOFFSETTO:+0200
TZNAME:CEST
DTSTART:20240331T010000
END:DAYLIGHT
BEGIN:STANDARD
TZOFFSETFROM:+0200
TZOFFSETTO:+0100
TZNAME:CET
DTSTART:20241027T010000
END:STANDARD
BEGIN:DAYLIGHT
TZOFFSETFROM:+0100
TZOFFSETTO:+0200
TZNAME:CEST
DTSTART:20250330T010000
END:DAYLIGHT
BEGIN:STANDARD
TZOFFSETFROM:+0200
TZOFFSETTO:+0100
TZNAME:CET
DTSTART:20251026T010000
END:STANDARD
BEGIN:DAYLIGHT
TZOFFSETFROM:+0100
TZOFFSETTO:+0200
TZNAME:CEST
DTSTART:20260329T010000
END:DAYLIGHT
BEGIN:STANDARD
TZOFFSETFROM:+0200
TZOFFSETTO:+0100
TZNAME:CET
DTSTART:20261025T010000
END:STANDARD
END:VTIMEZONE
BEGIN:VEVENT
DTSTART;TZID=Europe/Stockholm:20250202T130000
DTEND;TZID=Europe/Stockholm:20250202T150000
DTSTAMP:20260421T210225
CREATED:20241212T080219Z
LAST-MODIFIED:20241215T092634Z
UID:198118-1738501200-1738508400@fpes.se
SUMMARY:Brunch på Dynamo
DESCRIPTION:[ENGLISH BELOW]\nVarmt välkomna på TRANSBRUNCH.\nDenna gång bjuder vi på mysig brunch på Cafe Dynamo (Södermannagatan 38). Lokalen ligger på markplan och det finns en tillgänglighetsanpassad toalett.\nVi bjuder på gratis vegansk mat\, kaffe/te och kakor. Det går att donera lite pengar\, cash eller swish\, men alla som behöver äter gratis.\nTransbrunchen är ett samarbete mellan Transammans Stockholm\, FPES Stockholm och Trans Fest Stockholm.\nVårt mål är att skapa ett säkert utrymme för transpersoner i alla åldrar att träffas och ha det trevligt\, fika och kanske till och med få några nya vänner! \n————————————–\nWarmly welcome to TRANS BRUNCH.\nThis time we are inviting you for the lovely brunch at ​​Cafe Dynamo (Södermannagatan 38). The venue is on the bottom floor and there is an accessible bathroom.\nThere’ll be vegan food\, coffee/tea and cookies. You can donate some money\, cash or swish\, but everyone who needs it eats for free.\nThe brunch is a collaboration between Transammans Stockholm\, FPES Förening för transpersoner Stockholm and Trans Fest Stockholm.\nOur aim is to create a safer space for trans people of all ages to meet and have a good time\, have some fika and maybe even make some new friends!
URL:https://fpes.se/event/brunch-pa-dynamo-29/
LOCATION:Demokratipiloterna\, Södermannagatan 38\, 116 40 Stockholm\, Sverige\, Södermannagatan 38\, Stockholm\, 11640\, Sverige
ORGANIZER;CN="fpes.kalender@gmail.com":MAILTO:fpes_kalender@gmail_com
END:VEVENT
BEGIN:VEVENT
DTSTART;TZID=Europe/Stockholm:20250202T140000
DTEND;TZID=Europe/Stockholm:20250202T150000
DTSTAMP:20260421T210225
CREATED:20250113T200234Z
LAST-MODIFIED:20250114T163006Z
UID:198251-1738504800-1738508400@fpes.se
SUMMARY:FPES-Sydost Årsmöte
DESCRIPTION:FPES-Sydost Årsmöte i Kalmar. Kallelse har gått ut som medl.mejl. Om du vill ha handlingarna\, mejla tiina.deore@gmail.com
URL:https://fpes.se/event/fpes-sydost-arsmote/
ORGANIZER;CN="fpes.kalender@gmail.com":MAILTO:fpes_kalender@gmail_com
END:VEVENT
BEGIN:VEVENT
DTSTART;TZID=Europe/Stockholm:20250204T190000
DTEND;TZID=Europe/Stockholm:20250204T200000
DTSTAMP:20260421T210225
CREATED:20241123T200211Z
LAST-MODIFIED:20250114T163156Z
UID:198057-1738695600-1738699200@fpes.se
SUMMARY:Närståendeträff - digital
DESCRIPTION:Välkomna till digitala närståendeträffar följande datum\nkl. 19-20 \n4 februari \nVi som leder träffarna är inte professionella utan själva närstående på olika sätt. Träffarna syftar till att få möjlighet att prata med andra närstående och stötta varandra. \nFör att delta; maila narstaende@fpes.se så får du en länk till mötet.
URL:https://fpes.se/event/narstaendetraff-digital-4/
ORGANIZER;CN="fpes.kalender@gmail.com":MAILTO:fpes_kalender@gmail_com
END:VEVENT
BEGIN:VEVENT
DTSTART;TZID=Europe/Stockholm:20250204T190000
DTEND;TZID=Europe/Stockholm:20250204T203000
DTSTAMP:20260421T210225
CREATED:20241205T200235Z
LAST-MODIFIED:20241215T102113Z
UID:198097-1738695600-1738701000@fpes.se
SUMMARY:FPES Väst: Årsmöte
DESCRIPTION:Vi träffas i en lokal där vi är för oss själva i Regnbågshuset. \n\nhttps://goteborg.se/wps/portal/enhetssida/regnbagshuset/hitta-hit
URL:https://fpes.se/event/fpes-vast-arsmote/
LOCATION:Barlastgatan 2 (Amerikahuset)\, 414 63 Göteborg\, Sverige\, Barlastgatan 2\, Göteborg\, 41463\, Sverige
ORGANIZER;CN="fpes.kalender@gmail.com":MAILTO:fpes_kalender@gmail_com
END:VEVENT
BEGIN:VEVENT
DTSTART;TZID=Europe/Stockholm:20250205T190000
DTEND;TZID=Europe/Stockholm:20250205T210000
DTSTAMP:20260421T210225
CREATED:20250106T200216Z
LAST-MODIFIED:20250114T163258Z
UID:198199-1738782000-1738789200@fpes.se
SUMMARY:FPES Mellansverige Cafeträff
DESCRIPTION:Vi träffas som vanligt och fikar\, snackar och har det bra.\nVi är i stora rummet längst in till höger. Välkomna!
URL:https://fpes.se/event/fpes-mellansverige-cafetraff-30/
LOCATION:Demokratipiloterna\, Södermannagatan 38\, 116 40 Stockholm\, Sverige\, Södermannagatan 38\, Stockholm\, 11640\, Sverige
ORGANIZER;CN="fpes.kalender@gmail.com":MAILTO:fpes_kalender@gmail_com
END:VEVENT
BEGIN:VEVENT
DTSTART;TZID=Europe/Stockholm:20250213T170000
DTEND;TZID=Europe/Stockholm:20250213T190000
DTSTAMP:20260421T210225
CREATED:20250113T200234Z
LAST-MODIFIED:20250114T163417Z
UID:198252-1739466000-1739473200@fpes.se
SUMMARY:Öppen fikaskärm på Zoom
DESCRIPTION:Öppen fikaskärm på Zoom. \nHär väljer vi själva vad vi vill prata om över en kopp fika. \nVäl mött\, Tiina \nAnmäl dig här för att deltaga: https://simplesignup.se/private_event/221807/d2988bea83
URL:https://fpes.se/event/oppen-fikaskarm-pa-zoom-3/
ORGANIZER;CN="fpes.kalender@gmail.com":MAILTO:fpes_kalender@gmail_com
END:VEVENT
BEGIN:VEVENT
DTSTART;TZID=Europe/Stockholm:20250219T190000
DTEND;TZID=Europe/Stockholm:20250219T200000
DTSTAMP:20260421T210225
CREATED:20250121T190253Z
LAST-MODIFIED:20250121T190253Z
UID:198294-1739991600-1739995200@fpes.se
SUMMARY:Årsmöte FPES mellansverige
DESCRIPTION:
URL:https://fpes.se/event/arsmote-fpes-mellansverige/
LOCATION:Demokratipiloterna\, Södermannagatan 38\, 116 40 Stockholm\, Sverige\, Södermannagatan 38\, Stockholm\, 11640\, Sverige
ORGANIZER;CN="fpes.kalender@gmail.com":MAILTO:fpes_kalender@gmail_com
END:VEVENT
BEGIN:VEVENT
DTSTART;TZID=Europe/Stockholm:20250219T200000
DTEND;TZID=Europe/Stockholm:20250219T210000
DTSTAMP:20260421T210225
CREATED:20250121T190253Z
LAST-MODIFIED:20250121T190503Z
UID:198295-1739995200-1739998800@fpes.se
SUMMARY:FPES Mellansverige Cafeträff
DESCRIPTION:Vi träffas som vanligt och fikar\, snackar och har det bra \nVi är i stora rummet längst in till höger. Välkomna!
URL:https://fpes.se/event/fpes-mellansverige-cafetraff-32/
LOCATION:Demokratipiloterna\, Södermannagatan 38\, 116 40 Stockholm\, Sverige\, Södermannagatan 38\, Stockholm\, 11640\, Sverige
ORGANIZER;CN="fpes.kalender@gmail.com":MAILTO:fpes_kalender@gmail_com
END:VEVENT
BEGIN:VEVENT
DTSTART;TZID=Europe/Stockholm:20250227T190000
DTEND;TZID=Europe/Stockholm:20250227T203000
DTSTAMP:20260421T210225
CREATED:20241205T200235Z
LAST-MODIFIED:20250213T185358Z
UID:198098-1740682800-1740688200@fpes.se
SUMMARY:FPES Väst: Månadsträff
DESCRIPTION:Vi träffas i en lokal där vi är för oss själva i Regnbågshuset.\nhttps://goteborg.se/wps/portal/enhetssida/regnbagshuset/hitta-hit
URL:https://fpes.se/event/fpes-vast-manadstraff/
LOCATION:Barlastgatan 2 (Amerikahuset)\, 414 63 Göteborg\, Sverige\, Barlastgatan 2\, Göteborg\, 41463\, Sverige
ORGANIZER;CN="fpes.kalender@gmail.com":MAILTO:fpes_kalender@gmail_com
END:VEVENT
END:VCALENDAR