BEGIN:VCALENDAR
VERSION:2.0
PRODID:-//FPES - ECPv6.15.20//NONSGML v1.0//EN
CALSCALE:GREGORIAN
METHOD:PUBLISH
X-WR-CALNAME:FPES
X-ORIGINAL-URL:https://fpes.se
X-WR-CALDESC:Händelser för FPES
REFRESH-INTERVAL;VALUE=DURATION:PT1H
X-Robots-Tag:noindex
X-PUBLISHED-TTL:PT1H
BEGIN:VTIMEZONE
TZID:Europe/Stockholm
BEGIN:DAYLIGHT
TZOFFSETFROM:+0100
TZOFFSETTO:+0200
TZNAME:CEST
DTSTART:20240331T010000
END:DAYLIGHT
BEGIN:STANDARD
TZOFFSETFROM:+0200
TZOFFSETTO:+0100
TZNAME:CET
DTSTART:20241027T010000
END:STANDARD
BEGIN:DAYLIGHT
TZOFFSETFROM:+0100
TZOFFSETTO:+0200
TZNAME:CEST
DTSTART:20250330T010000
END:DAYLIGHT
BEGIN:STANDARD
TZOFFSETFROM:+0200
TZOFFSETTO:+0100
TZNAME:CET
DTSTART:20251026T010000
END:STANDARD
BEGIN:DAYLIGHT
TZOFFSETFROM:+0100
TZOFFSETTO:+0200
TZNAME:CEST
DTSTART:20260329T010000
END:DAYLIGHT
BEGIN:STANDARD
TZOFFSETFROM:+0200
TZOFFSETTO:+0100
TZNAME:CET
DTSTART:20261025T010000
END:STANDARD
END:VTIMEZONE
BEGIN:VEVENT
DTSTART;TZID=Europe/Stockholm:20250801T160000
DTEND;TZID=Europe/Stockholm:20250801T170000
DTSTAMP:20260421T224357
CREATED:20250714T090533Z
LAST-MODIFIED:20250714T090533Z
UID:203902-1754064000-1754067600@fpes.se
SUMMARY:FPES i Pride Park
DESCRIPTION:Träffa FPES i Pride Park mellan kl 16-01
URL:https://fpes.se/event/fpes-i-pride-park-7/
LOCATION:Östermalms IP\, FISKARTORPSVÄGEN 2\, 114 33 Stockholm\, Sverige\, Södra Fiskartorpsvägen 2\, Stockholm\, 11433\, Sweden
ORGANIZER;CN="fpes.kalender@gmail.com":MAILTO:fpes_kalender@gmail_com
END:VEVENT
BEGIN:VEVENT
DTSTART;TZID=Europe/Stockholm:20250802T130000
DTEND;TZID=Europe/Stockholm:20250802T150000
DTSTAMP:20260421T224357
CREATED:20250714T090533Z
LAST-MODIFIED:20250719T074353Z
UID:203903-1754139600-1754146800@fpes.se
SUMMARY:Gå med FPES i Pride Parade
DESCRIPTION:Gå med FPES i Pride Parade\, vi har startnummer 32\, samling 12.30 \nhttps://www.stockholmpride.org/festivalen/pride-parade/
URL:https://fpes.se/event/ga-med-fpes-i-pride-parade-3/
LOCATION:Norr Mälarstrand\, Stockholm\, Sverige
ORGANIZER;CN="fpes.kalender@gmail.com":MAILTO:fpes_kalender@gmail_com
END:VEVENT
BEGIN:VEVENT
DTSTART;TZID=Europe/Stockholm:20250802T140000
DTEND;TZID=Europe/Stockholm:20250802T150000
DTSTAMP:20260421T224357
CREATED:20250714T090533Z
LAST-MODIFIED:20250714T090533Z
UID:203904-1754143200-1754146800@fpes.se
SUMMARY:FPES i Pride Park
DESCRIPTION:Träffa FPES i Pride Park mellan kl 14-01
URL:https://fpes.se/event/fpes-i-pride-park-8/
LOCATION:Östermalms IP\, FISKARTORPSVÄGEN 2\, 114 33 Stockholm\, Sverige\, Södra Fiskartorpsvägen 2\, Stockholm\, 11433\, Sweden
ORGANIZER;CN="fpes.kalender@gmail.com":MAILTO:fpes_kalender@gmail_com
END:VEVENT
BEGIN:VEVENT
DTSTART;TZID=Europe/Stockholm:20250803T130000
DTEND;TZID=Europe/Stockholm:20250803T150000
DTSTAMP:20260421T224357
CREATED:20250502T123423Z
LAST-MODIFIED:20250502T123423Z
UID:198978-1754226000-1754233200@fpes.se
SUMMARY:Brunch på Dynamo
DESCRIPTION:[ENGLISH BELOW]Varmt välkomna på TRANSBRUNCH.Denna gång bjuder vi på mysig brunch på Cafe Dynamo (Södermannagatan 38). Lokalen ligger på markplan och det finns en tillgänglighetsanpassad toalett.Vi bjuder på gratis vegansk mat\, kaffe/te och kakor. Det går att donera lite pengar\, cash eller swish\, men alla som behöver äter gratis.Transbrunchen är ett samarbete mellan Transammans Stockholm\, FPES Stockholm och Trans Fest Stockholm.Vårt mål är att skapa ett säkert utrymme för transpersoner i alla åldrar att träffas och ha det trevligt\, fika och kanske till och med få några nya vänner! \n————————————–Warmly welcome to TRANS BRUNCH.This time we are inviting you for the lovely brunch at ​​Cafe Dynamo (Södermannagatan 38). The venue is on the bottom floor and there is an accessible bathroom.There’ll be vegan food\, coffee/tea and cookies. You can donate some money\, cash or swish\, but everyone who needs it eats for free.The brunch is a collaboration between Transammans Stockholm\, FPES Förening för transpersoner Stockholm and Trans Fest Stockholm.Our aim is to create a safer space for trans people of all ages to meet and have a good time\, have some fika and maybe even make some new friends!
URL:https://fpes.se/event/brunch-pa-dynamo-35/
LOCATION:Demokratipiloterna\, Södermannagatan 38\, 116 40 Stockholm\, Sverige\, Södermannagatan 38\, Stockholm\, 11640\, Sverige
ORGANIZER;CN="fpes.kalender@gmail.com":MAILTO:fpes_kalender@gmail_com
END:VEVENT
BEGIN:VEVENT
DTSTART;TZID=Europe/Stockholm:20250807T190000
DTEND;TZID=Europe/Stockholm:20250807T200000
DTSTAMP:20260421T224357
CREATED:20250623T235029Z
LAST-MODIFIED:20250623T235029Z
UID:203849-1754593200-1754596800@fpes.se
SUMMARY:Närståendeträff - digital
DESCRIPTION:Välkomna till digitala närståendeträffar följande datum kl. 19-20 \n7 augusti \nVi som leder träffarna är inte professionella utan själva närstående på olika sätt. Träffarna syftar till att få möjlighet att prata med andra närstående och stötta varandra. \nFör att delta; maila narstaende@fpes.se så får du en länk till mötet.
URL:https://fpes.se/event/narstaendetraff-digital-10/
ORGANIZER;CN="fpes.kalender@gmail.com":MAILTO:fpes_kalender@gmail_com
END:VEVENT
BEGIN:VEVENT
DTSTART;TZID=Europe/Stockholm:20250809T130000
DTEND;TZID=Europe/Stockholm:20250809T140000
DTSTAMP:20260421T224357
CREATED:20250808T062713Z
LAST-MODIFIED:20250808T062713Z
UID:203989-1754744400-1754748000@fpes.se
SUMMARY:Gå med FPES i Roslagen Pride Parade
DESCRIPTION:Gå med FPES i Roslagen\, Norrtälje Pride Parade\, vi har startnummer 15\, starten går kl 13https://roslagenpride.se/
URL:https://fpes.se/event/ga-med-fpes-i-roslagen-pride-parade/
LOCATION:Societetsparken\, 761 30 Norrtälje\, Sverige
ORGANIZER;CN="fpes.kalender@gmail.com":MAILTO:fpes_kalender@gmail_com
END:VEVENT
BEGIN:VEVENT
DTSTART;TZID=Europe/Stockholm:20250820T190000
DTEND;TZID=Europe/Stockholm:20250820T210000
DTSTAMP:20260421T224357
CREATED:20250502T123423Z
LAST-MODIFIED:20250502T123423Z
UID:198979-1755716400-1755723600@fpes.se
SUMMARY:FPES Mellansverige Cafeträff
DESCRIPTION:Vi träffas som vanligt och fikar\, snackar och har det bra.Vi är i stora rummet längst in till höger. Välkomna!
URL:https://fpes.se/event/fpes-mellansverige-cafetraff-68/
LOCATION:Demokratipiloterna\, Södermannagatan 38\, 116 40 Stockholm\, Sverige\, Södermannagatan 38\, Stockholm\, 11640\, Sverige
ORGANIZER;CN="fpes.kalender@gmail.com":MAILTO:fpes_kalender@gmail_com
END:VEVENT
BEGIN:VEVENT
DTSTART;TZID=Europe/Stockholm:20250821T180000
DTEND;TZID=Europe/Stockholm:20250821T200000
DTSTAMP:20260421T224357
CREATED:20250805T235012Z
LAST-MODIFIED:20250806T180700Z
UID:203969-1755799200-1755806400@fpes.se
SUMMARY:Göteborg: Äventyrsgolf
DESCRIPTION:Vi brukar spela bangolf i augusti på äventyrsbanan i Slottsskogen vid Linnéplatsen i Göteborg. För att vädret förhoppningsvis ska hinna stabilisera sig så  blir det i år torsdagen den 21 kl 1800.\nFPES betalar avgiften.
URL:https://fpes.se/event/goteborg-aventyrsgolf-3/
LOCATION:Slottsskogens äventyrsgolf\, Slottsskogen\, 413 10 Göteborg\, Sverige\, Slottsskogen\, Göteborg\, 41310\, Sweden
ORGANIZER;CN="fpes.kalender@gmail.com":MAILTO:fpes_kalender@gmail_com
END:VEVENT
BEGIN:VEVENT
DTSTART;VALUE=DATE:20250825
DTEND;VALUE=DATE:20250827
DTSTAMP:20260421T224357
CREATED:20250821T182601Z
LAST-MODIFIED:20250821T182601Z
UID:204034-1756087200-1756173599@fpes.se
SUMMARY:Hej jag vill avboka denna tid
DESCRIPTION:
URL:https://fpes.se/event/hej-jag-vill-avboka-denna-tid/
ORGANIZER;CN="fpes.kalender@gmail.com":MAILTO:fpes_kalender@gmail_com
END:VEVENT
BEGIN:VEVENT
DTSTART;TZID=Europe/Stockholm:20250828T190000
DTEND;TZID=Europe/Stockholm:20250828T203000
DTSTAMP:20260421T224357
CREATED:20250819T182643Z
LAST-MODIFIED:20250820T142713Z
UID:204015-1756407600-1756413000@fpes.se
SUMMARY:FPES Rixcafé
DESCRIPTION:Har du funderingar om din könsidentitet? Vill du träffas för ett samtal? Vi bjuder nu in till web-baserade möten där vi kan träffas och diskutera\, stödja och hjälpa varandra. \nDet spelar ingen roll hur om du definierar dig som transfeminin\, transmaskulin\, icke-binär eller tycker att ingen av dessa eller andra beteckningar passar in. Även anhöriga till transpersoner är välkomna. \nDu behöver inte vara medlem i FPES och vi riktar oss särskilt till de som av olika anledningar inte kan närvara på de lokala möten som föreningen redan nu arrangerar. \nGruppen leds avtvå personer som har egen erfarenhet av att leva som transpersoner och som också medverkat i olika fysiska samtalsgrupper. \nVi kommer att inleda mötet med en kort runda där alla kan presentera sig och berätta vad de skulle vilja ta upp på mötet men det går också bra att vara med och bara lyssna. Om du vill så är du välkommen att kort berätta om dig själv och hur du ser på det kommande mötet. Du väljer själv vilket namn du vill använda vid mötet. \nAnmäl dig här:     http://simplesignup.se/private_event/229071/c0f4274ea6 \nVälkomna! \nTui och Helena
URL:https://fpes.se/event/fpes-rixcafe-25/
ORGANIZER;CN="fpes.kalender@gmail.com":MAILTO:fpes_kalender@gmail_com
END:VEVENT
END:VCALENDAR