BEGIN:VCALENDAR
VERSION:2.0
PRODID:-//FPES - ECPv6.15.20//NONSGML v1.0//EN
CALSCALE:GREGORIAN
METHOD:PUBLISH
X-ORIGINAL-URL:https://fpes.se
X-WR-CALDESC:Händelser för FPES
REFRESH-INTERVAL;VALUE=DURATION:PT1H
X-Robots-Tag:noindex
X-PUBLISHED-TTL:PT1H
BEGIN:VTIMEZONE
TZID:Europe/Stockholm
BEGIN:DAYLIGHT
TZOFFSETFROM:+0100
TZOFFSETTO:+0200
TZNAME:CEST
DTSTART:20240331T010000
END:DAYLIGHT
BEGIN:STANDARD
TZOFFSETFROM:+0200
TZOFFSETTO:+0100
TZNAME:CET
DTSTART:20241027T010000
END:STANDARD
BEGIN:DAYLIGHT
TZOFFSETFROM:+0100
TZOFFSETTO:+0200
TZNAME:CEST
DTSTART:20250330T010000
END:DAYLIGHT
BEGIN:STANDARD
TZOFFSETFROM:+0200
TZOFFSETTO:+0100
TZNAME:CET
DTSTART:20251026T010000
END:STANDARD
BEGIN:DAYLIGHT
TZOFFSETFROM:+0100
TZOFFSETTO:+0200
TZNAME:CEST
DTSTART:20260329T010000
END:DAYLIGHT
BEGIN:STANDARD
TZOFFSETFROM:+0200
TZOFFSETTO:+0100
TZNAME:CET
DTSTART:20261025T010000
END:STANDARD
END:VTIMEZONE
BEGIN:VEVENT
DTSTART;TZID=Europe/Stockholm:20251031T190000
DTEND;TZID=Europe/Stockholm:20251031T235900
DTSTAMP:20260422T045721
CREATED:20251026T183118Z
LAST-MODIFIED:20251026T183118Z
UID:204250-1761937200-1761955140@fpes.se
SUMMARY:FPES Syd: ClubTransparence
DESCRIPTION:Se mail som gått till dig som är med i avdelning syd
URL:https://fpes.se/event/fpes-syd-clubtransparence-12/
ORGANIZER;CN="fpes.kalender@gmail.com":MAILTO:fpes_kalender@gmail_com
END:VEVENT
BEGIN:VEVENT
DTSTART;TZID=Europe/Stockholm:20251102T130000
DTEND;TZID=Europe/Stockholm:20251102T150000
DTSTAMP:20260422T045721
CREATED:20250502T123424Z
LAST-MODIFIED:20250502T123424Z
UID:198987-1762088400-1762095600@fpes.se
SUMMARY:Brunch på Dynamo
DESCRIPTION:[ENGLISH BELOW]Varmt välkomna på TRANSBRUNCH.Denna gång bjuder vi på mysig brunch på Cafe Dynamo (Södermannagatan 38). Lokalen ligger på markplan och det finns en tillgänglighetsanpassad toalett.Vi bjuder på gratis vegansk mat\, kaffe/te och kakor. Det går att donera lite pengar\, cash eller swish\, men alla som behöver äter gratis.Transbrunchen är ett samarbete mellan Transammans Stockholm\, FPES Stockholm och Trans Fest Stockholm.Vårt mål är att skapa ett säkert utrymme för transpersoner i alla åldrar att träffas och ha det trevligt\, fika och kanske till och med få några nya vänner! \n————————————–Warmly welcome to TRANS BRUNCH.This time we are inviting you for the lovely brunch at ​​Cafe Dynamo (Södermannagatan 38). The venue is on the bottom floor and there is an accessible bathroom.There’ll be vegan food\, coffee/tea and cookies. You can donate some money\, cash or swish\, but everyone who needs it eats for free.The brunch is a collaboration between Transammans Stockholm\, FPES Förening för transpersoner Stockholm and Trans Fest Stockholm.Our aim is to create a safer space for trans people of all ages to meet and have a good time\, have some fika and maybe even make some new friends!
URL:https://fpes.se/event/brunch-pa-dynamo-38/
LOCATION:Demokratipiloterna\, Södermannagatan 38\, 116 40 Stockholm\, Sverige\, Södermannagatan 38\, Stockholm\, 11640\, Sverige
ORGANIZER;CN="fpes.kalender@gmail.com":MAILTO:fpes_kalender@gmail_com
END:VEVENT
BEGIN:VEVENT
DTSTART;TZID=Europe/Stockholm:20251106T170000
DTEND;TZID=Europe/Stockholm:20251106T184500
DTSTAMP:20260422T045721
CREATED:20251027T182603Z
LAST-MODIFIED:20251101T173623Z
UID:204253-1762448400-1762454700@fpes.se
SUMMARY:Öppen skärm på Zoom
DESCRIPTION:Öppen skärm torsdag 6/11 kl 17.00 \nHär väljer vi själva vad vi vill prata om över en kopp fika. \nVäl mött\, Tiina \nAnmäl dig här för att deltaga:  http://simplesignup.se/private_event/221807/d2988bea83
URL:https://fpes.se/event/oppen-skarm-pa-zoom-3/
ORGANIZER;CN="fpes.kalender@gmail.com":MAILTO:fpes_kalender@gmail_com
END:VEVENT
BEGIN:VEVENT
DTSTART;TZID=Europe/Stockholm:20251106T190000
DTEND;TZID=Europe/Stockholm:20251106T200000
DTSTAMP:20260422T045721
CREATED:20250819T182643Z
LAST-MODIFIED:20250820T143244Z
UID:204019-1762455600-1762459200@fpes.se
SUMMARY:Närståendeträff - digital
DESCRIPTION:Välkomna till digitala närståendeträffar följande datum kl. 19-20 \nTorsdag 6 november\nTisdag 2 december\nTorsdag 8 januari \nVi som leder träffarna är inte professionella utan själva närstående på olika sätt. Träffarna syftar till att få möjlighet att prata med andra närstående och stötta varandra. \nFör att delta; maila narstaende@fpes.se så får du en länk till mötet.
URL:https://fpes.se/event/narstaendetraff-digital-13/
ORGANIZER;CN="fpes.kalender@gmail.com":MAILTO:fpes_kalender@gmail_com
END:VEVENT
BEGIN:VEVENT
DTSTART;VALUE=DATE:20251108
DTEND;VALUE=DATE:20251110
DTSTAMP:20260422T045721
CREATED:20250828T182603Z
LAST-MODIFIED:20250828T184058Z
UID:204050-1762563600-1762649999@fpes.se
SUMMARY:Höstmöte
DESCRIPTION:Information skickas till medlemmar samt i forumet under hösten\nDet kommer hållas i Stockholm.
URL:https://fpes.se/event/hostmote-4/
ORGANIZER;CN="fpes.kalender@gmail.com":MAILTO:fpes_kalender@gmail_com
END:VEVENT
BEGIN:VEVENT
DTSTART;TZID=Europe/Stockholm:20251112T190000
DTEND;TZID=Europe/Stockholm:20251112T210000
DTSTAMP:20260422T045721
CREATED:20250502T123424Z
LAST-MODIFIED:20250502T123424Z
UID:198988-1762974000-1762981200@fpes.se
SUMMARY:FPES Mellansverige Cafeträff
DESCRIPTION:Vi träffas som vanligt och fikar\, snackar och har det bra.Vi är i stora rummet längst in till höger. Välkomna!
URL:https://fpes.se/event/fpes-mellansverige-cafetraff-74/
LOCATION:Demokratipiloterna\, Södermannagatan 38\, 116 40 Stockholm\, Sverige\, Södermannagatan 38\, Stockholm\, 11640\, Sverige
ORGANIZER;CN="fpes.kalender@gmail.com":MAILTO:fpes_kalender@gmail_com
END:VEVENT
BEGIN:VEVENT
DTSTART;TZID=Europe/Stockholm:20251115T130000
DTEND;TZID=Europe/Stockholm:20251115T150000
DTSTAMP:20260422T045721
CREATED:20251015T182641Z
LAST-MODIFIED:20251015T182641Z
UID:204210-1763211600-1763218800@fpes.se
SUMMARY:FPES-Sydost-Julbord
DESCRIPTION:FPES-Sydost. Inbjudan till julbord på Stufvenäs Gästgifveri lörd 15/11 kl 13. För mer info och anmälan kontakta tiina.deore@gmail.com
URL:https://fpes.se/event/fpes-sydost-julbord/
LOCATION:Stufvenäs Gästgifveri\, Stuvenäsvägen 1\, 385 97 Söderåkra\, Sverige
ORGANIZER;CN="fpes.kalender@gmail.com":MAILTO:fpes_kalender@gmail_com
END:VEVENT
BEGIN:VEVENT
DTSTART;TZID=Europe/Stockholm:20251120T190000
DTEND;TZID=Europe/Stockholm:20251120T203000
DTSTAMP:20260422T045721
CREATED:20250805T235012Z
LAST-MODIFIED:20250806T182932Z
UID:203972-1763665200-1763670600@fpes.se
SUMMARY:FPES Väst: Månadsträff
DESCRIPTION:Vi träffas i en lokal där vi är för oss själva i Regnbågshuset.\nhttps://goteborg.se/wps/portal/enhetssida/regnbagshuset/hitta-hit
URL:https://fpes.se/event/fpes-vast-manadstraff-8/
LOCATION:Barlastgatan 2 (Amerikahuset)\, 414 63 Göteborg\, Sverige\, Barlastgatan 2\, Göteborg\, 41463\, Sverige
ORGANIZER;CN="fpes.kalender@gmail.com":MAILTO:fpes_kalender@gmail_com
END:VEVENT
BEGIN:VEVENT
DTSTART;TZID=Europe/Stockholm:20251126T190000
DTEND;TZID=Europe/Stockholm:20251126T210000
DTSTAMP:20260422T045721
CREATED:20250502T123424Z
LAST-MODIFIED:20251125T180510Z
UID:198989-1764183600-1764190800@fpes.se
SUMMARY:FPES Mellansverige Temakväll
DESCRIPTION:Kvällens tema: Våld mott oss \nVi är antingen i kaféet eller i stora rummet längst in till höger. \nVälkomna!
URL:https://fpes.se/event/fpes-mellansverige-cafetraff-75/
LOCATION:Demokratipiloterna\, Södermannagatan 38\, 116 40 Stockholm\, Sverige\, Södermannagatan 38\, Stockholm\, 11640\, Sverige
ORGANIZER;CN="fpes.kalender@gmail.com":MAILTO:fpes_kalender@gmail_com
END:VEVENT
END:VCALENDAR