BEGIN:VCALENDAR
VERSION:2.0
PRODID:-//FPES - ECPv6.15.20//NONSGML v1.0//EN
CALSCALE:GREGORIAN
METHOD:PUBLISH
X-ORIGINAL-URL:https://fpes.se
X-WR-CALDESC:Händelser för FPES
REFRESH-INTERVAL;VALUE=DURATION:PT1H
X-Robots-Tag:noindex
X-PUBLISHED-TTL:PT1H
BEGIN:VTIMEZONE
TZID:Europe/Stockholm
BEGIN:DAYLIGHT
TZOFFSETFROM:+0100
TZOFFSETTO:+0200
TZNAME:CEST
DTSTART:20240331T010000
END:DAYLIGHT
BEGIN:STANDARD
TZOFFSETFROM:+0200
TZOFFSETTO:+0100
TZNAME:CET
DTSTART:20241027T010000
END:STANDARD
BEGIN:DAYLIGHT
TZOFFSETFROM:+0100
TZOFFSETTO:+0200
TZNAME:CEST
DTSTART:20250330T010000
END:DAYLIGHT
BEGIN:STANDARD
TZOFFSETFROM:+0200
TZOFFSETTO:+0100
TZNAME:CET
DTSTART:20251026T010000
END:STANDARD
BEGIN:DAYLIGHT
TZOFFSETFROM:+0100
TZOFFSETTO:+0200
TZNAME:CEST
DTSTART:20260329T010000
END:DAYLIGHT
BEGIN:STANDARD
TZOFFSETFROM:+0200
TZOFFSETTO:+0100
TZNAME:CET
DTSTART:20261025T010000
END:STANDARD
END:VTIMEZONE
BEGIN:VEVENT
DTSTART;TZID=Europe/Stockholm:20251202T190000
DTEND;TZID=Europe/Stockholm:20251202T200000
DTSTAMP:20260422T091441
CREATED:20250819T182643Z
LAST-MODIFIED:20250820T143326Z
UID:204020-1764702000-1764705600@fpes.se
SUMMARY:Närståendeträff - digital
DESCRIPTION:Välkomna till digitala närståendeträffar följande datum kl. 19-20 \nTisdag 2 december\nTorsdag 8 januari \nVi som leder träffarna är inte professionella utan själva närstående på olika sätt. Träffarna syftar till att få möjlighet att prata med andra närstående och stötta varandra. \nFör att delta; maila narstaende@fpes.se så får du en länk till mötet.
URL:https://fpes.se/event/narstaendetraff-digital-14/
ORGANIZER;CN="fpes.kalender@gmail.com":MAILTO:fpes_kalender@gmail_com
END:VEVENT
BEGIN:VEVENT
DTSTART;TZID=Europe/Stockholm:20251207T130000
DTEND;TZID=Europe/Stockholm:20251207T150000
DTSTAMP:20260422T091441
CREATED:20250502T123424Z
LAST-MODIFIED:20250502T123424Z
UID:198990-1765112400-1765119600@fpes.se
SUMMARY:Brunch på Dynamo
DESCRIPTION:[ENGLISH BELOW]Varmt välkomna på TRANSBRUNCH.Denna gång bjuder vi på mysig brunch på Cafe Dynamo (Södermannagatan 38). Lokalen ligger på markplan och det finns en tillgänglighetsanpassad toalett.Vi bjuder på gratis vegansk mat\, kaffe/te och kakor. Det går att donera lite pengar\, cash eller swish\, men alla som behöver äter gratis.Transbrunchen är ett samarbete mellan Transammans Stockholm\, FPES Stockholm och Trans Fest Stockholm.Vårt mål är att skapa ett säkert utrymme för transpersoner i alla åldrar att träffas och ha det trevligt\, fika och kanske till och med få några nya vänner! \n————————————–Warmly welcome to TRANS BRUNCH.This time we are inviting you for the lovely brunch at ​​Cafe Dynamo (Södermannagatan 38). The venue is on the bottom floor and there is an accessible bathroom.There’ll be vegan food\, coffee/tea and cookies. You can donate some money\, cash or swish\, but everyone who needs it eats for free.The brunch is a collaboration between Transammans Stockholm\, FPES Förening för transpersoner Stockholm and Trans Fest Stockholm.Our aim is to create a safer space for trans people of all ages to meet and have a good time\, have some fika and maybe even make some new friends!
URL:https://fpes.se/event/brunch-pa-dynamo-39/
LOCATION:Demokratipiloterna\, Södermannagatan 38\, 116 40 Stockholm\, Sverige\, Södermannagatan 38\, Stockholm\, 11640\, Sverige
ORGANIZER;CN="fpes.kalender@gmail.com":MAILTO:fpes_kalender@gmail_com
END:VEVENT
BEGIN:VEVENT
DTSTART;TZID=Europe/Stockholm:20251209T080000
DTEND;TZID=Europe/Stockholm:20251209T180000
DTSTAMP:20260422T091441
CREATED:20251209T074023Z
LAST-MODIFIED:20251209T074023Z
UID:204366-1765267200-1765303200@fpes.se
SUMMARY:MR Dagarna i Kistamässan
DESCRIPTION:Besök FPES på MR Dagarna i Kistamässan\,vi finns i monter E:54
URL:https://fpes.se/event/mr-dagarna-i-kistamassan/
ORGANIZER;CN="fpes.kalender@gmail.com":MAILTO:fpes_kalender@gmail_com
END:VEVENT
BEGIN:VEVENT
DTSTART;TZID=Europe/Stockholm:20251210T080000
DTEND;TZID=Europe/Stockholm:20251210T170000
DTSTAMP:20260422T091441
CREATED:20251209T074024Z
LAST-MODIFIED:20251209T074024Z
UID:204367-1765353600-1765386000@fpes.se
SUMMARY:MR Dagarna i Kistamässan
DESCRIPTION:Besök FPES på MR Dagarna i Kistamässan\,vi finns i monter E:54
URL:https://fpes.se/event/mr-dagarna-i-kistamassan-2/
ORGANIZER;CN="fpes.kalender@gmail.com":MAILTO:fpes_kalender@gmail_com
END:VEVENT
BEGIN:VEVENT
DTSTART;TZID=Europe/Stockholm:20251210T190000
DTEND;TZID=Europe/Stockholm:20251210T210000
DTSTAMP:20260422T091441
CREATED:20250502T123424Z
LAST-MODIFIED:20250502T123424Z
UID:198991-1765393200-1765400400@fpes.se
SUMMARY:FPES Mellansverige Cafeträff
DESCRIPTION:Vi träffas som vanligt och fikar\, snackar och har det bra.Vi är i stora rummet längst in till höger. Välkomna!
URL:https://fpes.se/event/fpes-mellansverige-cafetraff-76/
LOCATION:Demokratipiloterna\, Södermannagatan 38\, 116 40 Stockholm\, Sverige\, Södermannagatan 38\, Stockholm\, 11640\, Sverige
ORGANIZER;CN="fpes.kalender@gmail.com":MAILTO:fpes_kalender@gmail_com
END:VEVENT
BEGIN:VEVENT
DTSTART;TZID=Europe/Stockholm:20251216T190000
DTEND;TZID=Europe/Stockholm:20251216T203000
DTSTAMP:20260422T091441
CREATED:20250805T235012Z
LAST-MODIFIED:20250806T182948Z
UID:203973-1765911600-1765917000@fpes.se
SUMMARY:FPES Väst: Månadsträff
DESCRIPTION:Vi träffas i en lokal där vi är för oss själva i Regnbågshuset.\nhttps://goteborg.se/wps/portal/enhetssida/regnbagshuset/hitta-hit
URL:https://fpes.se/event/fpes-vast-manadstraff-9/
LOCATION:Barlastgatan 2 (Amerikahuset)\, 414 63 Göteborg\, Sverige\, Barlastgatan 2\, Göteborg\, 41463\, Sverige
ORGANIZER;CN="fpes.kalender@gmail.com":MAILTO:fpes_kalender@gmail_com
END:VEVENT
BEGIN:VEVENT
DTSTART;TZID=Europe/Stockholm:20251220T140000
DTEND;TZID=Europe/Stockholm:20251220T160000
DTSTAMP:20260422T091441
CREATED:20251210T062602Z
LAST-MODIFIED:20251212T133958Z
UID:204370-1766239200-1766246400@fpes.se
SUMMARY:Lunchträff i Stockholm
DESCRIPTION:Hej! Så är det dags för årets sista lunchträff\, lördag 20/12 kl 14.00 (13:e).\nVi ses på restaurang China\, Ringvägen 110 i Sth (T-Skanstull). De som vill/kan är välkomna dit /Inger \nOm du har frågor så kontakta oss gärna:\naktivitet@fpes.se
URL:https://fpes.se/event/lunchtraff-i-stockholm-3/
LOCATION:China!\, Ringvägen 110\, 116 61 Stockholm\, Sverige\, Ringvägen 110\, Stockholm\, 11661\, Sweden
ORGANIZER;CN="fpes.kalender@gmail.com":MAILTO:fpes_kalender@gmail_com
END:VEVENT
BEGIN:VEVENT
DTSTART;TZID=Europe/Stockholm:20251230T170000
DTEND;TZID=Europe/Stockholm:20251230T190000
DTSTAMP:20260422T091441
CREATED:20251221T062600Z
LAST-MODIFIED:20251221T202312Z
UID:204464-1767114000-1767121200@fpes.se
SUMMARY:Öppen skärm på Zoom
DESCRIPTION:Öppen skärm tisdag 30/12 kl 17.00 \nHär väljer vi själva vad vi vill prata om över en kopp fika. \nVäl mött\, Tiina \nAnmäl dig här för att deltaga: KAFÉ ÖPPEN SKÄRM http://simplesignup.se/private_event/221807/d2988bea83 \n 
URL:https://fpes.se/event/oppen-skarm-pa-zoom-4/
ORGANIZER;CN="fpes.kalender@gmail.com":MAILTO:fpes_kalender@gmail_com
END:VEVENT
END:VCALENDAR