BEGIN:VCALENDAR
VERSION:2.0
PRODID:-//FPES - ECPv6.15.20//NONSGML v1.0//EN
CALSCALE:GREGORIAN
METHOD:PUBLISH
X-WR-CALNAME:FPES
X-ORIGINAL-URL:https://fpes.se
X-WR-CALDESC:Händelser för FPES
REFRESH-INTERVAL;VALUE=DURATION:PT1H
X-Robots-Tag:noindex
X-PUBLISHED-TTL:PT1H
BEGIN:VTIMEZONE
TZID:Europe/Stockholm
BEGIN:DAYLIGHT
TZOFFSETFROM:+0100
TZOFFSETTO:+0200
TZNAME:CEST
DTSTART:20250330T010000
END:DAYLIGHT
BEGIN:STANDARD
TZOFFSETFROM:+0200
TZOFFSETTO:+0100
TZNAME:CET
DTSTART:20251026T010000
END:STANDARD
BEGIN:DAYLIGHT
TZOFFSETFROM:+0100
TZOFFSETTO:+0200
TZNAME:CEST
DTSTART:20260329T010000
END:DAYLIGHT
BEGIN:STANDARD
TZOFFSETFROM:+0200
TZOFFSETTO:+0100
TZNAME:CET
DTSTART:20261025T010000
END:STANDARD
BEGIN:DAYLIGHT
TZOFFSETFROM:+0100
TZOFFSETTO:+0200
TZNAME:CEST
DTSTART:20270328T010000
END:DAYLIGHT
BEGIN:STANDARD
TZOFFSETFROM:+0200
TZOFFSETTO:+0100
TZNAME:CET
DTSTART:20271031T010000
END:STANDARD
END:VTIMEZONE
BEGIN:VEVENT
DTSTART;TZID=Europe/Stockholm:20260104T130000
DTEND;TZID=Europe/Stockholm:20260104T150000
DTSTAMP:20260422T111841
CREATED:20260101T151249Z
LAST-MODIFIED:20260101T152018Z
UID:204509-1767531600-1767538800@fpes.se
SUMMARY:Brunch på Dynamo
DESCRIPTION:[ENGLISH BELOW]\nVarmt välkomna på TRANSBRUNCH.\nDenna gång bjuder vi på mysig brunch på Cafe Dynamo (Södermannagatan 38). Lokalen ligger på markplan och det finns en tillgänglighetsanpassad toalett.\nVi bjuder på gratis vegansk mat\, kaffe/te och kakor. Det går att donera lite pengar\, cash eller swish\, men alla som behöver äter gratis.\nTransbrunchen är ett samarbete mellan Transammans Stockholm\, FPES Stockholm och Trans Fest Stockholm.\nVårt mål är att skapa ett säkert utrymme för transpersoner i alla åldrar att träffas och ha det trevligt\, fika och kanske till och med få några nya vänner! \n————————————–\nWarmly welcome to TRANS BRUNCH.\nThis time we are inviting you for the lovely brunch at ​​Cafe Dynamo (Södermannagatan 38). The venue is on the bottom floor and there is an accessible bathroom.\nThere’ll be vegan food\, coffee/tea and cookies. You can donate some money\, cash or swish\, but everyone who needs it eats for free.\nThe brunch is a collaboration between Transammans Stockholm\, FPES Förening för transpersoner Stockholm and Trans Fest Stockholm.\nOur aim is to create a safer space for trans people of all ages to meet and have a good time\, have some fika and maybe even make some new friends!
URL:https://fpes.se/event/brunch-pa-dynamo-34/
LOCATION:Demokratipiloterna\, Södermannagatan 38\, 116 40 Stockholm\, Sverige\, Södermannagatan 38\, Stockholm\, 11640\, Sverige
ORGANIZER;CN="fpes.kalender@gmail.com":MAILTO:fpes_kalender@gmail_com
END:VEVENT
BEGIN:VEVENT
DTSTART;TZID=Europe/Stockholm:20260107T190000
DTEND;TZID=Europe/Stockholm:20260107T210000
DTSTAMP:20260422T111841
CREATED:20251230T062601Z
LAST-MODIFIED:20251230T161642Z
UID:204491-1767812400-1767819600@fpes.se
SUMMARY:FPES Mellansverige Cafeträff
DESCRIPTION:Vi träffas som vanligt och fikar\, snackar och har det bra.\nVi är i stora rummet längst in till höger. Välkomna!
URL:https://fpes.se/event/fpes-mellansverige-cafetraff-77/
LOCATION:Demokratipiloterna\, Södermannagatan 38\, 116 40 Stockholm\, Sverige\, Södermannagatan 38\, Stockholm\, 11640\, Sverige
ORGANIZER;CN="fpes.kalender@gmail.com":MAILTO:fpes_kalender@gmail_com
END:VEVENT
BEGIN:VEVENT
DTSTART;TZID=Europe/Stockholm:20260108T190000
DTEND;TZID=Europe/Stockholm:20260108T200000
DTSTAMP:20260422T111841
CREATED:20250819T182644Z
LAST-MODIFIED:20250820T143409Z
UID:204021-1767898800-1767902400@fpes.se
SUMMARY:Närståendeträff - digital
DESCRIPTION:Välkomna till digitala närståendeträffar följande datum kl. 19-20 \nTorsdag 8 januari \nVi som leder träffarna är inte professionella utan själva närstående på olika sätt. Träffarna syftar till att få möjlighet att prata med andra närstående och stötta varandra. \nFör att delta; maila narstaende@fpes.se så får du en länk till mötet.
URL:https://fpes.se/event/narstaendetraff-digital-15/
ORGANIZER;CN="fpes.kalender@gmail.com":MAILTO:fpes_kalender@gmail_com
END:VEVENT
BEGIN:VEVENT
DTSTART;TZID=Europe/Stockholm:20260113T183000
DTEND;TZID=Europe/Stockholm:20260113T203000
DTSTAMP:20260422T111841
CREATED:20251226T182559Z
LAST-MODIFIED:20260101T152316Z
UID:204482-1768329000-1768336200@fpes.se
SUMMARY:Månadsmöte FPES-Sydost
DESCRIPTION:FPES-sydost månadsmöte i Växjö på Bishop Arm´s. \nGärna ett mejl till mig om du/ni tänker komma då vi ska boka bord \n/ tiina.deore@gmail.com
URL:https://fpes.se/event/manadsmote-fpes-sydost-14/
LOCATION:The Bishops Arms\, Kungsgatan (Växjö)\, Kungsgatan 6\, 351 04 Växjö\, Sverige\, Kungsgatan 6\, Växjö\, 35104\, Sweden
ORGANIZER;CN="fpes.kalender@gmail.com":MAILTO:fpes_kalender@gmail_com
END:VEVENT
BEGIN:VEVENT
DTSTART;TZID=Europe/Stockholm:20260115T190000
DTEND;TZID=Europe/Stockholm:20260115T203000
DTSTAMP:20260422T111841
CREATED:20250805T235012Z
LAST-MODIFIED:20250806T183000Z
UID:203974-1768503600-1768509000@fpes.se
SUMMARY:FPES Väst: Månadsträff
DESCRIPTION:Vi träffas i en lokal där vi är för oss själva i Regnbågshuset.\nhttps://goteborg.se/wps/portal/enhetssida/regnbagshuset/hitta-hit
URL:https://fpes.se/event/fpes-vast-manadstraff-10/
LOCATION:Barlastgatan 2 (Amerikahuset)\, 414 63 Göteborg\, Sverige\, Barlastgatan 2\, Göteborg\, 41463\, Sverige
ORGANIZER;CN="fpes.kalender@gmail.com":MAILTO:fpes_kalender@gmail_com
END:VEVENT
BEGIN:VEVENT
DTSTART;TZID=Europe/Stockholm:20260118T170000
DTEND;TZID=Europe/Stockholm:20260118T210000
DTSTAMP:20260422T111841
CREATED:20260107T182600Z
LAST-MODIFIED:20260107T182600Z
UID:204532-1768755600-1768770000@fpes.se
SUMMARY:FPES-SYDOST
DESCRIPTION:18/1 kl 17-21 är FPES-SYDOST inbjudna till RFSL;s Vuxenhäng i Kalmar. Vill du komma så kontakta mig\, tiina.deore@gmail.com
URL:https://fpes.se/event/fpes-sydost/
ORGANIZER;CN="fpes.kalender@gmail.com":MAILTO:fpes_kalender@gmail_com
END:VEVENT
BEGIN:VEVENT
DTSTART;TZID=Europe/Stockholm:20260121T200000
DTEND;TZID=Europe/Stockholm:20260121T210000
DTSTAMP:20260422T111841
CREATED:20251230T161532Z
LAST-MODIFIED:20251230T161817Z
UID:204500-1769025600-1769029200@fpes.se
SUMMARY:FPES Mellansverige Cafeträff
DESCRIPTION:Vi träffas som vanligt och fikar\, snackar och har det bra.\nVi är i stora rummet längst in till höger. Välkomna!
URL:https://fpes.se/event/fpes-mellansverige-cafetraff-83/
LOCATION:Demokratipiloterna\, Södermannagatan 38\, 116 40 Stockholm\, Sverige\, Södermannagatan 38\, Stockholm\, 11640\, Sverige
ORGANIZER;CN="fpes.kalender@gmail.com":MAILTO:fpes_kalender@gmail_com
END:VEVENT
BEGIN:VEVENT
DTSTART;TZID=Europe/Stockholm:20260121T190000
DTEND;TZID=Europe/Stockholm:20260121T200000
DTSTAMP:20260422T111841
CREATED:20251230T161532Z
LAST-MODIFIED:20251230T161532Z
UID:204499-1769022000-1769025600@fpes.se
SUMMARY:Årsmöte FPES mellansverige
DESCRIPTION:
URL:https://fpes.se/event/arsmote-fpes-mellansverige-2/
LOCATION:Demokratipiloterna\, Södermannagatan 38\, 116 40 Stockholm\, Sverige\, Södermannagatan 38\, Stockholm\, 11640\, Sverige
ORGANIZER;CN="fpes.kalender@gmail.com":MAILTO:fpes_kalender@gmail_com
END:VEVENT
BEGIN:VEVENT
DTSTART;TZID=Europe/Stockholm:20260125T140000
DTEND;TZID=Europe/Stockholm:20260125T160000
DTSTAMP:20260422T111841
CREATED:20260107T182600Z
LAST-MODIFIED:20260112T194239Z
UID:204533-1769349600-1769356800@fpes.se
SUMMARY:Lunchträff i Stockholm
DESCRIPTION:Hej! Dags för årets 1:a lunchträff\, sön 25/1 kl 14.00 (14:etotalt). \nVi ses på Ny Jerusalem Kebab\, Götgatan 59 i Sth(T-Medborgarplatsen). De som vill/kan är välkomna dit /Inger \n  \n 
URL:https://fpes.se/event/lunchtraff-i-stockholm-4/
LOCATION:Ny Jerusalem Kebab\, Götgatan 59\, 116 21 Stockholm\, Sverige\, Götgatan 59\, Stockholm\, 11621\, Sweden
ORGANIZER;CN="fpes.kalender@gmail.com":MAILTO:fpes_kalender@gmail_com
END:VEVENT
BEGIN:VEVENT
DTSTART;TZID=Europe/Stockholm:20260129T170000
DTEND;TZID=Europe/Stockholm:20260129T190000
DTSTAMP:20260422T111841
CREATED:20260107T182600Z
LAST-MODIFIED:20260126T203219Z
UID:204535-1769706000-1769713200@fpes.se
SUMMARY:Öppen skärm på Zoom
DESCRIPTION:Öppen skärm 29/1 kl 17.00 \nHär väljer vi själva vad vi vill prata om över en kopp fika. \nVäl mött\, Tiina \nAnmäl dig här för att deltaga: KAFÉ ÖPPEN SKÄRM
URL:https://fpes.se/event/oppen-skarm-pa-zoom-5/
ORGANIZER;CN="fpes.kalender@gmail.com":MAILTO:fpes_kalender@gmail_com
END:VEVENT
BEGIN:VEVENT
DTSTART;TZID=Europe/Stockholm:20260130T190000
DTEND;TZID=Europe/Stockholm:20260130T235900
DTSTAMP:20260422T111841
CREATED:20260125T013801Z
LAST-MODIFIED:20260125T013801Z
UID:204586-1769799600-1769817540@fpes.se
SUMMARY:FPES Syd: ClubTransparence
DESCRIPTION:Se mail som gått till dig som är med i avdelning syd
URL:https://fpes.se/event/fpes-syd-clubtransparence-13/
ORGANIZER;CN="fpes.kalender@gmail.com":MAILTO:fpes_kalender@gmail_com
END:VEVENT
END:VCALENDAR